BEGIN:VCALENDAR
VERSION:2.0
PRODID:-//Cassero - ECPv6.15.20//NONSGML v1.0//EN
CALSCALE:GREGORIAN
METHOD:PUBLISH
X-WR-CALNAME:Cassero
X-ORIGINAL-URL:https://cassero.it
X-WR-CALDESC:Eventi per Cassero
REFRESH-INTERVAL;VALUE=DURATION:PT1H
X-Robots-Tag:noindex
X-PUBLISHED-TTL:PT1H
BEGIN:VTIMEZONE
TZID:Europe/Helsinki
BEGIN:DAYLIGHT
TZOFFSETFROM:+0200
TZOFFSETTO:+0300
TZNAME:EEST
DTSTART:20230326T010000
END:DAYLIGHT
BEGIN:STANDARD
TZOFFSETFROM:+0300
TZOFFSETTO:+0200
TZNAME:EET
DTSTART:20231029T010000
END:STANDARD
BEGIN:DAYLIGHT
TZOFFSETFROM:+0200
TZOFFSETTO:+0300
TZNAME:EEST
DTSTART:20240331T010000
END:DAYLIGHT
BEGIN:STANDARD
TZOFFSETFROM:+0300
TZOFFSETTO:+0200
TZNAME:EET
DTSTART:20241027T010000
END:STANDARD
BEGIN:DAYLIGHT
TZOFFSETFROM:+0200
TZOFFSETTO:+0300
TZNAME:EEST
DTSTART:20250330T010000
END:DAYLIGHT
BEGIN:STANDARD
TZOFFSETFROM:+0300
TZOFFSETTO:+0200
TZNAME:EET
DTSTART:20251026T010000
END:STANDARD
END:VTIMEZONE
BEGIN:VEVENT
DTSTART;TZID=Europe/Helsinki:20240310T160000
DTEND;TZID=Europe/Helsinki:20240310T200000
DTSTAMP:20260421T165518
CREATED:20240314T085449Z
LAST-MODIFIED:20240314T085449Z
UID:19214-1710086400-1710100800@cassero.it
SUMMARY:La Gilda 10x09 :::: Dieci anni di linguaggio in evoluzione
DESCRIPTION:Evento domenicale di gioco\, aperto a tutte le persone che siano alla ricerca di uno spazio sicuro. Si potranno provare giochi da tavolo\, di ruolo e videogiochi.
URL:https://cassero.it/evento/la-gilda-10x09-dieci-anni-di-linguaggio-in-evoluzione/
LOCATION:BO
CATEGORIES:Gruppi di socializzazione
END:VEVENT
END:VCALENDAR