BEGIN:VCALENDAR
VERSION:2.0
PRODID:-//Cassero - ECPv6.15.20//NONSGML v1.0//EN
CALSCALE:GREGORIAN
METHOD:PUBLISH
X-ORIGINAL-URL:https://cassero.it
X-WR-CALDESC:Eventi per Cassero
REFRESH-INTERVAL;VALUE=DURATION:PT1H
X-Robots-Tag:noindex
X-PUBLISHED-TTL:PT1H
BEGIN:VTIMEZONE
TZID:Europe/Helsinki
BEGIN:DAYLIGHT
TZOFFSETFROM:+0200
TZOFFSETTO:+0300
TZNAME:EEST
DTSTART:20230326T010000
END:DAYLIGHT
BEGIN:STANDARD
TZOFFSETFROM:+0300
TZOFFSETTO:+0200
TZNAME:EET
DTSTART:20231029T010000
END:STANDARD
BEGIN:DAYLIGHT
TZOFFSETFROM:+0200
TZOFFSETTO:+0300
TZNAME:EEST
DTSTART:20240331T010000
END:DAYLIGHT
BEGIN:STANDARD
TZOFFSETFROM:+0300
TZOFFSETTO:+0200
TZNAME:EET
DTSTART:20241027T010000
END:STANDARD
BEGIN:DAYLIGHT
TZOFFSETFROM:+0200
TZOFFSETTO:+0300
TZNAME:EEST
DTSTART:20250330T010000
END:DAYLIGHT
BEGIN:STANDARD
TZOFFSETFROM:+0300
TZOFFSETTO:+0200
TZNAME:EET
DTSTART:20251026T010000
END:STANDARD
END:VTIMEZONE
BEGIN:VEVENT
DTSTART;TZID=Europe/Helsinki:20240306T080000
DTEND;TZID=Europe/Helsinki:20240306T170000
DTSTAMP:20260422T000802
CREATED:20240311T160447Z
LAST-MODIFIED:20240311T160447Z
UID:19194-1709712000-1709744400@cassero.it
SUMMARY:Sportello Giuridico
DESCRIPTION:Il settore Giuridico del Cassero\, attraverso uno staff di avvocati\, offre un servizio di sportello ad accesso gratuito ogni mercoledì dalle 17 alle 19 su appuntamento. \nChiunque desideri un appuntamento il settore Giuridico può: \n\nScrivere a giuridico@cassero.it possibilmente indicando i propri dati anagrafici ed un recapito telefonico e anticipando le questioni da esaminare.\nChiamare allo 051 09 57 200 negli orari di apertura della segreteria dell’associazione.
URL:https://cassero.it/evento/sportello-giuridico-67/
LOCATION:BO
CATEGORIES:Supporto e consulenza
ATTACH;FMTTYPE=image/jpeg:https://cassero.it/wp-content/uploads/2023/10/giuri-1.jpg
END:VEVENT
BEGIN:VEVENT
DTSTART;TZID=Europe/Helsinki:20240313T180000
DTEND;TZID=Europe/Helsinki:20240313T180000
DTSTAMP:20260422T000802
CREATED:20240311T160938Z
LAST-MODIFIED:20240311T160938Z
UID:19200-1710352800-1710352800@cassero.it
SUMMARY:Aspettando Gender Bender: L’invincibile estate di Liliana
DESCRIPTION:Aspettando Gender Bender: L’invincibile estate di Liliana\nSiamo felici di accogliere Cristina Rivera Garza\, che presenta il suo libro al pubblico di Gender Bender. A distanza di trent’anni dall’uccisione della sorella per mano del fidanzato\, la scrittrice messicana reclama giustizia in un memoir\, edito da Sur\, che oscilla tra fiction e racconto autobiografico.\n11 marzo 2024 h 18:00\n Auditorium Biagi\, Salaborsa.\nmodera l’incontro Samanta Picciaiola\nInterpretariato a cura di Giulia Zavagna (edizioni Sur)\nBookshop a cura di Libreria Trame\nIngresso gratuito fino a esaurimento posti\nUn’evento organizzato da Gender Bender\, Sur e Salaborsa in collaborazione con Libreria Trame\, Casa delle donne per non subire violenza Bologna\, Biblioteca Amilcar Cabral\, Patto per la lettura di Bologna\n\nIl libro\nFINALISTA AL NATIONAL BOOK AWARD 2023 (NONFICTION)\nDa una storia vera\, un memoir che ha la delicatezza della grande letteratura e la forza di un gesto politico\, in cerca di giustizia per una sorella perduta e per tutte le donne vittime di violenza\nIl 16 luglio del 1990\, a Città del Messico\, Liliana Rivera Garza fu vittima di un femminicidio. Aveva vent’anni\, studiava architettura. Da tempo cercava di porre fine a una relazione con un ragazzo che non le dava tregua. Qualche settimana prima della tragedia\, prese una decisione definitiva: nel cuore dell’inverno aveva imparato che in lei c’era\, come diceva Albert Camus\, un’invincibile estate. L’avrebbe lasciato per sempre. Avrebbe cominciato una nuova vita. Avrebbe fatto un master\, si sarebbe trasferita a Londra. La decisione del ragazzo fu che lei non avesse una vita senza di lui.\nTrent’anni dopo\, a partire dalle carte di Liliana\, dalle indagini dell’epoca e dalle testimonianze di amici e familiari\, Cristina Rivera Garza ricostruisce la storia della sorella\, una storia personale ma terribilmente universale: quella di una giovane donna\, brillante e determinata\, che muove i primi passi in un mondo permeato dalla violenza di genere. Dal primo amore con un ragazzo affascinante ma geloso e possessivo\, fino all’ultima meravigliosa estate\, fatta di viaggi\, emozioni e libertà mai sperimentate prima. In un memoir che sfida ogni convenzione stilistica\, con una prosa luminosa e poetica e un finissimo equilibrio tra fiction e non fiction\, Rivera Garza affronta il lutto che l’ha cambiata per sempre\, e che ancora oggi determina la persona che è e le cause per le quali si impegna a lottare ogni giorno.
URL:https://cassero.it/evento/aspettando-gender-bender-linvincibile-estate-di-liliana/
LOCATION:Bibliotica Sala Borsa
CATEGORIES:Cultura
ATTACH;FMTTYPE=image/jpeg:https://cassero.it/wp-content/uploads/2024/03/Screenshot_20240229_132441-1024x1019-1.jpg
END:VEVENT
BEGIN:VEVENT
DTSTART;TZID=Europe/Helsinki:20240306T200000
DTEND;TZID=Europe/Helsinki:20240306T220000
DTSTAMP:20260422T000802
CREATED:20240311T161337Z
LAST-MODIFIED:20240311T161337Z
UID:19205-1709755200-1709762400@cassero.it
SUMMARY:Cassero Salute: riunione volontarie
DESCRIPTION:Incontro delle volontarie di Cassero Salute. \nPer partecipare scrivi a salute@cassero.it
URL:https://cassero.it/evento/cassero-salute-riunione-volontarie/
LOCATION:BO
CATEGORIES:Salute
ATTACH;FMTTYPE=image/jpeg:https://cassero.it/wp-content/uploads/2023/10/Banner_dettaglio.jpg
END:VEVENT
BEGIN:VEVENT
DTSTART;TZID=Europe/Helsinki:20240124T233000
DTEND;TZID=Europe/Helsinki:20240124T233000
DTSTAMP:20260422T000802
CREATED:20240124T162736Z
LAST-MODIFIED:20240124T162736Z
UID:19046-1706139000-1706139000@cassero.it
SUMMARY:ESAURITƏ
DESCRIPTION:Il party post-apocalittico con le selezioni doom-pop di El Pollo Loco & Sor Braciola.\n\nNazionalpopolare\, postapocalittico e gratuite\, è il mercoledì del Cassero. Sguazza nel sudore e nel disagio\, evoca Yog-Sothoth e scatenati al ritmo delle selezioni doom-pop di El Pollo Loco & Sor Braciola (Internazionale Trash Ribelle). Fatti indottrinare dall’indecente propaganda psyop-pop di Q (Omonoia\, CarniScelte) e dalle illustrazioni di Paolo Tungsteno (Dis_ass_stro).\nIngresso gratuito con tessera Arcigay/Lesbiche Bologna\n\nLa sottoscrizione della tessera e lo sbigliettamento contribuiscono a supportare economicamente le attività pensate dal Cassero LGBTQIA+ Center per la comunità.
URL:https://cassero.it/evento/esaurite-4/
LOCATION:BO
CATEGORIES:Club
ATTACH;FMTTYPE=image/jpeg:https://cassero.it/wp-content/uploads/2023/10/IL-MERCOLED.jpg
END:VEVENT
END:VCALENDAR