BEGIN:VCALENDAR
VERSION:2.0
PRODID:-//Cassero - ECPv6.15.20//NONSGML v1.0//EN
CALSCALE:GREGORIAN
METHOD:PUBLISH
X-WR-CALNAME:Cassero
X-ORIGINAL-URL:https://cassero.it
X-WR-CALDESC:Eventi per Cassero
REFRESH-INTERVAL;VALUE=DURATION:PT1H
X-Robots-Tag:noindex
X-PUBLISHED-TTL:PT1H
BEGIN:VTIMEZONE
TZID:Europe/Helsinki
BEGIN:DAYLIGHT
TZOFFSETFROM:+0200
TZOFFSETTO:+0300
TZNAME:EEST
DTSTART:20230326T010000
END:DAYLIGHT
BEGIN:STANDARD
TZOFFSETFROM:+0300
TZOFFSETTO:+0200
TZNAME:EET
DTSTART:20231029T010000
END:STANDARD
BEGIN:DAYLIGHT
TZOFFSETFROM:+0200
TZOFFSETTO:+0300
TZNAME:EEST
DTSTART:20240331T010000
END:DAYLIGHT
BEGIN:STANDARD
TZOFFSETFROM:+0300
TZOFFSETTO:+0200
TZNAME:EET
DTSTART:20241027T010000
END:STANDARD
BEGIN:DAYLIGHT
TZOFFSETFROM:+0200
TZOFFSETTO:+0300
TZNAME:EEST
DTSTART:20250330T010000
END:DAYLIGHT
BEGIN:STANDARD
TZOFFSETFROM:+0300
TZOFFSETTO:+0200
TZNAME:EET
DTSTART:20251026T010000
END:STANDARD
END:VTIMEZONE
BEGIN:VEVENT
DTSTART;TZID=Europe/Helsinki:20240317T180000
DTEND;TZID=Europe/Helsinki:20240317T180000
DTSTAMP:20260422T093005
CREATED:20240314T085833Z
LAST-MODIFIED:20240314T085833Z
UID:19224-1710698400-1710698400@cassero.it
SUMMARY:LIBERAMENTE: SILLABARIO AMOROSO
DESCRIPTION:SILLABARIO AMOROSO\nLa coppia e le altre forme\nUn modo di amare e stare insieme in un mondo che cambia attorno a noi. Riflessioni sulle coppie e le diverse relazioni.\nDal 2002 LIBERAMENTE è uno spazio sicuro d’incontro e confronto attraverso discussioni aperte\, attività di gioco e analisi sul mondo e sulla cultura LGBTQIA+. Proponiamo un argomento diverso a ogni appuntamento\, così potrai scegliere tu l’occasione migliore\n▶︎ INGRESSO LIBERO\, senza tessera\n▶︎ ore 20:00 ▶︎ CENIAMO INSIEME al Pirata del Porto\n▶︎ INFO ACCESSIBILITA’: https://cassero.it/accessibilita/\nPer l’uso dell’ascensore è possibile prenotare già da ora la presenza di un’accompagnatrice scrivendo a liberamente@cassero.it
URL:https://cassero.it/evento/liberamente-sillabario-amoroso/
LOCATION:BO
CATEGORIES:Liberamente
ATTACH;FMTTYPE=image/jpeg:https://cassero.it/wp-content/uploads/2024/03/431439260_803052841848952_7358813758316533328_n.jpg
END:VEVENT
END:VCALENDAR