BEGIN:VCALENDAR
VERSION:2.0
PRODID:-//Cassero - ECPv6.15.20//NONSGML v1.0//EN
CALSCALE:GREGORIAN
METHOD:PUBLISH
X-ORIGINAL-URL:https://cassero.it
X-WR-CALDESC:Eventi per Cassero
REFRESH-INTERVAL;VALUE=DURATION:PT1H
X-Robots-Tag:noindex
X-PUBLISHED-TTL:PT1H
BEGIN:VTIMEZONE
TZID:Europe/Helsinki
BEGIN:DAYLIGHT
TZOFFSETFROM:+0200
TZOFFSETTO:+0300
TZNAME:EEST
DTSTART:20230326T010000
END:DAYLIGHT
BEGIN:STANDARD
TZOFFSETFROM:+0300
TZOFFSETTO:+0200
TZNAME:EET
DTSTART:20231029T010000
END:STANDARD
BEGIN:DAYLIGHT
TZOFFSETFROM:+0200
TZOFFSETTO:+0300
TZNAME:EEST
DTSTART:20240331T010000
END:DAYLIGHT
BEGIN:STANDARD
TZOFFSETFROM:+0300
TZOFFSETTO:+0200
TZNAME:EET
DTSTART:20241027T010000
END:STANDARD
BEGIN:DAYLIGHT
TZOFFSETFROM:+0200
TZOFFSETTO:+0300
TZNAME:EEST
DTSTART:20250330T010000
END:DAYLIGHT
BEGIN:STANDARD
TZOFFSETFROM:+0300
TZOFFSETTO:+0200
TZNAME:EET
DTSTART:20251026T010000
END:STANDARD
END:VTIMEZONE
BEGIN:VEVENT
DTSTART;TZID=Europe/Helsinki:20240322T193000
DTEND;TZID=Europe/Helsinki:20240322T193000
DTSTAMP:20260422T171133
CREATED:20240321T115545Z
LAST-MODIFIED:20240322T113846Z
UID:19239-1711135800-1711135800@cassero.it
SUMMARY:The CRIME CITY Ballroom Lounge
DESCRIPTION: Alpha Juicy Couture\nin collaborazione con\n Cassero LGBTI+ Center\npresenta:\n The CRIME CITY Ballroom Lounge \n Un evento per allenarsi\, sperimentare e divertirsi senza le pressioni di una vera e propria ball.\nTutte le categorie sono Open to All (aperte a tutte le soggettività). Tuffati nell’estetica della metropoli criminale\, come se fossi in “Sin City”\, in “GTA” o ne “Il Padrino”: scegli tu se vuoi rappresentare un teppista di strada o un capo della criminalità organizzata. Completi eleganti\, trench\, giacche di pelle; tirapugni\, valigette piene di soldi\, gemme sui denti… decidi come preferisci interpretare questo tema ma ricorda: keep it cvnt and creative!\n An event to train\, experiment and have fun without the pressure of a ball.\nEvery category is Open to All. Dive into the crime suburbs\, like you are in “Sin City”\, “GTA” or “The Godfather”: choose if you want to be the thug or a boss of the organized crime. Dark suits\, trenches\, leather jacket ; brass knuckles\, tooth gems or a briefcase full of money… you choose how to play with this theme but remember : keep it cvnt and creative!\n THIS IS NOT A BALL \n Venerdì 22 marzo 2024\n CASSERO LGBTI+ CENTER\nVia Don Minzoni 18\, Bologna (Italia)\n Orari/Timings:\nApertura porte/Doors open at: 18:30\nInizio evento/Event starts at: 19:30\nFine evento/Event ends at: 23:00\n Tickets:\nTicket ballroom community e partecipantə: 5€ alla porta\n COMPILARE IL FORM APPOSITO (scadenza: 21 marzo) -> https://docs.google.com/…/1FAIpQLSdcXxQy…/viewform \nTicket spectators: 10€ alla porta\n NO TESSERA \nIl ticket d’ingresso per l’evento comprende anche il party successivo a cura del Cassero LGBTI+ Center/The ticket includes the party after the ball.\n Judges:\n ICON Omari Juicy Couture\n Mother Sarah Kruger\n Pony 007\n DJ: Lil’ Jean Munera \n MC: Godmother Yunikon Juicy Couture \n Graphic Design: Barbie G. 007\n―――――――――――――――――――――――――――――――\nCategorie:\n– Tag Team Runway:\n Immaginate di essere modellə a una sfilata e servite il vostro outfit sulla runway attraverso camminata e attitude. Quando il commentator chiamerà il tag switchate con il vostro partner. La categoria è aperta a tutti i livelli (Beginner e OTA).\n Pretend you’re a model on the runway and serve your outfit through your walk and attitude. But when the commentator calls the “tag”\, switch with your partner. The category is open to all levels of runway (Beginner and OTA).\n– Best Look of the Night:\n Servi il tuo look migliore\, mostrando quanto sei a tema con la serata.\n Serve your best look and show us how much you are on theme with the night.\n– Face:\n Servi la bellezza e la simmetria del tuo viso\, enfatizzando i suoi punti di forza.\n Serve the beauty and symmetry of your face\, highlighting its strenghts.\n– Realness as a couple\n Let’s go back to the core of ballroom: fateci vedere come riuscite a presentare una versione eteronormata e stereotipica di voi stessə ai giudici\, fateci vedere insomma il vostro passing\, elemento che permette a noi persone queer di sopravvivere nella società eteropatriarcale in cui viviamo. Ma stavolta fatelo con il vostro partner: vogliamo vedere una female figure e un male figure passare per una perfetta coppia eterosessuale.\n Let’s go back to the core of ballroom: show us you can present a stereotipical version of yourself to the judges and show us your passing\, the thing that can make you survive in this heteronormative society. But this time do it with a partner: we wanna see a FF and a MF pass for the perfect straight couple.\n– Sex Siren\n Servi il tuo sex appeal ai giudici e convincili che sei tu la creature più sensuale della città del crimine.\n Serve your sex appeal to the judges and convince them that you’re that most sensual creature of the crime city.\n– Hands vs Arms on Radio X\n Raccontaci una storia con i movimenti delle tue mani o servi la precisione tagliente delle tue braccia\, ma ricorda che la selezione musica sarà quella di Radio X di GTA: San Andreas\n Tell us a story with your hands or serve us the precision of your arms\, but remember that the music selection will be the one on Radio X of GTA: San Andreas.\n– Performance on wrong beat\n Performa nello stile che preferisci (old way\, new way o vogue femme) ma ricorda che i tuoi 10s li prenderai su un beat diverso da quello che sei abituato a sentire (Old Way e New Way 10s su VF; VF 10s su Classic Beats).\n Vogue in the style that you prefer (old way\, new way or vogue femme) but remember that you will take your 10s on a different kind of beat (Old Way and New Way will take 10s on Vogue Femme beats\, VF will take 10s on classic beats).\n– Body\n Servi la bellezza del tuo corpo attraverso movimenti che ne enfatizzano i punti di forza. La categoria è aperta a tuttə\, senza distinzione di body-type o espressione di genere.\n Serve the beauty of your body with movements that highlight its strenght. The category is open to all\, without distintions of body-type or gender expression.\n NO HOUSE AFFILIATION \nIn questo evento rappresenterete la vostra kiki house ma membri della stessa house potranno sfidarsi.\n―――――――――――――――――――――――――――――――\nPer qualsiasi dubbio\, curiosità o informazione riguardante l’evento non esitate a contattare la pagina @bo_lounge su IG.
URL:https://cassero.it/evento/the-crime-city-ballroom-lounge/
LOCATION:BO
CATEGORIES:Cultura
ATTACH;FMTTYPE=image/jpeg:https://cassero.it/wp-content/uploads/2024/03/instagram.jpg
END:VEVENT
BEGIN:VEVENT
DTSTART;TZID=Europe/Helsinki:20240322T233000
DTEND;TZID=Europe/Helsinki:20240322T233000
DTSTAMP:20260422T171133
CREATED:20240314T074118Z
LAST-MODIFIED:20240314T074118Z
UID:19208-1711150200-1711150200@cassero.it
SUMMARY:MADONNA MIA
DESCRIPTION:MADONNA MIA!\nTorna al Cassero LGBTQIA+ Center il party tutto Ciccone!\n\nLa notte dedicata alla nostra dea\, sempre al nostro fianco\, sia quando ci sentiamo un po’ Materal Girls\, sia in quei giorni un po’ Frozen dove preferiremmo essere su una Isla Bonita in relax.\n\nSergio Wow!\, direttamente dal Madonnamania di Berlino\, ci guiderà in questo folle viaggio fatto di danze scatenate e musica strepitosa.\n\nUna speciale performance curata da Isaura Spanking ci attende\, per lasciarci a bocca aperta!\n\n22 Marzo @ Cassero LGBTQIA+ Center\nDalle 23.30 fino al mattino\nMusic by Sergio Wow!\nPerformance by Isaura Spanking\n\nIngresso gratuito con tessera Arcigay/Lesbiche Bologna
URL:https://cassero.it/evento/madonna-mia-10/
LOCATION:BO
CATEGORIES:Club
ATTACH;FMTTYPE=image/png:https://cassero.it/wp-content/uploads/2024/03/Madonna-Mia-Insta.png
END:VEVENT
END:VCALENDAR