BEGIN:VCALENDAR
VERSION:2.0
PRODID:-//Cassero - ECPv6.15.20//NONSGML v1.0//EN
CALSCALE:GREGORIAN
METHOD:PUBLISH
X-ORIGINAL-URL:https://cassero.it
X-WR-CALDESC:Eventi per Cassero
REFRESH-INTERVAL;VALUE=DURATION:PT1H
X-Robots-Tag:noindex
X-PUBLISHED-TTL:PT1H
BEGIN:VTIMEZONE
TZID:Europe/Helsinki
BEGIN:DAYLIGHT
TZOFFSETFROM:+0200
TZOFFSETTO:+0300
TZNAME:EEST
DTSTART:20230326T010000
END:DAYLIGHT
BEGIN:STANDARD
TZOFFSETFROM:+0300
TZOFFSETTO:+0200
TZNAME:EET
DTSTART:20231029T010000
END:STANDARD
BEGIN:DAYLIGHT
TZOFFSETFROM:+0200
TZOFFSETTO:+0300
TZNAME:EEST
DTSTART:20240331T010000
END:DAYLIGHT
BEGIN:STANDARD
TZOFFSETFROM:+0300
TZOFFSETTO:+0200
TZNAME:EET
DTSTART:20241027T010000
END:STANDARD
BEGIN:DAYLIGHT
TZOFFSETFROM:+0200
TZOFFSETTO:+0300
TZNAME:EEST
DTSTART:20250330T010000
END:DAYLIGHT
BEGIN:STANDARD
TZOFFSETFROM:+0300
TZOFFSETTO:+0200
TZNAME:EET
DTSTART:20251026T010000
END:STANDARD
END:VTIMEZONE
BEGIN:VEVENT
DTSTART;TZID=Europe/Helsinki:20240323T103000
DTEND;TZID=Europe/Helsinki:20240323T103000
DTSTAMP:20260422T191325
CREATED:20240201T133203Z
LAST-MODIFIED:20240201T133203Z
UID:19089-1711189800-1711189800@cassero.it
SUMMARY:TANTE STORIE TUTTE BELLISSIME: DI CHE COLORE E' UN BACIO?
DESCRIPTION:Di che colore è un bacio?\ndi Rocio Bonilla\n(Valentina\, 2017) \nMinimoni ama colorare\, ma non ha mai dipinto un bacio! Di che colore è un bacio? \nEtà di lettura: da 2 anni \nCBF Girotondo\nVia Pietro Gamberini\, 2\nTel. 051.2199706
URL:https://cassero.it/evento/tante-storie-tutte-bellissime-di-che-colore-e-un-bacio/
LOCATION:CBF Girotondo\, Via Pietro Gamberini 2\, Bologna
ATTACH;FMTTYPE=image/png:https://cassero.it/wp-content/uploads/2024/02/Tante-storie-2024.png
END:VEVENT
BEGIN:VEVENT
DTSTART;TZID=Europe/Helsinki:20240323T233000
DTEND;TZID=Europe/Helsinki:20240323T233000
DTSTAMP:20260422T191325
CREATED:20240314T074345Z
LAST-MODIFIED:20240314T074345Z
UID:19211-1711236600-1711236600@cassero.it
SUMMARY:LAROBOTERIE: DRAG RAVE
DESCRIPTION:𝐄𝐂𝐂𝐄𝐙𝐈𝐎𝐍𝐀𝐋𝐌𝐄𝐍𝐓𝐄 ! 𝐒𝐀𝐁𝐀𝐓𝐎 𝟐𝟑 𝐌𝐀𝐑𝐙𝐎\n𝐋𝐚𝐑𝐨𝐛𝐨𝐭𝐞𝐫𝐢𝐞 – 𝑝𝑟𝑒𝑠𝑒𝑛𝑡𝑎 –\n𝐃𝐑𝐀𝐆 𝐑𝐀𝐕𝐄 !\n𝕝𝕒 𝕟𝕠𝕤𝕥𝕣𝕒 𝕥𝕖𝕔𝕙𝕟𝕠 𝕟𝕚𝕘𝕙𝕥 𝕋𝕒𝕔𝕔𝕙𝕚 & 𝕡𝕒𝕣𝕣𝕦𝕔𝕔𝕙𝕖\nProgramma\nDa Roma vi portiamo live 1\n“Volevo mi rompessi tutto”\n𝐉𝐔𝐍𝐆𝐋𝐀 –\n@junglajunglah\n.\n𝑪𝒊𝒂𝒐 𝒇𝒂𝒗𝒐𝒍𝒐𝒔ə! 𝑺𝒐𝒏𝒐 𝑱𝑼𝑵𝑮𝑳𝑨\, 𝒖𝒏𝒂 𝒔𝒆𝒎𝒑𝒍𝒊𝒄𝒆 𝒓𝒂𝒈𝒂𝒛𝒛𝒂 𝒅𝒊 𝒑𝒆𝒓𝒊𝒇𝒆𝒓𝒊𝒂 𝒄𝒉𝒆 𝒔𝒐𝒈𝒏𝒂 𝒅𝒊 𝒔𝒑𝒐𝒔𝒂𝒓𝒆 𝒖𝒏 𝒖𝒐𝒎𝒐 𝒓𝒊𝒄𝒄𝒐 𝒆 𝒗𝒊𝒔𝒕𝒐 𝒄𝒉𝒆 𝒏𝒐𝒏 è 𝒂𝒏𝒄𝒐𝒓𝒂 𝒔𝒖𝒄𝒄𝒆𝒔𝒔𝒐 𝒑𝒂𝒔𝒔𝒐 𝒂𝒍 𝒑𝒊𝒂𝒏𝒐 𝑩\, 𝒐𝒗𝒗𝒆𝒓𝒐 𝒅𝒊𝒗𝒆𝒏𝒕𝒂𝒓𝒆 𝒖𝒏𝒂 𝒄𝒂𝒏𝒕𝒂𝒏𝒕𝒆 𝒇𝒂𝒎𝒐𝒔𝒂𝒉\n𝑬𝒏𝒕𝒂 𝒂𝒏𝒄𝒉𝒆 𝒕𝒖 𝒏𝒆𝒍𝒍𝒂 𝑱𝑼𝑵𝑮𝑳𝑨 𝒆 𝒈𝒐𝒅𝒊𝒕𝒊 𝒊𝒍 𝒎𝒊𝒐 𝒑𝒓𝒊𝒎𝒐 𝒂𝒍𝒃𝒖𝒎 “𝑽𝒐𝒍𝒆𝒗𝒐 𝒎𝒊 𝒓𝒐𝒎𝒑𝒆𝒔𝒔𝒊 𝒕𝒖𝒕𝒕𝒐”\n𝑩𝒂𝒄𝒊 𝒅𝒂𝒍𝒍𝒂 𝒍𝒐𝒕𝒕𝒂𝒕𝒓𝒊𝒄𝒆 𝒅𝒆𝒍𝒍’𝒂𝒎𝒐𝒓𝒆\n\nMadrina dell’evento\n𝐈𝐖𝐀𝐍𝐃𝐀 𝐒𝐁𝐄𝐋𝐋𝐄𝐓𝐓𝐈\n𝕊ℍ𝕆𝕎 !\n𝕃𝔸 ℕ𝕆𝕊𝕋ℝ𝔸 𝔻ℝ𝔸𝔾 𝔻𝕀 ℚ𝕌𝔸ℝ𝕋𝕀𝔼ℝ𝔼 \, 𝕄𝔸𝔻ℝ𝕀ℕ𝔸 𝔻𝔼𝕃 𝔽𝔼𝕊𝕋𝕀𝕍𝔸𝕃\n𝐷𝑟𝑎𝑔 𝑞𝑢𝑒𝑒𝑛 𝑠𝑜𝑐𝑖𝑎𝑙𝑒\, 𝑜𝑐𝑐𝑢𝑝𝑎𝑡𝑎\, 𝑎𝑢𝑡𝑜𝑔𝑒𝑠𝑡𝑖𝑡𝑎 𝑒 𝑎𝑡𝑡𝑟𝑖𝑐𝑒 𝑐𝑎𝑔𝑛𝑎 𝐼𝑤𝑎𝑛𝑑𝑎 𝑆𝑏𝑒𝑙𝑙𝑒𝑡𝑡𝑖 𝑃𝑒𝑙𝑙𝑒𝑔𝑟𝑖𝑛𝑜 𝑆𝑢𝑝𝑒𝑟𝑠𝑡𝑎𝑟.\n𝑆𝑜𝑙𝑜 𝐿𝑒𝑖 𝑠𝑎 𝑒𝑠𝑠𝑒𝑟𝑒 𝑓𝑎𝑣𝑜𝑙𝑜𝑠𝑎 𝑐𝑜𝑛 𝑜𝑢𝑡𝑓𝑖𝑡 𝑟𝑖𝑐𝑒𝑟𝑐𝑎𝑡𝑖 𝑎𝑙 𝑚𝑒𝑟𝑐𝑎𝑡𝑜 𝑑𝑖 𝑉𝑖𝑎𝑙𝑒 𝑑𝑒𝑙𝑙𝑎 𝑃𝑟𝑖𝑚𝑎𝑣𝑒𝑟𝑎 – “𝑓𝑎𝑟𝑒 𝑎𝑟𝑡𝑒 𝑑𝑟𝑎𝑔 𝑒̀ 𝑝𝑜𝑠𝑠𝑖𝑏𝑖𝑙𝑒 𝑎𝑛𝑐ℎ𝑒 𝑠𝑝𝑒𝑛𝑑𝑒𝑛𝑑𝑜 𝑚𝑜𝑙𝑡𝑜 𝑝𝑜𝑐𝑜” –\n\n𝑇𝑒𝑐ℎ𝑛𝑜 𝑠𝑜𝑢𝑛𝑑\n* 𝐁𝐀𝐂𝐊𝐃𝐑𝐈𝐅𝐓𝐄𝐑\n* 𝐒𝐓.𝐑𝐎𝐁𝐎𝐓\n*\n (@st.robot) e (@giannichelli) – le anime che hanno assemblato i circuiti e riattivato i sensori per dare vita a LaRoboterie – vi accompagneranno in una realtà parallela elettrosovversiva che infrange i confini di genere e le catene della sessualità fatta di corpi pulsanti in una miscela esplosiva di Hard Techno\, Breakbeat e sonorità acide.\n\n𝐃𝐑𝐀𝐆 𝐑𝐀𝐕𝐄 𝐂𝐎𝐍𝐓𝐄𝐒𝐓 | 𝐒𝐄𝐋𝐄𝐙𝐈𝐎𝐍𝐀𝐈𝐀𝐌𝐎 𝐋𝐄 𝐌𝐈𝐆𝐋𝐈𝐎𝐑𝐈 𝐏𝐄𝐑𝐅𝐎𝐑𝐌𝐄𝐑 𝐏𝐄𝐑 𝐈𝐍𝐂𝐎𝐑𝐎𝐍𝐀𝐑𝐄 𝐋𝐀 “ 𝐌𝐈𝐒𝐒 𝐃𝐑𝐀𝐆 𝐑𝐀𝐕𝐄 “\n\n𝐈𝐍𝐆𝐑𝐄𝐒𝐒𝐎\n7 Euro prima dell’una\, 10 Euro dopo\nTessera Arcigay/Lesbiche Bologna richiesta
URL:https://cassero.it/evento/laroboterie-drag-rave/
LOCATION:BO
CATEGORIES:Club
ATTACH;FMTTYPE=image/jpeg:https://cassero.it/wp-content/uploads/2024/03/Snapinsta.app_431202427_18292113610084381_5876719867225276588_n_1080.jpg
END:VEVENT
END:VCALENDAR