BEGIN:VCALENDAR
VERSION:2.0
PRODID:-//Cassero - ECPv6.15.20//NONSGML v1.0//EN
CALSCALE:GREGORIAN
METHOD:PUBLISH
X-ORIGINAL-URL:https://cassero.it
X-WR-CALDESC:Eventi per Cassero
REFRESH-INTERVAL;VALUE=DURATION:PT1H
X-Robots-Tag:noindex
X-PUBLISHED-TTL:PT1H
BEGIN:VTIMEZONE
TZID:Europe/Helsinki
BEGIN:DAYLIGHT
TZOFFSETFROM:+0200
TZOFFSETTO:+0300
TZNAME:EEST
DTSTART:20230326T010000
END:DAYLIGHT
BEGIN:STANDARD
TZOFFSETFROM:+0300
TZOFFSETTO:+0200
TZNAME:EET
DTSTART:20231029T010000
END:STANDARD
BEGIN:DAYLIGHT
TZOFFSETFROM:+0200
TZOFFSETTO:+0300
TZNAME:EEST
DTSTART:20240331T010000
END:DAYLIGHT
BEGIN:STANDARD
TZOFFSETFROM:+0300
TZOFFSETTO:+0200
TZNAME:EET
DTSTART:20241027T010000
END:STANDARD
BEGIN:DAYLIGHT
TZOFFSETFROM:+0200
TZOFFSETTO:+0300
TZNAME:EEST
DTSTART:20250330T010000
END:DAYLIGHT
BEGIN:STANDARD
TZOFFSETFROM:+0300
TZOFFSETTO:+0200
TZNAME:EET
DTSTART:20251026T010000
END:STANDARD
END:VTIMEZONE
BEGIN:VEVENT
DTSTART;TZID=Europe/Helsinki:20240326T193000
DTEND;TZID=Europe/Helsinki:20240326T193000
DTSTAMP:20260423T004059
CREATED:20240325T085103Z
LAST-MODIFIED:20240325T085103Z
UID:19246-1711481400-1711481400@cassero.it
SUMMARY:Riunione di circolo
DESCRIPTION:La riunione di circolo è convocata per martedì 26 marzo alle ore 19.30. \nIl tema di questa ripresa dei momenti di circolo sarà pride\, reti e movimenti e seguiremo i seguenti spunti: \n\nripresa assemblee Rivolta Pride\nattraversamento e rapporti Arcigay Nazionale\naggiornamento Tavolo Patto di collaborazione LGBTQIA+\naggiornamenti UNAR\nQuestione palestinese e come attraversa il movimento\n\nLe modalità con cui affronteremo i temi saranno poi esplicitate direttamente in riunione.
URL:https://cassero.it/evento/riunione-di-circolo-6/
LOCATION:BO
CATEGORIES:Attivismo
ATTACH;FMTTYPE=image/jpeg:https://cassero.it/wp-content/uploads/2023/11/Progetto-senza-titolo-2023-11-16T173132.497.jpg
END:VEVENT
END:VCALENDAR