BEGIN:VCALENDAR
VERSION:2.0
PRODID:-//Cassero - ECPv6.15.20//NONSGML v1.0//EN
CALSCALE:GREGORIAN
METHOD:PUBLISH
X-WR-CALNAME:Cassero
X-ORIGINAL-URL:https://cassero.it
X-WR-CALDESC:Eventi per Cassero
REFRESH-INTERVAL;VALUE=DURATION:PT1H
X-Robots-Tag:noindex
X-PUBLISHED-TTL:PT1H
BEGIN:VTIMEZONE
TZID:Europe/Helsinki
BEGIN:DAYLIGHT
TZOFFSETFROM:+0200
TZOFFSETTO:+0300
TZNAME:EEST
DTSTART:20230326T010000
END:DAYLIGHT
BEGIN:STANDARD
TZOFFSETFROM:+0300
TZOFFSETTO:+0200
TZNAME:EET
DTSTART:20231029T010000
END:STANDARD
BEGIN:DAYLIGHT
TZOFFSETFROM:+0200
TZOFFSETTO:+0300
TZNAME:EEST
DTSTART:20240331T010000
END:DAYLIGHT
BEGIN:STANDARD
TZOFFSETFROM:+0300
TZOFFSETTO:+0200
TZNAME:EET
DTSTART:20241027T010000
END:STANDARD
BEGIN:DAYLIGHT
TZOFFSETFROM:+0200
TZOFFSETTO:+0300
TZNAME:EEST
DTSTART:20250330T010000
END:DAYLIGHT
BEGIN:STANDARD
TZOFFSETFROM:+0300
TZOFFSETTO:+0200
TZNAME:EET
DTSTART:20251026T010000
END:STANDARD
END:VTIMEZONE
BEGIN:VEVENT
DTSTART;TZID=Europe/Helsinki:20241220T233000
DTEND;TZID=Europe/Helsinki:20241220T233000
DTSTAMP:20260422T093003
CREATED:20241210T120500Z
LAST-MODIFIED:20241210T120504Z
UID:19812-1734737400-1734737400@cassero.it
SUMMARY:LUFTRAUM
DESCRIPTION:⚡️MxTechno⚡️ \n@luftraum_dj \nMX è etichetta che non etichetta: non definisce né incasella in schemi binari e contrapposti; come la techno\, genere musicale senza un genere\, tessitura libera di suoni; le sue pulsazioni attraversano l’aria indifferenti ai pregiudizi e alle costrizioni sociali e in pista scuotono tutti i corpi\, senza distinzioni di sorta. \nIngresso Gratuito + tessera Arcigay/Lesbiche\nBologna
URL:https://cassero.it/evento/luftraum-4/
LOCATION:BO
ATTACH;FMTTYPE=image/png:https://cassero.it/wp-content/uploads/2024/12/POST-LUFTRAUM.png
END:VEVENT
END:VCALENDAR