BEGIN:VCALENDAR
VERSION:2.0
PRODID:-//Cassero - ECPv6.15.20//NONSGML v1.0//EN
CALSCALE:GREGORIAN
METHOD:PUBLISH
X-ORIGINAL-URL:https://cassero.it
X-WR-CALDESC:Eventi per Cassero
REFRESH-INTERVAL;VALUE=DURATION:PT1H
X-Robots-Tag:noindex
X-PUBLISHED-TTL:PT1H
BEGIN:VTIMEZONE
TZID:Europe/Helsinki
BEGIN:DAYLIGHT
TZOFFSETFROM:+0200
TZOFFSETTO:+0300
TZNAME:EEST
DTSTART:20240331T010000
END:DAYLIGHT
BEGIN:STANDARD
TZOFFSETFROM:+0300
TZOFFSETTO:+0200
TZNAME:EET
DTSTART:20241027T010000
END:STANDARD
BEGIN:DAYLIGHT
TZOFFSETFROM:+0200
TZOFFSETTO:+0300
TZNAME:EEST
DTSTART:20250330T010000
END:DAYLIGHT
BEGIN:STANDARD
TZOFFSETFROM:+0300
TZOFFSETTO:+0200
TZNAME:EET
DTSTART:20251026T010000
END:STANDARD
BEGIN:DAYLIGHT
TZOFFSETFROM:+0200
TZOFFSETTO:+0300
TZNAME:EEST
DTSTART:20260329T010000
END:DAYLIGHT
BEGIN:STANDARD
TZOFFSETFROM:+0300
TZOFFSETTO:+0200
TZNAME:EET
DTSTART:20261025T010000
END:STANDARD
END:VTIMEZONE
BEGIN:VEVENT
DTSTART;TZID=Europe/Helsinki:20250118T233000
DTEND;TZID=Europe/Helsinki:20250118T233000
DTSTAMP:20260421T135135
CREATED:20250107T081944Z
LAST-MODIFIED:20250107T081949Z
UID:19845-1737243000-1737243000@cassero.it
SUMMARY:ME GUSTA!
DESCRIPTION:ME GUSTA !\n🔥 Il sabato notte reggaeton\, hip hop\, pop al Cassero \nIngresso 8 euro con tessera\nCon tessera Arcigay/Lesbiche Bologna
URL:https://cassero.it/evento/me-gusta-51/
LOCATION:Cassero LGBTQIA+ Center\, Via Don Minzoni 18\, Bologna\, BO\, 40121\, Italia
ATTACH;FMTTYPE=image/jpeg:https://cassero.it/wp-content/uploads/2025/01/471983622_1223215048779109_4391477461279268542_n.jpg
END:VEVENT
END:VCALENDAR