BEGIN:VCALENDAR
VERSION:2.0
PRODID:-//Cassero - ECPv6.15.20//NONSGML v1.0//EN
CALSCALE:GREGORIAN
METHOD:PUBLISH
X-ORIGINAL-URL:https://cassero.it
X-WR-CALDESC:Eventi per Cassero
REFRESH-INTERVAL;VALUE=DURATION:PT1H
X-Robots-Tag:noindex
X-PUBLISHED-TTL:PT1H
BEGIN:VTIMEZONE
TZID:Europe/Helsinki
BEGIN:DAYLIGHT
TZOFFSETFROM:+0200
TZOFFSETTO:+0300
TZNAME:EEST
DTSTART:20240331T010000
END:DAYLIGHT
BEGIN:STANDARD
TZOFFSETFROM:+0300
TZOFFSETTO:+0200
TZNAME:EET
DTSTART:20241027T010000
END:STANDARD
BEGIN:DAYLIGHT
TZOFFSETFROM:+0200
TZOFFSETTO:+0300
TZNAME:EEST
DTSTART:20250330T010000
END:DAYLIGHT
BEGIN:STANDARD
TZOFFSETFROM:+0300
TZOFFSETTO:+0200
TZNAME:EET
DTSTART:20251026T010000
END:STANDARD
BEGIN:DAYLIGHT
TZOFFSETFROM:+0200
TZOFFSETTO:+0300
TZNAME:EEST
DTSTART:20260329T010000
END:DAYLIGHT
BEGIN:STANDARD
TZOFFSETFROM:+0300
TZOFFSETTO:+0200
TZNAME:EET
DTSTART:20261025T010000
END:STANDARD
END:VTIMEZONE
BEGIN:VEVENT
DTSTART;TZID=Europe/Helsinki:20250108T233000
DTEND;TZID=Europe/Helsinki:20250108T233000
DTSTAMP:20260421T210907
CREATED:20250107T080910Z
LAST-MODIFIED:20250107T080916Z
UID:19833-1736379000-1736379000@cassero.it
SUMMARY:esauritə
DESCRIPTION:Come ogni mercoledì: il party doom-pop gratuito del Cassero LGBTQIA+ Center musicato da @el_pollo_loco_dj e @sor_braciola con la propaganda video di @arcade_q. e gli artowrk di @stenotung 🔥 \n🎟 Start at 23.30\, FREE ENTRY con tessera Arcigay/Lesbiche Bologna
URL:https://cassero.it/evento/esaurit%c9%99-59/
LOCATION:Cassero LGBTQIA+ Center\, Via Don Minzoni 18\, Bologna\, BO\, 40121\, Italia
ATTACH;FMTTYPE=image/jpeg:https://cassero.it/wp-content/uploads/2023/10/IL-MERCOLED.jpg
END:VEVENT
END:VCALENDAR