BEGIN:VCALENDAR
VERSION:2.0
PRODID:-//Cassero - ECPv6.15.20//NONSGML v1.0//EN
CALSCALE:GREGORIAN
METHOD:PUBLISH
X-ORIGINAL-URL:https://cassero.it
X-WR-CALDESC:Eventi per Cassero
REFRESH-INTERVAL;VALUE=DURATION:PT1H
X-Robots-Tag:noindex
X-PUBLISHED-TTL:PT1H
BEGIN:VTIMEZONE
TZID:Europe/Helsinki
BEGIN:DAYLIGHT
TZOFFSETFROM:+0200
TZOFFSETTO:+0300
TZNAME:EEST
DTSTART:20240331T010000
END:DAYLIGHT
BEGIN:STANDARD
TZOFFSETFROM:+0300
TZOFFSETTO:+0200
TZNAME:EET
DTSTART:20241027T010000
END:STANDARD
BEGIN:DAYLIGHT
TZOFFSETFROM:+0200
TZOFFSETTO:+0300
TZNAME:EEST
DTSTART:20250330T010000
END:DAYLIGHT
BEGIN:STANDARD
TZOFFSETFROM:+0300
TZOFFSETTO:+0200
TZNAME:EET
DTSTART:20251026T010000
END:STANDARD
BEGIN:DAYLIGHT
TZOFFSETFROM:+0200
TZOFFSETTO:+0300
TZNAME:EEST
DTSTART:20260329T010000
END:DAYLIGHT
BEGIN:STANDARD
TZOFFSETFROM:+0300
TZOFFSETTO:+0200
TZNAME:EET
DTSTART:20261025T010000
END:STANDARD
END:VTIMEZONE
BEGIN:VEVENT
DTSTART;TZID=Europe/Helsinki:20250131T233000
DTEND;TZID=Europe/Helsinki:20250131T233000
DTSTAMP:20260421T150309
CREATED:20250107T082649Z
LAST-MODIFIED:20250107T082653Z
UID:19848-1738366200-1738366200@cassero.it
SUMMARY:MADONNA MIA!
DESCRIPTION:Torna la regina\, l’intramontabile queen del pop universale\, e con lei torna SergioWow in consolle\, per farci urlare a squarciagola in un venerdì della madonna ad ingresso gratuito!\nSe non si fosse capito: Madonna only!\n🎟 Ingresso gratuito con tessera Arcigay / Lesbiche Bologna
URL:https://cassero.it/evento/madonna-mia-11/
LOCATION:Cassero LGBTQIA+ Center\, Via Don Minzoni 18\, Bologna\, BO\, 40121\, Italia
ATTACH;FMTTYPE=image/jpeg:https://cassero.it/wp-content/uploads/2025/01/photo_2024-12-11_11-18-38.jpg
END:VEVENT
END:VCALENDAR