BEGIN:VCALENDAR
VERSION:2.0
PRODID:-//Cassero - ECPv6.15.20//NONSGML v1.0//EN
CALSCALE:GREGORIAN
METHOD:PUBLISH
X-ORIGINAL-URL:https://cassero.it
X-WR-CALDESC:Eventi per Cassero
REFRESH-INTERVAL;VALUE=DURATION:PT1H
X-Robots-Tag:noindex
X-PUBLISHED-TTL:PT1H
BEGIN:VTIMEZONE
TZID:Europe/Helsinki
BEGIN:DAYLIGHT
TZOFFSETFROM:+0200
TZOFFSETTO:+0300
TZNAME:EEST
DTSTART:20250330T010000
END:DAYLIGHT
BEGIN:STANDARD
TZOFFSETFROM:+0300
TZOFFSETTO:+0200
TZNAME:EET
DTSTART:20251026T010000
END:STANDARD
BEGIN:DAYLIGHT
TZOFFSETFROM:+0200
TZOFFSETTO:+0300
TZNAME:EEST
DTSTART:20260329T010000
END:DAYLIGHT
BEGIN:STANDARD
TZOFFSETFROM:+0300
TZOFFSETTO:+0200
TZNAME:EET
DTSTART:20261025T010000
END:STANDARD
BEGIN:DAYLIGHT
TZOFFSETFROM:+0200
TZOFFSETTO:+0300
TZNAME:EEST
DTSTART:20270328T010000
END:DAYLIGHT
BEGIN:STANDARD
TZOFFSETFROM:+0300
TZOFFSETTO:+0200
TZNAME:EET
DTSTART:20271031T010000
END:STANDARD
END:VTIMEZONE
BEGIN:VEVENT
DTSTART;TZID=Europe/Helsinki:20260328T103000
DTEND;TZID=Europe/Helsinki:20260328T123000
DTSTAMP:20260421T150309
CREATED:20260130T142036Z
LAST-MODIFIED:20260130T142038Z
UID:20394-1774693800-1774701000@cassero.it
SUMMARY:Tante storie\, tutte bellissime: letture animate e laboratori creativi 2026
DESCRIPTION:28 marzo 2026 \nCBF Il Monello \nVia Pelizza da Volpedo\, 11 \nTel. 051.494966 \n> Sparisci! di Matthieu Maudet (Babalibri\, 2025) \nChi non vorrebbe far sparire i genitori come per magia\, almeno ogni tanto? \nEtà di lettura: da 3 anni \n____ \nTante storie tutte bellissime è un progetto cofinanziato dall’Unione europea Programma Nazionale Città Metropolitane e città medie sud 2021-2027 – Progetto BO 4.4.11.1.d – Azioni integrate per l’infanzia e l’adolescenza \nrealizzato nell’ambito del Patto generale di collaborazione per la promozione e la tutela dei diritti delle persone e della comunità Lgbtqia+ nella città di Bologna 2022-2027 \nA cura di Centro di Documentazione Flavia Madaschi Arcigay Il Cassero\, APS Frame e Associazione Famiglie Arcobaleno \nIn collaborazione con Bologna Biblioteche\, Ufficio Pari Opportunità e Tutela delle Differenze\, Area educazione\, istruzione e nuove generazioni \nNell’ambito di Patto per la Lettura \nLe illustrazioni del pieghevole sono di Nijan Ravi \n____ \nTutti gli appuntamenti iniziano alle ore 10.30. La partecipazione è sempre gratuita con prenotazione obbligatoria ai numeri indicati. \nPer info: \nlaboratoritantestorie@gmail.com \n051.0957214 \nCanale YT del progetto \nBlog del progetto
URL:https://cassero.it/evento/tante-storie-tutte-bellissime-letture-animate-e-laboratori-creativi-2026-4/
LOCATION:BO
ATTACH;FMTTYPE=image/png:https://cassero.it/wp-content/uploads/2026/01/Nijan-Ravi-Tante-storie-2026-2.png
END:VEVENT
BEGIN:VEVENT
DTSTART;TZID=Europe/Helsinki:20260328T233000
DTEND;TZID=Europe/Helsinki:20260328T233000
DTSTAMP:20260421T150309
CREATED:20260324T092420Z
LAST-MODIFIED:20260324T092420Z
UID:20456-1774740600-1774740600@cassero.it
SUMMARY:TRASH FOR FREE
DESCRIPTION:𝐓𝐑𝐀𝐒𝐇 𝐅𝐎𝐑 𝐅𝐑𝐄𝐄\nIl weekend chiama\, il buon gusto non risponde: è ora di entrare in modalità TRASH…ma gratis!\nSabato 28 Marzo torna TRASH FOR FREE\, dalle 23:30 al Cassero\, per una notte dedicata al Guilty Pleasure 💖 \n🔊Music by\nVon Troy @_vontroy\nFiandrix @fiandrix \n💅🏻On stage\nIsaura Spanking @isauraspanking\nAsquito @asquito.eso \n🎟 Ingresso gratuito\n💳 Richiesta tessera Arcigay/Lesbiche Bologna
URL:https://cassero.it/evento/trash-for-free-61/
LOCATION:Cassero LGBTQIA+ Center\, Via Don Minzoni 18\, Bologna\, BO\, 40121\, Italia
ATTACH;FMTTYPE=image/png:https://cassero.it/wp-content/uploads/2026/03/post-2.png
END:VEVENT
END:VCALENDAR