BEGIN:VCALENDAR
VERSION:2.0
PRODID:-//Cassero - ECPv6.15.20//NONSGML v1.0//EN
CALSCALE:GREGORIAN
METHOD:PUBLISH
X-ORIGINAL-URL:https://cassero.it
X-WR-CALDESC:Eventi per Cassero
REFRESH-INTERVAL;VALUE=DURATION:PT1H
X-Robots-Tag:noindex
X-PUBLISHED-TTL:PT1H
BEGIN:VTIMEZONE
TZID:Europe/Rome
BEGIN:DAYLIGHT
TZOFFSETFROM:+0100
TZOFFSETTO:+0200
TZNAME:CEST
DTSTART:20170326T010000
END:DAYLIGHT
BEGIN:STANDARD
TZOFFSETFROM:+0200
TZOFFSETTO:+0100
TZNAME:CET
DTSTART:20171029T010000
END:STANDARD
BEGIN:DAYLIGHT
TZOFFSETFROM:+0100
TZOFFSETTO:+0200
TZNAME:CEST
DTSTART:20180325T010000
END:DAYLIGHT
BEGIN:STANDARD
TZOFFSETFROM:+0200
TZOFFSETTO:+0100
TZNAME:CET
DTSTART:20181028T010000
END:STANDARD
BEGIN:DAYLIGHT
TZOFFSETFROM:+0100
TZOFFSETTO:+0200
TZNAME:CEST
DTSTART:20190331T010000
END:DAYLIGHT
BEGIN:STANDARD
TZOFFSETFROM:+0200
TZOFFSETTO:+0100
TZNAME:CET
DTSTART:20191027T010000
END:STANDARD
BEGIN:DAYLIGHT
TZOFFSETFROM:+0100
TZOFFSETTO:+0200
TZNAME:CEST
DTSTART:20200329T010000
END:DAYLIGHT
BEGIN:STANDARD
TZOFFSETFROM:+0200
TZOFFSETTO:+0100
TZNAME:CET
DTSTART:20201025T010000
END:STANDARD
END:VTIMEZONE
BEGIN:VEVENT
DTSTART;TZID=Europe/Rome:20190121T200000
DTEND;TZID=Europe/Rome:20190121T200000
DTSTAMP:20260421T170049
CREATED:20181226T150055Z
LAST-MODIFIED:20181226T150055Z
UID:6535-1548100800-1548100800@cassero.it
SUMMARY:PeopAll
DESCRIPTION:
URL:https://cassero.it/evento/peopall-76/
CATEGORIES:Attivismo
END:VEVENT
BEGIN:VEVENT
DTSTART;TZID=Europe/Rome:20190121T200000
DTEND;TZID=Europe/Rome:20190121T200000
DTSTAMP:20260421T170049
CREATED:20181226T150055Z
LAST-MODIFIED:20181226T150055Z
UID:16485-1548100800-1548100800@cassero.it
SUMMARY:PeopAll
DESCRIPTION:
URL:https://cassero.it/evento/peopall-76-2/
CATEGORIES:Attivismo
END:VEVENT
BEGIN:VEVENT
DTSTART;TZID=Europe/Rome:20190114T200000
DTEND;TZID=Europe/Rome:20190114T200000
DTSTAMP:20260421T170049
CREATED:20181226T150029Z
LAST-MODIFIED:20181226T150029Z
UID:16484-1547496000-1547496000@cassero.it
SUMMARY:PeopAll
DESCRIPTION:
URL:https://cassero.it/evento/peopall-75-2/
CATEGORIES:Attivismo
END:VEVENT
BEGIN:VEVENT
DTSTART;TZID=Europe/Rome:20190114T200000
DTEND;TZID=Europe/Rome:20190114T200000
DTSTAMP:20260421T170049
CREATED:20181226T150029Z
LAST-MODIFIED:20181226T150029Z
UID:6533-1547496000-1547496000@cassero.it
SUMMARY:PeopAll
DESCRIPTION:
URL:https://cassero.it/evento/peopall-75/
CATEGORIES:Attivismo
END:VEVENT
BEGIN:VEVENT
DTSTART;TZID=Europe/Rome:20190107T200000
DTEND;TZID=Europe/Rome:20190107T200000
DTSTAMP:20260421T170049
CREATED:20181226T150003Z
LAST-MODIFIED:20181226T150003Z
UID:16483-1546891200-1546891200@cassero.it
SUMMARY:PeopAll
DESCRIPTION:
URL:https://cassero.it/evento/peopall-74-2/
CATEGORIES:Attivismo
END:VEVENT
BEGIN:VEVENT
DTSTART;TZID=Europe/Rome:20190107T200000
DTEND;TZID=Europe/Rome:20190107T200000
DTSTAMP:20260421T170049
CREATED:20181226T150003Z
LAST-MODIFIED:20181226T150003Z
UID:6531-1546891200-1546891200@cassero.it
SUMMARY:PeopAll
DESCRIPTION:
URL:https://cassero.it/evento/peopall-74/
CATEGORIES:Attivismo
END:VEVENT
BEGIN:VEVENT
DTSTART;TZID=Europe/Rome:20181217T200000
DTEND;TZID=Europe/Rome:20181217T200000
DTSTAMP:20260421T170049
CREATED:20181126T091140Z
LAST-MODIFIED:20181126T091140Z
UID:6407-1545076800-1545076800@cassero.it
SUMMARY:PeopAll
DESCRIPTION:
URL:https://cassero.it/evento/peopall-73/
CATEGORIES:Attivismo
ATTACH;FMTTYPE=:
END:VEVENT
BEGIN:VEVENT
DTSTART;TZID=Europe/Rome:20181217T200000
DTEND;TZID=Europe/Rome:20181217T200000
DTSTAMP:20260421T170049
CREATED:20181126T091140Z
LAST-MODIFIED:20181126T091140Z
UID:16448-1545076800-1545076800@cassero.it
SUMMARY:PeopAll
DESCRIPTION:
URL:https://cassero.it/evento/peopall-73-2/
CATEGORIES:Attivismo
ATTACH;FMTTYPE=:
END:VEVENT
BEGIN:VEVENT
DTSTART;TZID=Europe/Rome:20181210T200000
DTEND;TZID=Europe/Rome:20181210T200000
DTSTAMP:20260421T170049
CREATED:20181126T091057Z
LAST-MODIFIED:20181126T091057Z
UID:6405-1544472000-1544472000@cassero.it
SUMMARY:PeopAll
DESCRIPTION:
URL:https://cassero.it/evento/peopall-72/
CATEGORIES:Attivismo
ATTACH;FMTTYPE=:
END:VEVENT
BEGIN:VEVENT
DTSTART;TZID=Europe/Rome:20181210T200000
DTEND;TZID=Europe/Rome:20181210T200000
DTSTAMP:20260421T170049
CREATED:20181126T091057Z
LAST-MODIFIED:20181126T091057Z
UID:16447-1544472000-1544472000@cassero.it
SUMMARY:PeopAll
DESCRIPTION:
URL:https://cassero.it/evento/peopall-72-2/
CATEGORIES:Attivismo
ATTACH;FMTTYPE=:
END:VEVENT
BEGIN:VEVENT
DTSTART;TZID=Europe/Rome:20181203T200000
DTEND;TZID=Europe/Rome:20181203T230000
DTSTAMP:20260421T170049
CREATED:20181126T091003Z
LAST-MODIFIED:20181126T091003Z
UID:16446-1543867200-1543878000@cassero.it
SUMMARY:PeopAll e Salute - Cosa TasPetti?
DESCRIPTION:Cosa TasPetti? Salotto informativo sul tema TasP e HIV\n\n\n\n\n\nChe significa TasP? Treatment as Prevention: la terapia per il trattamento dell’HIV può anche prevenire la diffusione del virus.\n\n\nInfatti se la terapia abbassa la carica virale dell’HIV fino a non essere più rilevabile nel sangue\, in determinate condizioni è improbabile che il virus venga trasmesso.\n\n\nÈ questo il principio di Undetectable = Untransmittable.\n\n\n\n\n\nL’informazione protegge tutt* e abbatte lo stigma!\n\n\n\n\n\nDurante l’incontro parleremo dello studio PARTNERS\, che ha dimostrato l’efficacia della terapia antiretrovirale nell’ostacolare la trasmissione del virus.\n\n\n\n\n\nNe parleremo insieme a:\n\n\nDott.ssa Antonietta D’Antuono\, medico specialista responsabile del centro MTS S.Orsola (clinica dermatologica) Bologna\n\n\nDiego Scudiero (Lila. Lega italiana lotta Aids)\n\n\nDott. Lorenzo Badia\, medico specialista UO malattie infettive S.Orsola Bologna\n\n\nSandro Mattioli (Plus Bologna)\n\n\n\n\n\nTi aspettiamo! lunedì 3 dicembre alle 20\,30 al Cassero lgbt center di Bologna\, in via Don Minzoni n. 18.\n\n\n\n\n\nL’ingresso è libero e senza tessera.
URL:https://cassero.it/evento/peopall-71-2/
CATEGORIES:Attivismo,primo piano,Salute
ATTACH;FMTTYPE=:
END:VEVENT
BEGIN:VEVENT
DTSTART;TZID=Europe/Rome:20181126T200000
DTEND;TZID=Europe/Rome:20181126T200000
DTSTAMP:20260421T170049
CREATED:20181024T093537Z
LAST-MODIFIED:20181024T093537Z
UID:6309-1543262400-1543262400@cassero.it
SUMMARY:PeopAll
DESCRIPTION:
URL:https://cassero.it/evento/peopall-70/
CATEGORIES:Attivismo
END:VEVENT
BEGIN:VEVENT
DTSTART;TZID=Europe/Rome:20181126T200000
DTEND;TZID=Europe/Rome:20181126T200000
DTSTAMP:20260421T170049
CREATED:20181024T093537Z
LAST-MODIFIED:20181024T093537Z
UID:16416-1543262400-1543262400@cassero.it
SUMMARY:PeopAll
DESCRIPTION:
URL:https://cassero.it/evento/peopall-70-2/
CATEGORIES:Attivismo
END:VEVENT
BEGIN:VEVENT
DTSTART;TZID=Europe/Rome:20181119T200000
DTEND;TZID=Europe/Rome:20181119T200000
DTSTAMP:20260421T170049
CREATED:20181024T093509Z
LAST-MODIFIED:20181024T093509Z
UID:6307-1542657600-1542657600@cassero.it
SUMMARY:PeopAll
DESCRIPTION:
URL:https://cassero.it/evento/peopall-69/
CATEGORIES:Attivismo
END:VEVENT
BEGIN:VEVENT
DTSTART;TZID=Europe/Rome:20181119T200000
DTEND;TZID=Europe/Rome:20181119T200000
DTSTAMP:20260421T170049
CREATED:20181024T093509Z
LAST-MODIFIED:20181024T093509Z
UID:16415-1542657600-1542657600@cassero.it
SUMMARY:PeopAll
DESCRIPTION:
URL:https://cassero.it/evento/peopall-69-2/
CATEGORIES:Attivismo
END:VEVENT
BEGIN:VEVENT
DTSTART;TZID=Europe/Rome:20181112T200000
DTEND;TZID=Europe/Rome:20181112T200000
DTSTAMP:20260421T170049
CREATED:20181024T093438Z
LAST-MODIFIED:20181024T093438Z
UID:6305-1542052800-1542052800@cassero.it
SUMMARY:PeopAll
DESCRIPTION:
URL:https://cassero.it/evento/peopall-68/
CATEGORIES:Attivismo
END:VEVENT
BEGIN:VEVENT
DTSTART;TZID=Europe/Rome:20181112T200000
DTEND;TZID=Europe/Rome:20181112T200000
DTSTAMP:20260421T170049
CREATED:20181024T093438Z
LAST-MODIFIED:20181024T093438Z
UID:16414-1542052800-1542052800@cassero.it
SUMMARY:PeopAll
DESCRIPTION:
URL:https://cassero.it/evento/peopall-68-2/
CATEGORIES:Attivismo
END:VEVENT
BEGIN:VEVENT
DTSTART;TZID=Europe/Rome:20181105T200000
DTEND;TZID=Europe/Rome:20181105T200000
DTSTAMP:20260421T170049
CREATED:20181024T093409Z
LAST-MODIFIED:20181024T093409Z
UID:6303-1541448000-1541448000@cassero.it
SUMMARY:PeopAll
DESCRIPTION:
URL:https://cassero.it/evento/peopall-67/
CATEGORIES:Attivismo
END:VEVENT
BEGIN:VEVENT
DTSTART;TZID=Europe/Rome:20181105T200000
DTEND;TZID=Europe/Rome:20181105T200000
DTSTAMP:20260421T170049
CREATED:20181024T093409Z
LAST-MODIFIED:20181024T093409Z
UID:16413-1541448000-1541448000@cassero.it
SUMMARY:PeopAll
DESCRIPTION:
URL:https://cassero.it/evento/peopall-67-2/
CATEGORIES:Attivismo
END:VEVENT
BEGIN:VEVENT
DTSTART;TZID=Europe/Rome:20181002T200000
DTEND;TZID=Europe/Rome:20181002T200000
DTSTAMP:20260421T170049
CREATED:20180818T112928Z
LAST-MODIFIED:20180818T112928Z
UID:16330-1538510400-1538510400@cassero.it
SUMMARY:CONVOCAZIONE CONGRESSO DEL COMITATO TERRITORIALE  ARCIGAY IL CASSERO
DESCRIPTION:CONVOCAZIONE CONGRESSO DEL COMITATO TERRITORIALE \nARCIGAY IL CASSERO  \nIn prima convocazione  \nLUNEDI 1 OTTOBRE 2018 alle ore 7.00  \ne in seconda convocazione  \nMARTEDI 2 OTTOBRE 2018 alle ore 20.00 \npresso la sede in via don Minzoni\, 18 – Bologna \nPer discutere il seguente ordine del giorno:  \n\n\nPresentazione e votazione mozioni  \n\n\nPresentazione e votazione delegat* al Congresso \n\n\nDiscussione ordini del giorno per modifiche statutarie \n\n\nDiscussione ordini del giorno politici \n\n\nVarie ed Eventuali \n\n\nIl Consiglio Direttivo \nPer informazioni sull’accreditamento e sul regolamento congressuale\, visita il sito www.cassero.it \nREGOLAMENTO DI FUNZIONAMENTO DEL CONGRESSO DEL COMITATO TERRITORIALE ARCIGAY IL CASSERO DI BOLOGNA \n\n\nModalità di presentazione delle candidature a delegato/a: \n\n\nle candidature dei delegati al Congresso Nazionale dovranno pervenire tramite e-mail entro le ore 12 di venerdi 31 agosto 2018 all’indirizzo direttivo@cassero.it. La comunicazione deve avere come oggetto la dicitura “Candidatura delegato/a Congresso Arcigay” e come testo nome\, cognome e data di nascita. Potranno candidarsi solo soci e socie con tessera conforme ai requisiti di accreditamento (verificare le condizioni di accreditamento al voto). \n\n\nOrdini del giorno e modifiche statutarie: \n\n\nle proposte di Ordine del Giorno e di modifiche statutarie vanno presentate via e-mail e supportate da almeno 20 soci/e firmatari/e entro le ore 12\,00 della data di prima convocazione o\, se deserta\, entro le ore 12 della data della seconda convocazione\, indirizzate al Consiglio Direttivo che è tenuto a renderle pubbliche con modalità che garantiscano la massima visibilità e diffusione possibile. Potranno sottoscrivere tali documenti solo soci e socie con tessera conforme ai requisiti di accreditamento (verificare le condizioni di accreditamento al voto). Le proposte vanno inviate a direttivo@cassero.it con oggetto “ordini del giorno” o “modifiche statutarie”. \n\nModalità di accreditamento:\n\nL’accreditamento consiste nell’assegnazione di una scheda di voto precedentemente numerata\, timbrata e vidimata; comincia 20 minuti prima dell’inizio del Congresso Territoriale e si sospende durante la fase di voto. \nHanno diritto di voto le socie ed i soci Arcigay del Comitato Arcigay “Il Cassero” in regola con la quota annuale di tesseramento e in possesso di un documento d’identità. \n\n\nDelega al voto: \n\n\nin nessun caso è previsto l’utilizzo di deleghe al voto (cfr. Statuto art 12). \n\n\nPresidenza e segreteria del congresso: \n\n\nil Congresso Territoriale viene aperto dal Presidente del Comitato\, che propone il nominativo di due soci/e per la presidenza e la segreteria del Congresso. I soci proposti per i ruoli di presidente e segretario non possono essere candidati ad alcun ruolo elettivo.  \n\n\nMozioni d’ordine: \n\n\nvanno presentate in forma scritta al Presidente del Congresso. \n\n\nModifiche al presente regolamento: \n\n\nIl presente Regolamento può essere sottoposto a modifica dal Congresso Territoriale con il voto favorevole della metà più uno dei presenti. \nIl presente regolamento potrà essere modificato anche in sede congressuale\, se in contrasto con le norme statutarie dell’Arcigay Nazionale e/o del Comitato Territoriale Arcigay Il Cassero. \nOgni disposizione di questo regolamento è vincolante\, fatto salvo lo Statuto del Comitato Territoriale Arcigay Il Cassero e quanto dispone lo statuto Nazionale Arcigay. \nIl consiglio direttivo \nINFORMATIVA PER I SOCI E LE SOCIE SULLE REGOLE DI ACCREDITAMENTO AL CONGRESSO DEL 2 OTTOBRE 2018 \ncon le modifiche statutarie intercorse dopo il Congresso Nazionale di Arcigay (13-15 novembre 2015) le modalità di appartenenza dei soci ai comitati territoriali sono mutate. In base a ciò si rende noto che\, in occasione del prossimo Congresso del Cassero\,  \nPOTRANNO VOTARE tutti i soci e le socie del Cassero in regola con il pagamento della quota sociale della tessera Arcigay: \n\n\nfatta presso “il Cassero” entro la data del 16 agosto 2018 (data di convocazione del Congresso) indipendentemente dalla propria residenza; \n\n\nfatta in un comitato territoriale diverso dal Cassero con successivo accoglimento\, da parte del direttivo di quest’ultimo\, di una formale richiesta di adesione presentata e ratificata entro la data del 16 agosto 2018;  \n\n\nNON POTRANNO invece ESSERE ACCREDITATI AL VOTO coloro che\, in possesso di regolare tessera Arcigay: \n\n\nsi siano iscritt* al Cassero o abbiano richiesto il trasferimento ad esso in data successiva al 17 agosto 2018;  \n\n\nsi siano iscritt* in uno qualunque dei circoli ricreativi del circuito Arcigay e all’atto dell’iscrizione avessero la residenza in una provincia diversa da quella di Bologna (farà fede la residenza registrata nel database di Arcigay);  \n\n\nsi siano iscritt* in un comitato territoriale diverso dal Cassero e non abbiano fatto richiesta di trasferimento al direttivo del Cassero entro la data del 27 marzo 2017;  \n\n\nNB Per ogni controversia inerente l’ammissione al voto deciderà la commissione elettorale  \ncon Comitato Territoriale si intende un circolo Arcigay di qualunque tipologia (politico o ricreativo); Prima della riforma statutaria del 2012 con Comitato Provinciale si intendeva ogni circolo politico Arcigay; con Circolo Ricreativo si intendevano cruising bars\, saune\, locali di intrattenimento musicale  \nIl Direttivo del Cassero
URL:https://cassero.it/evento/convocazione-congresso-del-comitato-territoriale-arcigay-il-cassero-2/
CATEGORIES:Attivismo
ATTACH;FMTTYPE=:
END:VEVENT
BEGIN:VEVENT
DTSTART;TZID=Europe/Rome:20180628T213000
DTEND;TZID=Europe/Rome:20180628T213000
DTSTAMP:20260421T170049
CREATED:20180526T090345Z
LAST-MODIFIED:20180526T090345Z
UID:16267-1530221400-1530221400@cassero.it
SUMMARY:THE ITALIAN MISS ALTERNATIVE
DESCRIPTION:Rullino i tamburi\, trillino le trombe! \nIl Cassero LGBTI center è lieto di presentare la XIII EDIZION di \n*** THE ITALIAN MISS ALTERNATIVE “SCOPERTE” –Alla ricerca del tacco perduto *** \nPresentano lo scoppiettante Matteo Miglio DIVINE e l’alternativamente fantastica #MISSPingy (Salvatore Pinto) \nL’unico concorso in Italia in cui materiali di quotidiano utilizzo si trasformano in abiti di alta moda che sfileranno sullo sfondo della Salara per creare un’atmosfera magica in cui il sogno diventa realtà! \nI ricavati della a serata saranno devoluti per portare avanti o far nascere progetti che si occupano di sostegno alla prevenzione e promozione della salute\, in stretta collaborazione con Cassero Salute \nRestate sintonizzat* su questo evento per scoprire le novità che\, giorno dopo giorno\, verranno svelate! \nDirezione artistica Magda Aliena\nGrafica by Andrea Perghem #Madlen \nINGRESSO 10 EURO (in piedi) / 20 EURO (posto a sedere) / 50 EURO (giuria) \nSI RINGRAZIANO GLI SPONSOR\nHotel Fontanelle\nOff Bologna\nLa Truccheria\nIl Barattolo\nEni Station – Campazzi \n▶︎ SI’ VUOL DIRE SI’\, NO VUOL DIRE NO ◀︎ \nIn questo spazio ogni persona deve sentirsi accolta e benvenuta. Omofobia\, transfobia\, sessismo\, maschilismo\, razzismo e fascismo non sono ammessi. Il consenso è indispensabile nelle interazioni fra tutti i generi e può essere revocato in qualunque momento. Il consenso dev’essere esplicito; quando sei nel dubbio\, considera che se non è un assolutamente sì\, è un assolutamente no. \n  \n\nACQUISTO BIGLIETTI ONLINE \nPrevendite online chiuse. I biglietti acquistati potranno essere ritirati alla cassa\, la sera stessa dell’evento.
URL:https://cassero.it/evento/the-italian-miss-alternative-3/
CATEGORIES:Attivismo,primo piano
ATTACH;FMTTYPE=:
END:VEVENT
BEGIN:VEVENT
DTSTART;TZID=Europe/Rome:20180625T210000
DTEND;TZID=Europe/Rome:20180625T210000
DTSTAMP:20260421T170049
CREATED:20180515T093833Z
LAST-MODIFIED:20180515T093833Z
UID:16247-1529960400-1529960400@cassero.it
SUMMARY:PeopAll
DESCRIPTION:
URL:https://cassero.it/evento/peopall-61-2/
CATEGORIES:Attivismo
END:VEVENT
BEGIN:VEVENT
DTSTART;TZID=Europe/Rome:20180625T210000
DTEND;TZID=Europe/Rome:20180625T210000
DTSTAMP:20260421T170049
CREATED:20180515T093833Z
LAST-MODIFIED:20180515T093833Z
UID:5657-1529960400-1529960400@cassero.it
SUMMARY:PeopAll
DESCRIPTION:
URL:https://cassero.it/evento/peopall-61/
CATEGORIES:Attivismo
END:VEVENT
BEGIN:VEVENT
DTSTART;TZID=Europe/Rome:20180618T210000
DTEND;TZID=Europe/Rome:20180618T210000
DTSTAMP:20260421T170049
CREATED:20180515T093754Z
LAST-MODIFIED:20180515T093754Z
UID:16246-1529355600-1529355600@cassero.it
SUMMARY:PeopAll
DESCRIPTION:
URL:https://cassero.it/evento/peopall-60-2/
CATEGORIES:Attivismo
END:VEVENT
BEGIN:VEVENT
DTSTART;TZID=Europe/Rome:20180618T210000
DTEND;TZID=Europe/Rome:20180618T210000
DTSTAMP:20260421T170049
CREATED:20180515T093754Z
LAST-MODIFIED:20180515T093754Z
UID:5655-1529355600-1529355600@cassero.it
SUMMARY:PeopAll
DESCRIPTION:
URL:https://cassero.it/evento/peopall-60/
CATEGORIES:Attivismo
END:VEVENT
BEGIN:VEVENT
DTSTART;TZID=Europe/Rome:20180611T210000
DTEND;TZID=Europe/Rome:20180611T210000
DTSTAMP:20260421T170049
CREATED:20180515T093730Z
LAST-MODIFIED:20180515T093730Z
UID:5653-1528750800-1528750800@cassero.it
SUMMARY:PeopAll
DESCRIPTION:
URL:https://cassero.it/evento/peopall-59/
CATEGORIES:Attivismo
END:VEVENT
BEGIN:VEVENT
DTSTART;TZID=Europe/Rome:20180611T210000
DTEND;TZID=Europe/Rome:20180611T210000
DTSTAMP:20260421T170049
CREATED:20180515T093730Z
LAST-MODIFIED:20180515T093730Z
UID:16245-1528750800-1528750800@cassero.it
SUMMARY:PeopAll
DESCRIPTION:
URL:https://cassero.it/evento/peopall-59-2/
CATEGORIES:Attivismo
END:VEVENT
BEGIN:VEVENT
DTSTART;TZID=Europe/Rome:20180604T210000
DTEND;TZID=Europe/Rome:20180604T210000
DTSTAMP:20260421T170049
CREATED:20180515T093642Z
LAST-MODIFIED:20180515T093642Z
UID:16244-1528146000-1528146000@cassero.it
SUMMARY:PeopAll
DESCRIPTION:
URL:https://cassero.it/evento/peopall-58-2/
CATEGORIES:Attivismo
END:VEVENT
BEGIN:VEVENT
DTSTART;TZID=Europe/Rome:20180604T210000
DTEND;TZID=Europe/Rome:20180604T210000
DTSTAMP:20260421T170049
CREATED:20180515T093642Z
LAST-MODIFIED:20180515T093642Z
UID:5651-1528146000-1528146000@cassero.it
SUMMARY:PeopAll
DESCRIPTION:
URL:https://cassero.it/evento/peopall-58/
CATEGORIES:Attivismo
END:VEVENT
BEGIN:VEVENT
DTSTART;TZID=Europe/Rome:20180528T200000
DTEND;TZID=Europe/Rome:20180528T200000
DTSTAMP:20260421T170049
CREATED:20180416T132832Z
LAST-MODIFIED:20180416T132832Z
UID:16204-1527537600-1527537600@cassero.it
SUMMARY:PeopAll
DESCRIPTION:Riunione in sala disco
URL:https://cassero.it/evento/peopall-53-2/
CATEGORIES:Attivismo
END:VEVENT
END:VCALENDAR