BEGIN:VCALENDAR
VERSION:2.0
PRODID:-//Cassero - ECPv6.15.20//NONSGML v1.0//EN
CALSCALE:GREGORIAN
METHOD:PUBLISH
X-ORIGINAL-URL:https://cassero.it
X-WR-CALDESC:Eventi per Cassero
REFRESH-INTERVAL;VALUE=DURATION:PT1H
X-Robots-Tag:noindex
X-PUBLISHED-TTL:PT1H
BEGIN:VTIMEZONE
TZID:Europe/Rome
BEGIN:DAYLIGHT
TZOFFSETFROM:+0100
TZOFFSETTO:+0200
TZNAME:CEST
DTSTART:20170326T010000
END:DAYLIGHT
BEGIN:STANDARD
TZOFFSETFROM:+0200
TZOFFSETTO:+0100
TZNAME:CET
DTSTART:20171029T010000
END:STANDARD
BEGIN:DAYLIGHT
TZOFFSETFROM:+0100
TZOFFSETTO:+0200
TZNAME:CEST
DTSTART:20180325T010000
END:DAYLIGHT
BEGIN:STANDARD
TZOFFSETFROM:+0200
TZOFFSETTO:+0100
TZNAME:CET
DTSTART:20181028T010000
END:STANDARD
BEGIN:DAYLIGHT
TZOFFSETFROM:+0100
TZOFFSETTO:+0200
TZNAME:CEST
DTSTART:20190331T010000
END:DAYLIGHT
BEGIN:STANDARD
TZOFFSETFROM:+0200
TZOFFSETTO:+0100
TZNAME:CET
DTSTART:20191027T010000
END:STANDARD
END:VTIMEZONE
BEGIN:VEVENT
DTSTART;TZID=Europe/Rome:20180519T163000
DTEND;TZID=Europe/Rome:20180519T163000
DTSTAMP:20260422T003000
CREATED:20180416T133125Z
LAST-MODIFIED:20180416T133125Z
UID:16207-1526747400-1526747400@cassero.it
SUMMARY:PeopAll
DESCRIPTION:Riunione in spazio divanetti a fianco del Centro di Documentazione
URL:https://cassero.it/evento/peopall-56-2/
CATEGORIES:Attivismo
END:VEVENT
BEGIN:VEVENT
DTSTART;TZID=Europe/Rome:20180519T163000
DTEND;TZID=Europe/Rome:20180519T163000
DTSTAMP:20260422T003000
CREATED:20180416T133125Z
LAST-MODIFIED:20180416T133125Z
UID:5498-1526747400-1526747400@cassero.it
SUMMARY:PeopAll
DESCRIPTION:Riunione in spazio divanetti a fianco del Centro di Documentazione
URL:https://cassero.it/evento/peopall-56/
CATEGORIES:Attivismo
END:VEVENT
BEGIN:VEVENT
DTSTART;TZID=Europe/Rome:20180514T200000
DTEND;TZID=Europe/Rome:20180514T200000
DTSTAMP:20260422T003000
CREATED:20180416T132651Z
LAST-MODIFIED:20180416T132651Z
UID:16202-1526328000-1526328000@cassero.it
SUMMARY:PeopAll
DESCRIPTION:Riunione in sala disco
URL:https://cassero.it/evento/peopall-51-2/
CATEGORIES:Attivismo
END:VEVENT
BEGIN:VEVENT
DTSTART;TZID=Europe/Rome:20180514T200000
DTEND;TZID=Europe/Rome:20180514T200000
DTSTAMP:20260422T003000
CREATED:20180416T132651Z
LAST-MODIFIED:20180416T132651Z
UID:5488-1526328000-1526328000@cassero.it
SUMMARY:PeopAll
DESCRIPTION:Riunione in sala disco
URL:https://cassero.it/evento/peopall-51/
CATEGORIES:Attivismo
END:VEVENT
BEGIN:VEVENT
DTSTART;TZID=Europe/Rome:20180512T163000
DTEND;TZID=Europe/Rome:20180512T163000
DTSTAMP:20260422T003000
CREATED:20180416T133053Z
LAST-MODIFIED:20180416T133053Z
UID:16206-1526142600-1526142600@cassero.it
SUMMARY:PeopAll
DESCRIPTION:Riunione in spazio divanetti a fianco del Centro di Documentazione
URL:https://cassero.it/evento/peopall-55-2/
CATEGORIES:Attivismo
END:VEVENT
BEGIN:VEVENT
DTSTART;TZID=Europe/Rome:20180512T163000
DTEND;TZID=Europe/Rome:20180512T163000
DTSTAMP:20260422T003000
CREATED:20180416T133053Z
LAST-MODIFIED:20180416T133053Z
UID:5496-1526142600-1526142600@cassero.it
SUMMARY:PeopAll
DESCRIPTION:Riunione in spazio divanetti a fianco del Centro di Documentazione
URL:https://cassero.it/evento/peopall-55/
CATEGORIES:Attivismo
END:VEVENT
BEGIN:VEVENT
DTSTART;TZID=Europe/Rome:20180507T200000
DTEND;TZID=Europe/Rome:20180507T200000
DTSTAMP:20260422T003000
CREATED:20180416T132625Z
LAST-MODIFIED:20180416T132625Z
UID:16201-1525723200-1525723200@cassero.it
SUMMARY:PeopAll
DESCRIPTION:Riunione in sala disco
URL:https://cassero.it/evento/peopall-50-2/
CATEGORIES:Attivismo
END:VEVENT
BEGIN:VEVENT
DTSTART;TZID=Europe/Rome:20180507T200000
DTEND;TZID=Europe/Rome:20180507T200000
DTSTAMP:20260422T003000
CREATED:20180416T132625Z
LAST-MODIFIED:20180416T132625Z
UID:5486-1525723200-1525723200@cassero.it
SUMMARY:PeopAll
DESCRIPTION:Riunione in sala disco
URL:https://cassero.it/evento/peopall-50/
CATEGORIES:Attivismo
END:VEVENT
BEGIN:VEVENT
DTSTART;TZID=Europe/Rome:20180505T163000
DTEND;TZID=Europe/Rome:20180505T170000
DTSTAMP:20260422T003000
CREATED:20180416T133015Z
LAST-MODIFIED:20180416T133015Z
UID:5494-1525537800-1525539600@cassero.it
SUMMARY:PeopAll
DESCRIPTION:Riunione in spazio divanetti a fianco del Centro di Documentazione
URL:https://cassero.it/evento/peopall-54/
CATEGORIES:Attivismo
END:VEVENT
BEGIN:VEVENT
DTSTART;TZID=Europe/Rome:20180505T163000
DTEND;TZID=Europe/Rome:20180505T170000
DTSTAMP:20260422T003000
CREATED:20180416T133015Z
LAST-MODIFIED:20180416T133015Z
UID:16205-1525537800-1525539600@cassero.it
SUMMARY:PeopAll
DESCRIPTION:Riunione in spazio divanetti a fianco del Centro di Documentazione
URL:https://cassero.it/evento/peopall-54-2/
CATEGORIES:Attivismo
END:VEVENT
BEGIN:VEVENT
DTSTART;TZID=Europe/Rome:20180430T200000
DTEND;TZID=Europe/Rome:20180430T200000
DTSTAMP:20260422T003000
CREATED:20180314T101141Z
LAST-MODIFIED:20180314T101141Z
UID:16170-1525118400-1525118400@cassero.it
SUMMARY:PeopAll
DESCRIPTION:
URL:https://cassero.it/evento/peopall-47-2/
CATEGORIES:Attivismo
END:VEVENT
BEGIN:VEVENT
DTSTART;TZID=Europe/Rome:20180430T200000
DTEND;TZID=Europe/Rome:20180430T200000
DTSTAMP:20260422T003000
CREATED:20180314T101141Z
LAST-MODIFIED:20180314T101141Z
UID:5350-1525118400-1525118400@cassero.it
SUMMARY:PeopAll
DESCRIPTION:
URL:https://cassero.it/evento/peopall-47/
CATEGORIES:Attivismo
END:VEVENT
BEGIN:VEVENT
DTSTART;TZID=Europe/Rome:20180428T163000
DTEND;TZID=Europe/Rome:20180428T163000
DTSTAMP:20260422T003000
CREATED:20180314T101302Z
LAST-MODIFIED:20180314T101302Z
UID:5354-1524933000-1524933000@cassero.it
SUMMARY:PeopAll
DESCRIPTION:
URL:https://cassero.it/evento/peopall-49/
CATEGORIES:Attivismo
END:VEVENT
BEGIN:VEVENT
DTSTART;TZID=Europe/Rome:20180428T163000
DTEND;TZID=Europe/Rome:20180428T163000
DTSTAMP:20260422T003000
CREATED:20180314T101302Z
LAST-MODIFIED:20180314T101302Z
UID:16172-1524933000-1524933000@cassero.it
SUMMARY:PeopAll
DESCRIPTION:
URL:https://cassero.it/evento/peopall-49-2/
CATEGORIES:Attivismo
END:VEVENT
BEGIN:VEVENT
DTSTART;TZID=Europe/Rome:20180423T200000
DTEND;TZID=Europe/Rome:20180423T200000
DTSTAMP:20260422T003000
CREATED:20180314T101115Z
LAST-MODIFIED:20180314T101115Z
UID:16169-1524513600-1524513600@cassero.it
SUMMARY:PeopAll
DESCRIPTION:
URL:https://cassero.it/evento/peopall-46-2/
CATEGORIES:Attivismo
END:VEVENT
BEGIN:VEVENT
DTSTART;TZID=Europe/Rome:20180423T200000
DTEND;TZID=Europe/Rome:20180423T200000
DTSTAMP:20260422T003000
CREATED:20180314T101115Z
LAST-MODIFIED:20180314T101115Z
UID:5348-1524513600-1524513600@cassero.it
SUMMARY:PeopAll
DESCRIPTION:
URL:https://cassero.it/evento/peopall-46/
CATEGORIES:Attivismo
END:VEVENT
BEGIN:VEVENT
DTSTART;TZID=Europe/Rome:20180416T200000
DTEND;TZID=Europe/Rome:20180416T200000
DTSTAMP:20260422T003000
CREATED:20180314T101045Z
LAST-MODIFIED:20180314T101045Z
UID:16168-1523908800-1523908800@cassero.it
SUMMARY:PeopAll
DESCRIPTION:
URL:https://cassero.it/evento/peopall-45-2/
CATEGORIES:Attivismo
END:VEVENT
BEGIN:VEVENT
DTSTART;TZID=Europe/Rome:20180416T200000
DTEND;TZID=Europe/Rome:20180416T200000
DTSTAMP:20260422T003000
CREATED:20180314T101045Z
LAST-MODIFIED:20180314T101045Z
UID:5346-1523908800-1523908800@cassero.it
SUMMARY:PeopAll
DESCRIPTION:
URL:https://cassero.it/evento/peopall-45/
CATEGORIES:Attivismo
END:VEVENT
BEGIN:VEVENT
DTSTART;TZID=Europe/Rome:20180414T163000
DTEND;TZID=Europe/Rome:20180414T163000
DTSTAMP:20260422T003000
CREATED:20180314T101231Z
LAST-MODIFIED:20180314T101231Z
UID:5352-1523723400-1523723400@cassero.it
SUMMARY:Peopall
DESCRIPTION:
URL:https://cassero.it/evento/peopall-48/
CATEGORIES:Attivismo
END:VEVENT
BEGIN:VEVENT
DTSTART;TZID=Europe/Rome:20180414T163000
DTEND;TZID=Europe/Rome:20180414T163000
DTSTAMP:20260422T003000
CREATED:20180314T101231Z
LAST-MODIFIED:20180314T101231Z
UID:16171-1523723400-1523723400@cassero.it
SUMMARY:Peopall
DESCRIPTION:
URL:https://cassero.it/evento/peopall-48-2/
CATEGORIES:Attivismo
END:VEVENT
BEGIN:VEVENT
DTSTART;TZID=Europe/Rome:20180409T200000
DTEND;TZID=Europe/Rome:20180409T200000
DTSTAMP:20260422T003000
CREATED:20180314T101012Z
LAST-MODIFIED:20180314T101012Z
UID:5344-1523304000-1523304000@cassero.it
SUMMARY:PeopAll
DESCRIPTION:
URL:https://cassero.it/evento/peopall-44/
CATEGORIES:Attivismo
END:VEVENT
BEGIN:VEVENT
DTSTART;TZID=Europe/Rome:20180409T200000
DTEND;TZID=Europe/Rome:20180409T200000
DTSTAMP:20260422T003000
CREATED:20180314T101012Z
LAST-MODIFIED:20180314T101012Z
UID:16167-1523304000-1523304000@cassero.it
SUMMARY:PeopAll
DESCRIPTION:
URL:https://cassero.it/evento/peopall-44-2/
CATEGORIES:Attivismo
END:VEVENT
BEGIN:VEVENT
DTSTART;TZID=Europe/Rome:20180326T203000
DTEND;TZID=Europe/Rome:20180326T203000
DTSTAMP:20260422T003000
CREATED:20180219T101309Z
LAST-MODIFIED:20180219T101309Z
UID:5267-1522096200-1522096200@cassero.it
SUMMARY:PeopAll
DESCRIPTION:
URL:https://cassero.it/evento/peopall-43/
CATEGORIES:Attivismo
END:VEVENT
BEGIN:VEVENT
DTSTART;TZID=Europe/Rome:20180326T203000
DTEND;TZID=Europe/Rome:20180326T203000
DTSTAMP:20260422T003000
CREATED:20180219T101309Z
LAST-MODIFIED:20180219T101309Z
UID:16146-1522096200-1522096200@cassero.it
SUMMARY:PeopAll
DESCRIPTION:
URL:https://cassero.it/evento/peopall-43-2/
CATEGORIES:Attivismo
END:VEVENT
BEGIN:VEVENT
DTSTART;TZID=Europe/Rome:20180319T203000
DTEND;TZID=Europe/Rome:20180319T203000
DTSTAMP:20260422T003000
CREATED:20180219T101058Z
LAST-MODIFIED:20180219T101058Z
UID:5265-1521491400-1521491400@cassero.it
SUMMARY:PeopAll
DESCRIPTION:
URL:https://cassero.it/evento/peopall-42/
CATEGORIES:Attivismo
END:VEVENT
BEGIN:VEVENT
DTSTART;TZID=Europe/Rome:20180319T203000
DTEND;TZID=Europe/Rome:20180319T203000
DTSTAMP:20260422T003000
CREATED:20180219T101058Z
LAST-MODIFIED:20180219T101058Z
UID:16145-1521491400-1521491400@cassero.it
SUMMARY:PeopAll
DESCRIPTION:
URL:https://cassero.it/evento/peopall-42-2/
CATEGORIES:Attivismo
END:VEVENT
BEGIN:VEVENT
DTSTART;TZID=Europe/Rome:20180312T203000
DTEND;TZID=Europe/Rome:20180312T203000
DTSTAMP:20260422T003000
CREATED:20180219T101022Z
LAST-MODIFIED:20180219T101022Z
UID:16144-1520886600-1520886600@cassero.it
SUMMARY:PeopAll
DESCRIPTION:
URL:https://cassero.it/evento/peopall-41-2/
CATEGORIES:Attivismo
END:VEVENT
BEGIN:VEVENT
DTSTART;TZID=Europe/Rome:20180312T203000
DTEND;TZID=Europe/Rome:20180312T203000
DTSTAMP:20260422T003000
CREATED:20180219T101022Z
LAST-MODIFIED:20180219T101022Z
UID:5263-1520886600-1520886600@cassero.it
SUMMARY:PeopAll
DESCRIPTION:
URL:https://cassero.it/evento/peopall-41/
CATEGORIES:Attivismo
END:VEVENT
BEGIN:VEVENT
DTSTART;TZID=Europe/Rome:20180305T203000
DTEND;TZID=Europe/Rome:20180305T203000
DTSTAMP:20260422T003000
CREATED:20180219T100955Z
LAST-MODIFIED:20180219T100955Z
UID:16143-1520281800-1520281800@cassero.it
SUMMARY:PeopAll
DESCRIPTION:
URL:https://cassero.it/evento/peopall-40-2/
CATEGORIES:Attivismo
END:VEVENT
BEGIN:VEVENT
DTSTART;TZID=Europe/Rome:20180305T203000
DTEND;TZID=Europe/Rome:20180305T203000
DTSTAMP:20260422T003000
CREATED:20180219T100955Z
LAST-MODIFIED:20180219T100955Z
UID:5261-1520281800-1520281800@cassero.it
SUMMARY:PeopAll
DESCRIPTION:
URL:https://cassero.it/evento/peopall-40/
CATEGORIES:Attivismo
END:VEVENT
END:VCALENDAR