BEGIN:VCALENDAR
VERSION:2.0
PRODID:-//Cassero - ECPv6.15.20//NONSGML v1.0//EN
CALSCALE:GREGORIAN
METHOD:PUBLISH
X-ORIGINAL-URL:https://cassero.it
X-WR-CALDESC:Eventi per Cassero
REFRESH-INTERVAL;VALUE=DURATION:PT1H
X-Robots-Tag:noindex
X-PUBLISHED-TTL:PT1H
BEGIN:VTIMEZONE
TZID:Europe/Helsinki
BEGIN:DAYLIGHT
TZOFFSETFROM:+0200
TZOFFSETTO:+0300
TZNAME:EEST
DTSTART:20230326T010000
END:DAYLIGHT
BEGIN:STANDARD
TZOFFSETFROM:+0300
TZOFFSETTO:+0200
TZNAME:EET
DTSTART:20231029T010000
END:STANDARD
BEGIN:DAYLIGHT
TZOFFSETFROM:+0200
TZOFFSETTO:+0300
TZNAME:EEST
DTSTART:20240331T010000
END:DAYLIGHT
BEGIN:STANDARD
TZOFFSETFROM:+0300
TZOFFSETTO:+0200
TZNAME:EET
DTSTART:20241027T010000
END:STANDARD
BEGIN:DAYLIGHT
TZOFFSETFROM:+0200
TZOFFSETTO:+0300
TZNAME:EEST
DTSTART:20250330T010000
END:DAYLIGHT
BEGIN:STANDARD
TZOFFSETFROM:+0300
TZOFFSETTO:+0200
TZNAME:EET
DTSTART:20251026T010000
END:STANDARD
END:VTIMEZONE
BEGIN:VEVENT
DTSTART;TZID=Europe/Helsinki:20240525T103000
DTEND;TZID=Europe/Helsinki:20240525T103000
DTSTAMP:20260426T052047
CREATED:20240201T135803Z
LAST-MODIFIED:20240201T135803Z
UID:19102-1716633000-1716633000@cassero.it
SUMMARY:TANTE STORIE TUTTE BELLISSIME: EMILY UNA DRAGHETTA SPECIALE
DESCRIPTION:Emily una draghetta speciale\ndi Francesca Marra e Giovanni Frasconi\n(Lapis\, 2018) \nOgni drago che si rispetti dovrebbe sputare fuoco\, ma non la piccola Emily. Lei è speciale… \nEtà di lettura: da 3 anni \nCBF Populonia\nVia Populonia\, 2\nTel. 051.2199835
URL:https://cassero.it/evento/tante-storie-tutte-bellissime-emily-una-draghetta-speciale/
LOCATION:CBF Populonia\, Via Populonia 2\, Bologna
CATEGORIES:Biblioteca
ATTACH;FMTTYPE=image/png:https://cassero.it/wp-content/uploads/2024/02/Tante-storie-2024.png
END:VEVENT
END:VCALENDAR