BEGIN:VCALENDAR
VERSION:2.0
PRODID:-//Cassero - ECPv6.15.20//NONSGML v1.0//EN
CALSCALE:GREGORIAN
METHOD:PUBLISH
X-ORIGINAL-URL:https://cassero.it
X-WR-CALDESC:Eventi per Cassero
REFRESH-INTERVAL;VALUE=DURATION:PT1H
X-Robots-Tag:noindex
X-PUBLISHED-TTL:PT1H
BEGIN:VTIMEZONE
TZID:Europe/Rome
BEGIN:DAYLIGHT
TZOFFSETFROM:+0100
TZOFFSETTO:+0200
TZNAME:CEST
DTSTART:20170326T010000
END:DAYLIGHT
BEGIN:STANDARD
TZOFFSETFROM:+0200
TZOFFSETTO:+0100
TZNAME:CET
DTSTART:20171029T010000
END:STANDARD
BEGIN:DAYLIGHT
TZOFFSETFROM:+0100
TZOFFSETTO:+0200
TZNAME:CEST
DTSTART:20180325T010000
END:DAYLIGHT
BEGIN:STANDARD
TZOFFSETFROM:+0200
TZOFFSETTO:+0100
TZNAME:CET
DTSTART:20181028T010000
END:STANDARD
BEGIN:DAYLIGHT
TZOFFSETFROM:+0100
TZOFFSETTO:+0200
TZNAME:CEST
DTSTART:20190331T010000
END:DAYLIGHT
BEGIN:STANDARD
TZOFFSETFROM:+0200
TZOFFSETTO:+0100
TZNAME:CET
DTSTART:20191027T010000
END:STANDARD
END:VTIMEZONE
BEGIN:VEVENT
DTSTART;TZID=Europe/Rome:20180514T190000
DTEND;TZID=Europe/Rome:20180514T190000
DTSTAMP:20260422T132904
CREATED:20180416T132413Z
LAST-MODIFIED:20180416T132413Z
UID:16198-1526324400-1526324400@cassero.it
SUMMARY:La Falla - Riunione di Redazione
DESCRIPTION:
URL:https://cassero.it/evento/la-falla-riunione-di-redazione-2-2/
CATEGORIES:La Falla
END:VEVENT
BEGIN:VEVENT
DTSTART;TZID=Europe/Rome:20180507T190000
DTEND;TZID=Europe/Rome:20180507T190000
DTSTAMP:20260422T132904
CREATED:20180416T132344Z
LAST-MODIFIED:20180416T132344Z
UID:5478-1525719600-1525719600@cassero.it
SUMMARY:La Falla - Riunione di Redazione
DESCRIPTION:
URL:https://cassero.it/evento/la-falla-riunione-di-redazione/
CATEGORIES:La Falla
END:VEVENT
BEGIN:VEVENT
DTSTART;TZID=Europe/Rome:20180507T190000
DTEND;TZID=Europe/Rome:20180507T190000
DTSTAMP:20260422T132904
CREATED:20180416T132344Z
LAST-MODIFIED:20180416T132344Z
UID:16197-1525719600-1525719600@cassero.it
SUMMARY:La Falla - Riunione di Redazione
DESCRIPTION:
URL:https://cassero.it/evento/la-falla-riunione-di-redazione-30/
CATEGORIES:La Falla
END:VEVENT
BEGIN:VEVENT
DTSTART;TZID=Europe/Rome:20180430T190000
DTEND;TZID=Europe/Rome:20180430T190000
DTSTAMP:20260422T132904
CREATED:20180314T095600Z
LAST-MODIFIED:20180314T095600Z
UID:5334-1525114800-1525114800@cassero.it
SUMMARY:La Falla- Riunione di Redazione
DESCRIPTION:
URL:https://cassero.it/evento/la-falla-riunione-redazione-13/
CATEGORIES:La Falla
END:VEVENT
BEGIN:VEVENT
DTSTART;TZID=Europe/Rome:20180430T190000
DTEND;TZID=Europe/Rome:20180430T190000
DTSTAMP:20260422T132904
CREATED:20180314T095600Z
LAST-MODIFIED:20180314T095600Z
UID:16162-1525114800-1525114800@cassero.it
SUMMARY:La Falla- Riunione di Redazione
DESCRIPTION:
URL:https://cassero.it/evento/la-falla-riunione-redazione-13-2/
CATEGORIES:La Falla
END:VEVENT
BEGIN:VEVENT
DTSTART;TZID=Europe/Rome:20180423T190000
DTEND;TZID=Europe/Rome:20180423T190000
DTSTAMP:20260422T132904
CREATED:20180314T095526Z
LAST-MODIFIED:20180314T095526Z
UID:5332-1524510000-1524510000@cassero.it
SUMMARY:La Falla- Riunione di Redazione
DESCRIPTION:
URL:https://cassero.it/evento/la-falla-riunione-redazione-12/
CATEGORIES:La Falla
END:VEVENT
BEGIN:VEVENT
DTSTART;TZID=Europe/Rome:20180423T190000
DTEND;TZID=Europe/Rome:20180423T190000
DTSTAMP:20260422T132904
CREATED:20180314T095526Z
LAST-MODIFIED:20180314T095526Z
UID:16161-1524510000-1524510000@cassero.it
SUMMARY:La Falla- Riunione di Redazione
DESCRIPTION:
URL:https://cassero.it/evento/la-falla-riunione-redazione-12-2/
CATEGORIES:La Falla
END:VEVENT
BEGIN:VEVENT
DTSTART;TZID=Europe/Rome:20180416T190000
DTEND;TZID=Europe/Rome:20180416T190000
DTSTAMP:20260422T132904
CREATED:20180314T095458Z
LAST-MODIFIED:20180314T095458Z
UID:16160-1523905200-1523905200@cassero.it
SUMMARY:La Falla- Riunione di Redazione
DESCRIPTION:
URL:https://cassero.it/evento/la-falla-riunione-redazione-11-2/
CATEGORIES:La Falla
END:VEVENT
BEGIN:VEVENT
DTSTART;TZID=Europe/Rome:20180416T190000
DTEND;TZID=Europe/Rome:20180416T190000
DTSTAMP:20260422T132904
CREATED:20180314T095458Z
LAST-MODIFIED:20180314T095458Z
UID:5330-1523905200-1523905200@cassero.it
SUMMARY:La Falla- Riunione di Redazione
DESCRIPTION:
URL:https://cassero.it/evento/la-falla-riunione-redazione-11/
CATEGORIES:La Falla
END:VEVENT
BEGIN:VEVENT
DTSTART;TZID=Europe/Rome:20180409T190000
DTEND;TZID=Europe/Rome:20180409T190000
DTSTAMP:20260422T132904
CREATED:20180314T095422Z
LAST-MODIFIED:20180314T095422Z
UID:5328-1523300400-1523300400@cassero.it
SUMMARY:La Falla- Riunione di Redazione
DESCRIPTION:
URL:https://cassero.it/evento/la-falla-riunione-redazione-10/
CATEGORIES:La Falla
END:VEVENT
BEGIN:VEVENT
DTSTART;TZID=Europe/Rome:20180409T190000
DTEND;TZID=Europe/Rome:20180409T190000
DTSTAMP:20260422T132904
CREATED:20180314T095422Z
LAST-MODIFIED:20180314T095422Z
UID:16159-1523300400-1523300400@cassero.it
SUMMARY:La Falla- Riunione di Redazione
DESCRIPTION:
URL:https://cassero.it/evento/la-falla-riunione-redazione-10-2/
CATEGORIES:La Falla
END:VEVENT
BEGIN:VEVENT
DTSTART;TZID=Europe/Rome:20180402T190000
DTEND;TZID=Europe/Rome:20180402T190000
DTSTAMP:20260422T132904
CREATED:20180314T095350Z
LAST-MODIFIED:20180314T095350Z
UID:5326-1522695600-1522695600@cassero.it
SUMMARY:La Falla- Riunione di Redazione
DESCRIPTION:
URL:https://cassero.it/evento/la-falla-riunione-redazione-9/
CATEGORIES:La Falla
END:VEVENT
BEGIN:VEVENT
DTSTART;TZID=Europe/Rome:20180402T190000
DTEND;TZID=Europe/Rome:20180402T190000
DTSTAMP:20260422T132904
CREATED:20180314T095350Z
LAST-MODIFIED:20180314T095350Z
UID:16158-1522695600-1522695600@cassero.it
SUMMARY:La Falla- Riunione di Redazione
DESCRIPTION:
URL:https://cassero.it/evento/la-falla-riunione-redazione-9-2/
CATEGORIES:La Falla
END:VEVENT
BEGIN:VEVENT
DTSTART;TZID=Europe/Rome:20180326T190000
DTEND;TZID=Europe/Rome:20180326T190000
DTSTAMP:20260422T132904
CREATED:20180219T100053Z
LAST-MODIFIED:20180219T100053Z
UID:5244-1522090800-1522090800@cassero.it
SUMMARY:La Falla - Riunione di redazione
DESCRIPTION:
URL:https://cassero.it/evento/la-falla-riunione-redazione-8/
CATEGORIES:La Falla
END:VEVENT
BEGIN:VEVENT
DTSTART;TZID=Europe/Rome:20180326T190000
DTEND;TZID=Europe/Rome:20180326T190000
DTSTAMP:20260422T132904
CREATED:20180219T100053Z
LAST-MODIFIED:20180219T100053Z
UID:16136-1522090800-1522090800@cassero.it
SUMMARY:La Falla - Riunione di redazione
DESCRIPTION:
URL:https://cassero.it/evento/la-falla-riunione-redazione-8-2/
CATEGORIES:La Falla
END:VEVENT
BEGIN:VEVENT
DTSTART;TZID=Europe/Rome:20180319T190000
DTEND;TZID=Europe/Rome:20180319T190000
DTSTAMP:20260422T132904
CREATED:20180219T100016Z
LAST-MODIFIED:20180219T100016Z
UID:5242-1521486000-1521486000@cassero.it
SUMMARY:La Falla - Riunione di redazione
DESCRIPTION:
URL:https://cassero.it/evento/la-falla-riunione-redazione-7/
CATEGORIES:La Falla
END:VEVENT
BEGIN:VEVENT
DTSTART;TZID=Europe/Rome:20180319T190000
DTEND;TZID=Europe/Rome:20180319T190000
DTSTAMP:20260422T132904
CREATED:20180219T100016Z
LAST-MODIFIED:20180219T100016Z
UID:16135-1521486000-1521486000@cassero.it
SUMMARY:La Falla - Riunione di redazione
DESCRIPTION:
URL:https://cassero.it/evento/la-falla-riunione-redazione-7-2/
CATEGORIES:La Falla
END:VEVENT
BEGIN:VEVENT
DTSTART;TZID=Europe/Rome:20180312T190000
DTEND;TZID=Europe/Rome:20180312T190000
DTSTAMP:20260422T132904
CREATED:20180219T095947Z
LAST-MODIFIED:20180219T095947Z
UID:5240-1520881200-1520881200@cassero.it
SUMMARY:La Falla - Riunione di redazione
DESCRIPTION:
URL:https://cassero.it/evento/la-falla-riunione-redazione-6/
CATEGORIES:La Falla
END:VEVENT
BEGIN:VEVENT
DTSTART;TZID=Europe/Rome:20180312T190000
DTEND;TZID=Europe/Rome:20180312T190000
DTSTAMP:20260422T132904
CREATED:20180219T095947Z
LAST-MODIFIED:20180219T095947Z
UID:16134-1520881200-1520881200@cassero.it
SUMMARY:La Falla - Riunione di redazione
DESCRIPTION:
URL:https://cassero.it/evento/la-falla-riunione-redazione-6-2/
CATEGORIES:La Falla
END:VEVENT
BEGIN:VEVENT
DTSTART;TZID=Europe/Rome:20180305T190000
DTEND;TZID=Europe/Rome:20180305T190000
DTSTAMP:20260422T132904
CREATED:20180219T095919Z
LAST-MODIFIED:20180219T095919Z
UID:5238-1520276400-1520276400@cassero.it
SUMMARY:La Falla - Riunione di redazione
DESCRIPTION:
URL:https://cassero.it/evento/la-falla-riunione-redazione-5/
CATEGORIES:La Falla
END:VEVENT
BEGIN:VEVENT
DTSTART;TZID=Europe/Rome:20180305T190000
DTEND;TZID=Europe/Rome:20180305T190000
DTSTAMP:20260422T132904
CREATED:20180219T095919Z
LAST-MODIFIED:20180219T095919Z
UID:16133-1520276400-1520276400@cassero.it
SUMMARY:La Falla - Riunione di redazione
DESCRIPTION:
URL:https://cassero.it/evento/la-falla-riunione-redazione-5-2/
CATEGORIES:La Falla
END:VEVENT
BEGIN:VEVENT
DTSTART;TZID=Europe/Rome:20180226T190000
DTEND;TZID=Europe/Rome:20180226T190000
DTSTAMP:20260422T132904
CREATED:20180116T094033Z
LAST-MODIFIED:20180116T094033Z
UID:5048-1519671600-1519671600@cassero.it
SUMMARY:La Falla - Riunione di Redazione
DESCRIPTION:
URL:https://cassero.it/evento/la-falla-riunione-redazione-4/
CATEGORIES:La Falla
END:VEVENT
BEGIN:VEVENT
DTSTART;TZID=Europe/Rome:20180226T190000
DTEND;TZID=Europe/Rome:20180226T190000
DTSTAMP:20260422T132904
CREATED:20180116T094033Z
LAST-MODIFIED:20180116T094033Z
UID:16086-1519671600-1519671600@cassero.it
SUMMARY:La Falla - Riunione di Redazione
DESCRIPTION:
URL:https://cassero.it/evento/la-falla-riunione-redazione-4-2/
CATEGORIES:La Falla
END:VEVENT
BEGIN:VEVENT
DTSTART;TZID=Europe/Rome:20180219T190000
DTEND;TZID=Europe/Rome:20180219T190000
DTSTAMP:20260422T132904
CREATED:20180116T093948Z
LAST-MODIFIED:20180116T093948Z
UID:5046-1519066800-1519066800@cassero.it
SUMMARY:La Falla - Riunione di Redazione
DESCRIPTION:
URL:https://cassero.it/evento/la-falla-riunione-redazione-3/
CATEGORIES:La Falla
END:VEVENT
BEGIN:VEVENT
DTSTART;TZID=Europe/Rome:20180219T190000
DTEND;TZID=Europe/Rome:20180219T190000
DTSTAMP:20260422T132904
CREATED:20180116T093948Z
LAST-MODIFIED:20180116T093948Z
UID:16085-1519066800-1519066800@cassero.it
SUMMARY:La Falla - Riunione di Redazione
DESCRIPTION:
URL:https://cassero.it/evento/la-falla-riunione-redazione-3-2/
CATEGORIES:La Falla
END:VEVENT
BEGIN:VEVENT
DTSTART;TZID=Europe/Rome:20180212T190000
DTEND;TZID=Europe/Rome:20180212T190000
DTSTAMP:20260422T132904
CREATED:20180116T093929Z
LAST-MODIFIED:20180116T093929Z
UID:5043-1518462000-1518462000@cassero.it
SUMMARY:La Falla - Riunione di Redazione
DESCRIPTION:
URL:https://cassero.it/evento/la-falla-riunione-redazione-2/
CATEGORIES:La Falla
END:VEVENT
BEGIN:VEVENT
DTSTART;TZID=Europe/Rome:20180212T190000
DTEND;TZID=Europe/Rome:20180212T190000
DTSTAMP:20260422T132904
CREATED:20180116T093929Z
LAST-MODIFIED:20180116T093929Z
UID:16084-1518462000-1518462000@cassero.it
SUMMARY:La Falla - Riunione di Redazione
DESCRIPTION:
URL:https://cassero.it/evento/la-falla-riunione-redazione-2-2/
CATEGORIES:La Falla
END:VEVENT
BEGIN:VEVENT
DTSTART;TZID=Europe/Rome:20180205T190000
DTEND;TZID=Europe/Rome:20180205T190000
DTSTAMP:20260422T132904
CREATED:20180116T093900Z
LAST-MODIFIED:20180116T093900Z
UID:16083-1517857200-1517857200@cassero.it
SUMMARY:La Falla - Riunione di Redazione
DESCRIPTION:
URL:https://cassero.it/evento/la-falla-riunione-redazione/
CATEGORIES:La Falla
END:VEVENT
BEGIN:VEVENT
DTSTART;TZID=Europe/Rome:20180129T190000
DTEND;TZID=Europe/Rome:20180129T190000
DTSTAMP:20260422T132904
CREATED:20171219T090730Z
LAST-MODIFIED:20171219T090730Z
UID:16065-1517252400-1517252400@cassero.it
SUMMARY:La Falla
DESCRIPTION:Riunione di redazione
URL:https://cassero.it/evento/la-falla-14-2/
CATEGORIES:La Falla
ATTACH;FMTTYPE=:
END:VEVENT
BEGIN:VEVENT
DTSTART;TZID=Europe/Rome:20180129T190000
DTEND;TZID=Europe/Rome:20180129T190000
DTSTAMP:20260422T132904
CREATED:20171219T090730Z
LAST-MODIFIED:20171219T090730Z
UID:4952-1517252400-1517252400@cassero.it
SUMMARY:La Falla
DESCRIPTION:Riunione di redazione
URL:https://cassero.it/evento/la-falla-14/
CATEGORIES:La Falla
ATTACH;FMTTYPE=:
END:VEVENT
END:VCALENDAR