BEGIN:VCALENDAR
VERSION:2.0
PRODID:-//Cassero - ECPv6.15.20//NONSGML v1.0//EN
CALSCALE:GREGORIAN
METHOD:PUBLISH
X-ORIGINAL-URL:https://cassero.it
X-WR-CALDESC:Eventi per Cassero
REFRESH-INTERVAL;VALUE=DURATION:PT1H
X-Robots-Tag:noindex
X-PUBLISHED-TTL:PT1H
BEGIN:VTIMEZONE
TZID:Europe/Rome
BEGIN:DAYLIGHT
TZOFFSETFROM:+0100
TZOFFSETTO:+0200
TZNAME:CEST
DTSTART:20160327T010000
END:DAYLIGHT
BEGIN:STANDARD
TZOFFSETFROM:+0200
TZOFFSETTO:+0100
TZNAME:CET
DTSTART:20161030T010000
END:STANDARD
BEGIN:DAYLIGHT
TZOFFSETFROM:+0100
TZOFFSETTO:+0200
TZNAME:CEST
DTSTART:20170326T010000
END:DAYLIGHT
BEGIN:STANDARD
TZOFFSETFROM:+0200
TZOFFSETTO:+0100
TZNAME:CET
DTSTART:20171029T010000
END:STANDARD
BEGIN:DAYLIGHT
TZOFFSETFROM:+0100
TZOFFSETTO:+0200
TZNAME:CEST
DTSTART:20180325T010000
END:DAYLIGHT
BEGIN:STANDARD
TZOFFSETFROM:+0200
TZOFFSETTO:+0100
TZNAME:CET
DTSTART:20181028T010000
END:STANDARD
END:VTIMEZONE
BEGIN:VEVENT
DTSTART;TZID=Europe/Rome:20171218T160000
DTEND;TZID=Europe/Rome:20171218T170000
DTSTAMP:20260422T191630
CREATED:20171128T083726Z
LAST-MODIFIED:20171128T083726Z
UID:16025-1513612800-1513616400@cassero.it
SUMMARY:La Falla
DESCRIPTION:Riunione di Redazione
URL:https://cassero.it/evento/la-falla-10-2/
CATEGORIES:La Falla
ATTACH;FMTTYPE=:
END:VEVENT
BEGIN:VEVENT
DTSTART;TZID=Europe/Rome:20171218T160000
DTEND;TZID=Europe/Rome:20171218T170000
DTSTAMP:20260422T191630
CREATED:20171128T083726Z
LAST-MODIFIED:20171128T083726Z
UID:4797-1513612800-1513616400@cassero.it
SUMMARY:La Falla
DESCRIPTION:Riunione di Redazione
URL:https://cassero.it/evento/la-falla-10/
CATEGORIES:La Falla
ATTACH;FMTTYPE=:
END:VEVENT
BEGIN:VEVENT
DTSTART;TZID=Europe/Rome:20171211T190000
DTEND;TZID=Europe/Rome:20171211T190000
DTSTAMP:20260422T191630
CREATED:20171128T083551Z
LAST-MODIFIED:20171128T083551Z
UID:16024-1513018800-1513018800@cassero.it
SUMMARY:La Falla
DESCRIPTION:Riunione di redazione
URL:https://cassero.it/evento/la-falla-9-2/
CATEGORIES:La Falla
ATTACH;FMTTYPE=:
END:VEVENT
BEGIN:VEVENT
DTSTART;TZID=Europe/Rome:20171211T190000
DTEND;TZID=Europe/Rome:20171211T190000
DTSTAMP:20260422T191630
CREATED:20171128T083551Z
LAST-MODIFIED:20171128T083551Z
UID:4795-1513018800-1513018800@cassero.it
SUMMARY:La Falla
DESCRIPTION:Riunione di redazione
URL:https://cassero.it/evento/la-falla-9/
CATEGORIES:La Falla
ATTACH;FMTTYPE=:
END:VEVENT
BEGIN:VEVENT
DTSTART;TZID=Europe/Rome:20171204T190000
DTEND;TZID=Europe/Rome:20171204T190000
DTSTAMP:20260422T191630
CREATED:20171128T083453Z
LAST-MODIFIED:20171128T083453Z
UID:16023-1512414000-1512414000@cassero.it
SUMMARY:La Falla
DESCRIPTION:Riunione di redazione
URL:https://cassero.it/evento/la-falla-8-2/
CATEGORIES:La Falla
ATTACH;FMTTYPE=:
END:VEVENT
BEGIN:VEVENT
DTSTART;TZID=Europe/Rome:20171204T190000
DTEND;TZID=Europe/Rome:20171204T190000
DTSTAMP:20260422T191630
CREATED:20171128T083453Z
LAST-MODIFIED:20171128T083453Z
UID:4793-1512414000-1512414000@cassero.it
SUMMARY:La Falla
DESCRIPTION:Riunione di redazione
URL:https://cassero.it/evento/la-falla-8/
CATEGORIES:La Falla
ATTACH;FMTTYPE=:
END:VEVENT
END:VCALENDAR