BEGIN:VCALENDAR
VERSION:2.0
PRODID:-//Cassero - ECPv6.15.20//NONSGML v1.0//EN
CALSCALE:GREGORIAN
METHOD:PUBLISH
X-ORIGINAL-URL:https://cassero.it
X-WR-CALDESC:Eventi per Cassero
REFRESH-INTERVAL;VALUE=DURATION:PT1H
X-Robots-Tag:noindex
X-PUBLISHED-TTL:PT1H
BEGIN:VTIMEZONE
TZID:Europe/Rome
BEGIN:DAYLIGHT
TZOFFSETFROM:+0100
TZOFFSETTO:+0200
TZNAME:CEST
DTSTART:20180325T010000
END:DAYLIGHT
BEGIN:STANDARD
TZOFFSETFROM:+0200
TZOFFSETTO:+0100
TZNAME:CET
DTSTART:20181028T010000
END:STANDARD
BEGIN:DAYLIGHT
TZOFFSETFROM:+0100
TZOFFSETTO:+0200
TZNAME:CEST
DTSTART:20190331T010000
END:DAYLIGHT
BEGIN:STANDARD
TZOFFSETFROM:+0200
TZOFFSETTO:+0100
TZNAME:CET
DTSTART:20191027T010000
END:STANDARD
BEGIN:DAYLIGHT
TZOFFSETFROM:+0100
TZOFFSETTO:+0200
TZNAME:CEST
DTSTART:20200329T010000
END:DAYLIGHT
BEGIN:STANDARD
TZOFFSETFROM:+0200
TZOFFSETTO:+0100
TZNAME:CET
DTSTART:20201025T010000
END:STANDARD
END:VTIMEZONE
BEGIN:VEVENT
DTSTART;TZID=Europe/Rome:20191007T190000
DTEND;TZID=Europe/Rome:20191007T190000
DTSTAMP:20260421T165824
CREATED:20191001T110919Z
LAST-MODIFIED:20191001T110919Z
UID:16838-1570474800-1570474800@cassero.it
SUMMARY:La Falla - Riunione di redazione
DESCRIPTION:La Falla si riunisce tutti i lunedì alle ore 19.00.
URL:https://cassero.it/evento/la-falla-riunione-di-redazione-24-2/
CATEGORIES:La Falla
END:VEVENT
BEGIN:VEVENT
DTSTART;TZID=Europe/Rome:20191007T190000
DTEND;TZID=Europe/Rome:20191007T190000
DTSTAMP:20260421T165824
CREATED:20191001T110919Z
LAST-MODIFIED:20191001T110919Z
UID:7692-1570474800-1570474800@cassero.it
SUMMARY:La Falla - Riunione di redazione
DESCRIPTION:La Falla si riunisce tutti i lunedì alle ore 19.00.
URL:https://cassero.it/evento/la-falla-riunione-di-redazione-24/
CATEGORIES:La Falla
END:VEVENT
BEGIN:VEVENT
DTSTART;TZID=Europe/Rome:20190624T190000
DTEND;TZID=Europe/Rome:20190624T190000
DTSTAMP:20260421T165824
CREATED:20190529T062142Z
LAST-MODIFIED:20190529T062142Z
UID:16712-1561402800-1561402800@cassero.it
SUMMARY:LA FALLA
DESCRIPTION:Riunione della favolosa redazione de LA FALLA!\nVieni a trovarci!
URL:https://cassero.it/evento/la-falla-32-2019-06-24-2/
CATEGORIES:La Falla
END:VEVENT
BEGIN:VEVENT
DTSTART;TZID=Europe/Rome:20190617T190000
DTEND;TZID=Europe/Rome:20190617T190000
DTSTAMP:20260421T165824
CREATED:20190529T062142Z
LAST-MODIFIED:20190529T062142Z
UID:7276-1560798000-1560798000@cassero.it
SUMMARY:LA FALLA
DESCRIPTION:Riunione della favolosa redazione de LA FALLA!\nVieni a trovarci!
URL:https://cassero.it/evento/la-falla-32-2019-06-17/
CATEGORIES:La Falla
END:VEVENT
BEGIN:VEVENT
DTSTART;TZID=Europe/Rome:20190603T190000
DTEND;TZID=Europe/Rome:20190603T190000
DTSTAMP:20260421T165824
CREATED:20190529T062142Z
LAST-MODIFIED:20190529T062142Z
UID:7273-1559588400-1559588400@cassero.it
SUMMARY:LA FALLA
DESCRIPTION:Riunione della favolosa redazione de LA FALLA!\nVieni a trovarci!
URL:https://cassero.it/evento/la-falla-32/
CATEGORIES:La Falla
END:VEVENT
BEGIN:VEVENT
DTSTART;TZID=Europe/Rome:20190624T190000
DTEND;TZID=Europe/Rome:20190624T190000
DTSTAMP:20260421T165824
CREATED:20190529T062142Z
LAST-MODIFIED:20190529T062142Z
UID:7277-1561402800-1561402800@cassero.it
SUMMARY:LA FALLA
DESCRIPTION:Riunione della favolosa redazione de LA FALLA!\nVieni a trovarci!
URL:https://cassero.it/evento/la-falla-32-2019-06-24/
CATEGORIES:La Falla
END:VEVENT
BEGIN:VEVENT
DTSTART;TZID=Europe/Rome:20190610T190000
DTEND;TZID=Europe/Rome:20190610T190000
DTSTAMP:20260421T165824
CREATED:20190529T062142Z
LAST-MODIFIED:20190529T062142Z
UID:16710-1560193200-1560193200@cassero.it
SUMMARY:LA FALLA
DESCRIPTION:Riunione della favolosa redazione de LA FALLA!\nVieni a trovarci!
URL:https://cassero.it/evento/la-falla-32-2019-06-10-2/
CATEGORIES:La Falla
END:VEVENT
BEGIN:VEVENT
DTSTART;TZID=Europe/Rome:20190610T190000
DTEND;TZID=Europe/Rome:20190610T190000
DTSTAMP:20260421T165824
CREATED:20190529T062142Z
LAST-MODIFIED:20190529T062142Z
UID:7275-1560193200-1560193200@cassero.it
SUMMARY:LA FALLA
DESCRIPTION:Riunione della favolosa redazione de LA FALLA!\nVieni a trovarci!
URL:https://cassero.it/evento/la-falla-32-2019-06-10/
CATEGORIES:La Falla
END:VEVENT
BEGIN:VEVENT
DTSTART;TZID=Europe/Rome:20190617T190000
DTEND;TZID=Europe/Rome:20190617T190000
DTSTAMP:20260421T165824
CREATED:20190529T062142Z
LAST-MODIFIED:20190529T062142Z
UID:16711-1560798000-1560798000@cassero.it
SUMMARY:LA FALLA
DESCRIPTION:Riunione della favolosa redazione de LA FALLA!\nVieni a trovarci!
URL:https://cassero.it/evento/la-falla-32-2019-06-17-2/
CATEGORIES:La Falla
END:VEVENT
BEGIN:VEVENT
DTSTART;TZID=Europe/Rome:20190603T190000
DTEND;TZID=Europe/Rome:20190603T190000
DTSTAMP:20260421T165824
CREATED:20190529T062142Z
LAST-MODIFIED:20190529T062142Z
UID:16709-1559588400-1559588400@cassero.it
SUMMARY:LA FALLA
DESCRIPTION:Riunione della favolosa redazione de LA FALLA!\nVieni a trovarci!
URL:https://cassero.it/evento/la-falla-32-2/
CATEGORIES:La Falla
END:VEVENT
BEGIN:VEVENT
DTSTART;TZID=Europe/Rome:20190603T190000
DTEND;TZID=Europe/Rome:20190603T190000
DTSTAMP:20260421T165824
CREATED:20190529T062142Z
LAST-MODIFIED:20190529T062142Z
UID:7273-1559588400-1559588400@cassero.it
SUMMARY:LA FALLA
DESCRIPTION:Riunione della favolosa redazione de LA FALLA!\nVieni a trovarci!
URL:https://cassero.it/evento/la-falla-32/
CATEGORIES:La Falla
END:VEVENT
BEGIN:VEVENT
DTSTART;TZID=Europe/Rome:20190610T190000
DTEND;TZID=Europe/Rome:20190610T190000
DTSTAMP:20260421T165824
CREATED:20190529T062142Z
LAST-MODIFIED:20190529T062142Z
UID:16710-1560193200-1560193200@cassero.it
SUMMARY:LA FALLA
DESCRIPTION:Riunione della favolosa redazione de LA FALLA!\nVieni a trovarci!
URL:https://cassero.it/evento/la-falla-32-2019-06-10-2/
CATEGORIES:La Falla
END:VEVENT
BEGIN:VEVENT
DTSTART;TZID=Europe/Rome:20190610T190000
DTEND;TZID=Europe/Rome:20190610T190000
DTSTAMP:20260421T165824
CREATED:20190529T062142Z
LAST-MODIFIED:20190529T062142Z
UID:7275-1560193200-1560193200@cassero.it
SUMMARY:LA FALLA
DESCRIPTION:Riunione della favolosa redazione de LA FALLA!\nVieni a trovarci!
URL:https://cassero.it/evento/la-falla-32-2019-06-10/
CATEGORIES:La Falla
END:VEVENT
BEGIN:VEVENT
DTSTART;TZID=Europe/Rome:20190617T190000
DTEND;TZID=Europe/Rome:20190617T190000
DTSTAMP:20260421T165824
CREATED:20190529T062142Z
LAST-MODIFIED:20190529T062142Z
UID:16711-1560798000-1560798000@cassero.it
SUMMARY:LA FALLA
DESCRIPTION:Riunione della favolosa redazione de LA FALLA!\nVieni a trovarci!
URL:https://cassero.it/evento/la-falla-32-2019-06-17-2/
CATEGORIES:La Falla
END:VEVENT
BEGIN:VEVENT
DTSTART;TZID=Europe/Rome:20190603T190000
DTEND;TZID=Europe/Rome:20190603T190000
DTSTAMP:20260421T165824
CREATED:20190529T062142Z
LAST-MODIFIED:20190529T062142Z
UID:16709-1559588400-1559588400@cassero.it
SUMMARY:LA FALLA
DESCRIPTION:Riunione della favolosa redazione de LA FALLA!\nVieni a trovarci!
URL:https://cassero.it/evento/la-falla-32-2/
CATEGORIES:La Falla
END:VEVENT
BEGIN:VEVENT
DTSTART;TZID=Europe/Rome:20190617T190000
DTEND;TZID=Europe/Rome:20190617T190000
DTSTAMP:20260421T165824
CREATED:20190529T062142Z
LAST-MODIFIED:20190529T062142Z
UID:7276-1560798000-1560798000@cassero.it
SUMMARY:LA FALLA
DESCRIPTION:Riunione della favolosa redazione de LA FALLA!\nVieni a trovarci!
URL:https://cassero.it/evento/la-falla-32-2019-06-17/
CATEGORIES:La Falla
END:VEVENT
BEGIN:VEVENT
DTSTART;TZID=Europe/Rome:20190610T190000
DTEND;TZID=Europe/Rome:20190610T190000
DTSTAMP:20260421T165824
CREATED:20190529T062142Z
LAST-MODIFIED:20190529T062142Z
UID:16710-1560193200-1560193200@cassero.it
SUMMARY:LA FALLA
DESCRIPTION:Riunione della favolosa redazione de LA FALLA!\nVieni a trovarci!
URL:https://cassero.it/evento/la-falla-32-2019-06-10-2/
CATEGORIES:La Falla
END:VEVENT
BEGIN:VEVENT
DTSTART;TZID=Europe/Rome:20190610T190000
DTEND;TZID=Europe/Rome:20190610T190000
DTSTAMP:20260421T165824
CREATED:20190529T062142Z
LAST-MODIFIED:20190529T062142Z
UID:7275-1560193200-1560193200@cassero.it
SUMMARY:LA FALLA
DESCRIPTION:Riunione della favolosa redazione de LA FALLA!\nVieni a trovarci!
URL:https://cassero.it/evento/la-falla-32-2019-06-10/
CATEGORIES:La Falla
END:VEVENT
BEGIN:VEVENT
DTSTART;TZID=Europe/Rome:20190603T190000
DTEND;TZID=Europe/Rome:20190603T190000
DTSTAMP:20260421T165824
CREATED:20190529T062142Z
LAST-MODIFIED:20190529T062142Z
UID:16709-1559588400-1559588400@cassero.it
SUMMARY:LA FALLA
DESCRIPTION:Riunione della favolosa redazione de LA FALLA!\nVieni a trovarci!
URL:https://cassero.it/evento/la-falla-32-2/
CATEGORIES:La Falla
END:VEVENT
BEGIN:VEVENT
DTSTART;TZID=Europe/Rome:20190603T190000
DTEND;TZID=Europe/Rome:20190603T190000
DTSTAMP:20260421T165824
CREATED:20190529T062142Z
LAST-MODIFIED:20190529T062142Z
UID:7273-1559588400-1559588400@cassero.it
SUMMARY:LA FALLA
DESCRIPTION:Riunione della favolosa redazione de LA FALLA!\nVieni a trovarci!
URL:https://cassero.it/evento/la-falla-32/
CATEGORIES:La Falla
END:VEVENT
BEGIN:VEVENT
DTSTART;TZID=Europe/Rome:20190603T190000
DTEND;TZID=Europe/Rome:20190603T190000
DTSTAMP:20260421T165824
CREATED:20190529T062142Z
LAST-MODIFIED:20190529T062142Z
UID:16709-1559588400-1559588400@cassero.it
SUMMARY:LA FALLA
DESCRIPTION:Riunione della favolosa redazione de LA FALLA!\nVieni a trovarci!
URL:https://cassero.it/evento/la-falla-32-2/
CATEGORIES:La Falla
END:VEVENT
BEGIN:VEVENT
DTSTART;TZID=Europe/Rome:20190603T190000
DTEND;TZID=Europe/Rome:20190603T190000
DTSTAMP:20260421T165824
CREATED:20190529T062142Z
LAST-MODIFIED:20190529T062142Z
UID:7273-1559588400-1559588400@cassero.it
SUMMARY:LA FALLA
DESCRIPTION:Riunione della favolosa redazione de LA FALLA!\nVieni a trovarci!
URL:https://cassero.it/evento/la-falla-32/
CATEGORIES:La Falla
END:VEVENT
BEGIN:VEVENT
DTSTART;TZID=Europe/Rome:20190527T190000
DTEND;TZID=Europe/Rome:20190527T190000
DTSTAMP:20260421T165824
CREATED:20190429T090159Z
LAST-MODIFIED:20190429T090159Z
UID:16651-1558983600-1558983600@cassero.it
SUMMARY:La Falla
DESCRIPTION:Riunione della Redazione.
URL:https://cassero.it/evento/la-falla-31-2/
CATEGORIES:La Falla
END:VEVENT
BEGIN:VEVENT
DTSTART;TZID=Europe/Rome:20190527T190000
DTEND;TZID=Europe/Rome:20190527T190000
DTSTAMP:20260421T165824
CREATED:20190429T090159Z
LAST-MODIFIED:20190429T090159Z
UID:7053-1558983600-1558983600@cassero.it
SUMMARY:La Falla
DESCRIPTION:Riunione della Redazione.
URL:https://cassero.it/evento/la-falla-31/
CATEGORIES:La Falla
END:VEVENT
BEGIN:VEVENT
DTSTART;TZID=Europe/Rome:20190520T190000
DTEND;TZID=Europe/Rome:20190520T190000
DTSTAMP:20260421T165824
CREATED:20190429T085747Z
LAST-MODIFIED:20190429T085747Z
UID:7051-1558378800-1558378800@cassero.it
SUMMARY:La Falla
DESCRIPTION:Riunione della Redazione.
URL:https://cassero.it/evento/la-falla-30/
CATEGORIES:La Falla
END:VEVENT
BEGIN:VEVENT
DTSTART;TZID=Europe/Rome:20190520T190000
DTEND;TZID=Europe/Rome:20190520T190000
DTSTAMP:20260421T165824
CREATED:20190429T085747Z
LAST-MODIFIED:20190429T085747Z
UID:16650-1558378800-1558378800@cassero.it
SUMMARY:La Falla
DESCRIPTION:Riunione della Redazione.
URL:https://cassero.it/evento/la-falla-30-2/
CATEGORIES:La Falla
END:VEVENT
BEGIN:VEVENT
DTSTART;TZID=Europe/Rome:20190513T190000
DTEND;TZID=Europe/Rome:20190513T190000
DTSTAMP:20260421T165824
CREATED:20190429T085723Z
LAST-MODIFIED:20190429T085723Z
UID:7049-1557774000-1557774000@cassero.it
SUMMARY:La Falla
DESCRIPTION:Riunione della Redazione.
URL:https://cassero.it/evento/la-falla-29/
CATEGORIES:La Falla
END:VEVENT
BEGIN:VEVENT
DTSTART;TZID=Europe/Rome:20190513T190000
DTEND;TZID=Europe/Rome:20190513T190000
DTSTAMP:20260421T165824
CREATED:20190429T085723Z
LAST-MODIFIED:20190429T085723Z
UID:16649-1557774000-1557774000@cassero.it
SUMMARY:La Falla
DESCRIPTION:Riunione della Redazione.
URL:https://cassero.it/evento/la-falla-29-2/
CATEGORIES:La Falla
END:VEVENT
BEGIN:VEVENT
DTSTART;TZID=Europe/Rome:20190506T190000
DTEND;TZID=Europe/Rome:20190506T190000
DTSTAMP:20260421T165824
CREATED:20190429T085657Z
LAST-MODIFIED:20190429T085657Z
UID:16648-1557169200-1557169200@cassero.it
SUMMARY:La Falla
DESCRIPTION:Riunione della Redazione.
URL:https://cassero.it/evento/la-falla-28-2/
CATEGORIES:La Falla
END:VEVENT
BEGIN:VEVENT
DTSTART;TZID=Europe/Rome:20190506T190000
DTEND;TZID=Europe/Rome:20190506T190000
DTSTAMP:20260421T165824
CREATED:20190429T085657Z
LAST-MODIFIED:20190429T085657Z
UID:7047-1557169200-1557169200@cassero.it
SUMMARY:La Falla
DESCRIPTION:Riunione della Redazione.
URL:https://cassero.it/evento/la-falla-28/
CATEGORIES:La Falla
END:VEVENT
END:VCALENDAR