BEGIN:VCALENDAR
VERSION:2.0
PRODID:-//Cassero - ECPv6.15.20//NONSGML v1.0//EN
CALSCALE:GREGORIAN
METHOD:PUBLISH
X-WR-CALNAME:Cassero
X-ORIGINAL-URL:https://cassero.it
X-WR-CALDESC:Eventi per Cassero
REFRESH-INTERVAL;VALUE=DURATION:PT1H
X-Robots-Tag:noindex
X-PUBLISHED-TTL:PT1H
BEGIN:VTIMEZONE
TZID:Europe/Rome
BEGIN:DAYLIGHT
TZOFFSETFROM:+0100
TZOFFSETTO:+0200
TZNAME:CEST
DTSTART:20180325T010000
END:DAYLIGHT
BEGIN:STANDARD
TZOFFSETFROM:+0200
TZOFFSETTO:+0100
TZNAME:CET
DTSTART:20181028T010000
END:STANDARD
BEGIN:DAYLIGHT
TZOFFSETFROM:+0100
TZOFFSETTO:+0200
TZNAME:CEST
DTSTART:20190331T010000
END:DAYLIGHT
BEGIN:STANDARD
TZOFFSETFROM:+0200
TZOFFSETTO:+0100
TZNAME:CET
DTSTART:20191027T010000
END:STANDARD
BEGIN:DAYLIGHT
TZOFFSETFROM:+0100
TZOFFSETTO:+0200
TZNAME:CEST
DTSTART:20200329T010000
END:DAYLIGHT
BEGIN:STANDARD
TZOFFSETFROM:+0200
TZOFFSETTO:+0100
TZNAME:CET
DTSTART:20201025T010000
END:STANDARD
END:VTIMEZONE
BEGIN:VEVENT
DTSTART;TZID=Europe/Rome:20190520T190000
DTEND;TZID=Europe/Rome:20190520T190000
DTSTAMP:20260421T203249
CREATED:20190429T085747Z
LAST-MODIFIED:20190429T085747Z
UID:7051-1558378800-1558378800@cassero.it
SUMMARY:La Falla
DESCRIPTION:Riunione della Redazione.
URL:https://cassero.it/evento/la-falla-30/
CATEGORIES:La Falla
END:VEVENT
BEGIN:VEVENT
DTSTART;TZID=Europe/Rome:20190520T190000
DTEND;TZID=Europe/Rome:20190520T190000
DTSTAMP:20260421T203249
CREATED:20190429T085747Z
LAST-MODIFIED:20190429T085747Z
UID:16650-1558378800-1558378800@cassero.it
SUMMARY:La Falla
DESCRIPTION:Riunione della Redazione.
URL:https://cassero.it/evento/la-falla-30-2/
CATEGORIES:La Falla
END:VEVENT
BEGIN:VEVENT
DTSTART;TZID=Europe/Rome:20190513T190000
DTEND;TZID=Europe/Rome:20190513T190000
DTSTAMP:20260421T203249
CREATED:20190429T085723Z
LAST-MODIFIED:20190429T085723Z
UID:16649-1557774000-1557774000@cassero.it
SUMMARY:La Falla
DESCRIPTION:Riunione della Redazione.
URL:https://cassero.it/evento/la-falla-29-2/
CATEGORIES:La Falla
END:VEVENT
BEGIN:VEVENT
DTSTART;TZID=Europe/Rome:20190513T190000
DTEND;TZID=Europe/Rome:20190513T190000
DTSTAMP:20260421T203249
CREATED:20190429T085723Z
LAST-MODIFIED:20190429T085723Z
UID:7049-1557774000-1557774000@cassero.it
SUMMARY:La Falla
DESCRIPTION:Riunione della Redazione.
URL:https://cassero.it/evento/la-falla-29/
CATEGORIES:La Falla
END:VEVENT
BEGIN:VEVENT
DTSTART;TZID=Europe/Rome:20190506T190000
DTEND;TZID=Europe/Rome:20190506T190000
DTSTAMP:20260421T203249
CREATED:20190429T085657Z
LAST-MODIFIED:20190429T085657Z
UID:16648-1557169200-1557169200@cassero.it
SUMMARY:La Falla
DESCRIPTION:Riunione della Redazione.
URL:https://cassero.it/evento/la-falla-28-2/
CATEGORIES:La Falla
END:VEVENT
BEGIN:VEVENT
DTSTART;TZID=Europe/Rome:20190506T190000
DTEND;TZID=Europe/Rome:20190506T190000
DTSTAMP:20260421T203249
CREATED:20190429T085657Z
LAST-MODIFIED:20190429T085657Z
UID:7047-1557169200-1557169200@cassero.it
SUMMARY:La Falla
DESCRIPTION:Riunione della Redazione.
URL:https://cassero.it/evento/la-falla-28/
CATEGORIES:La Falla
END:VEVENT
BEGIN:VEVENT
DTSTART;TZID=Europe/Rome:20190429T190000
DTEND;TZID=Europe/Rome:20190429T190000
DTSTAMP:20260421T203249
CREATED:20190322T172315Z
LAST-MODIFIED:20190322T172315Z
UID:16596-1556564400-1556564400@cassero.it
SUMMARY:La Falla - Riunione di redazione
DESCRIPTION:Riunione di redazione presso l’Ufficio Cultura.
URL:https://cassero.it/evento/la-falla-riunione-di-redazione-23-2/
CATEGORIES:La Falla
END:VEVENT
BEGIN:VEVENT
DTSTART;TZID=Europe/Rome:20190429T190000
DTEND;TZID=Europe/Rome:20190429T190000
DTSTAMP:20260421T203249
CREATED:20190322T172315Z
LAST-MODIFIED:20190322T172315Z
UID:6871-1556564400-1556564400@cassero.it
SUMMARY:La Falla - Riunione di redazione
DESCRIPTION:Riunione di redazione presso l’Ufficio Cultura.
URL:https://cassero.it/evento/la-falla-riunione-di-redazione-23/
CATEGORIES:La Falla
END:VEVENT
BEGIN:VEVENT
DTSTART;TZID=Europe/Rome:20190415T190000
DTEND;TZID=Europe/Rome:20190415T190000
DTSTAMP:20260421T203249
CREATED:20190322T172229Z
LAST-MODIFIED:20190322T172229Z
UID:16595-1555354800-1555354800@cassero.it
SUMMARY:La Falla - Riunione di redazione
DESCRIPTION:Riunione di redazione presso l’Ufficio Cultura.
URL:https://cassero.it/evento/la-falla-riunione-di-redazione-22-2/
CATEGORIES:La Falla
END:VEVENT
BEGIN:VEVENT
DTSTART;TZID=Europe/Rome:20190415T190000
DTEND;TZID=Europe/Rome:20190415T190000
DTSTAMP:20260421T203249
CREATED:20190322T172229Z
LAST-MODIFIED:20190322T172229Z
UID:6869-1555354800-1555354800@cassero.it
SUMMARY:La Falla - Riunione di redazione
DESCRIPTION:Riunione di redazione presso l’Ufficio Cultura.
URL:https://cassero.it/evento/la-falla-riunione-di-redazione-22/
CATEGORIES:La Falla
END:VEVENT
BEGIN:VEVENT
DTSTART;TZID=Europe/Rome:20190408T190000
DTEND;TZID=Europe/Rome:20190408T190000
DTSTAMP:20260421T203249
CREATED:20190322T172135Z
LAST-MODIFIED:20190322T172135Z
UID:6867-1554750000-1554750000@cassero.it
SUMMARY:La Falla - Riunione di redazione
DESCRIPTION:Riunione di redazione presso l’Ufficio Cultura.
URL:https://cassero.it/evento/la-falla-riunione-di-redazione-21/
CATEGORIES:La Falla
END:VEVENT
BEGIN:VEVENT
DTSTART;TZID=Europe/Rome:20190408T190000
DTEND;TZID=Europe/Rome:20190408T190000
DTSTAMP:20260421T203249
CREATED:20190322T172135Z
LAST-MODIFIED:20190322T172135Z
UID:16594-1554750000-1554750000@cassero.it
SUMMARY:La Falla - Riunione di redazione
DESCRIPTION:Riunione di redazione presso l’Ufficio Cultura.
URL:https://cassero.it/evento/la-falla-riunione-di-redazione-21-2/
CATEGORIES:La Falla
END:VEVENT
BEGIN:VEVENT
DTSTART;TZID=Europe/Rome:20190401T190000
DTEND;TZID=Europe/Rome:20190401T190000
DTSTAMP:20260421T203249
CREATED:20190322T172041Z
LAST-MODIFIED:20190322T172041Z
UID:6865-1554145200-1554145200@cassero.it
SUMMARY:La Falla - Riunione di redazione
DESCRIPTION:Riunione di redazione presso l’Ufficio Cultura.
URL:https://cassero.it/evento/la-falla-riunione-di-redazione-20/
CATEGORIES:La Falla
END:VEVENT
BEGIN:VEVENT
DTSTART;TZID=Europe/Rome:20190401T190000
DTEND;TZID=Europe/Rome:20190401T190000
DTSTAMP:20260421T203249
CREATED:20190322T172041Z
LAST-MODIFIED:20190322T172041Z
UID:16593-1554145200-1554145200@cassero.it
SUMMARY:La Falla - Riunione di redazione
DESCRIPTION:Riunione di redazione presso l’Ufficio Cultura.
URL:https://cassero.it/evento/la-falla-riunione-di-redazione-20-2/
CATEGORIES:La Falla
END:VEVENT
BEGIN:VEVENT
DTSTART;TZID=Europe/Rome:20190325T190000
DTEND;TZID=Europe/Rome:20190325T190000
DTSTAMP:20260421T203249
CREATED:20190225T092036Z
LAST-MODIFIED:20190225T092036Z
UID:16568-1553540400-1553540400@cassero.it
SUMMARY:LA FALLA - Riunione di redazione
DESCRIPTION:
URL:https://cassero.it/evento/la-falla-riunione-di-redazione-19-2/
CATEGORIES:La Falla
END:VEVENT
BEGIN:VEVENT
DTSTART;TZID=Europe/Rome:20190325T190000
DTEND;TZID=Europe/Rome:20190325T190000
DTSTAMP:20260421T203249
CREATED:20190225T092036Z
LAST-MODIFIED:20190225T092036Z
UID:6785-1553540400-1553540400@cassero.it
SUMMARY:LA FALLA - Riunione di redazione
DESCRIPTION:
URL:https://cassero.it/evento/la-falla-riunione-di-redazione-19/
CATEGORIES:La Falla
END:VEVENT
BEGIN:VEVENT
DTSTART;TZID=Europe/Rome:20190318T190000
DTEND;TZID=Europe/Rome:20190318T190000
DTSTAMP:20260421T203249
CREATED:20190225T092008Z
LAST-MODIFIED:20190225T092008Z
UID:16567-1552935600-1552935600@cassero.it
SUMMARY:LA FALLA - Riunione di redazione
DESCRIPTION:
URL:https://cassero.it/evento/la-falla-riunione-di-redazione-18-2/
CATEGORIES:La Falla
END:VEVENT
BEGIN:VEVENT
DTSTART;TZID=Europe/Rome:20190318T190000
DTEND;TZID=Europe/Rome:20190318T190000
DTSTAMP:20260421T203249
CREATED:20190225T092008Z
LAST-MODIFIED:20190225T092008Z
UID:6783-1552935600-1552935600@cassero.it
SUMMARY:LA FALLA - Riunione di redazione
DESCRIPTION:
URL:https://cassero.it/evento/la-falla-riunione-di-redazione-18/
CATEGORIES:La Falla
END:VEVENT
BEGIN:VEVENT
DTSTART;TZID=Europe/Rome:20190311T190000
DTEND;TZID=Europe/Rome:20190311T190000
DTSTAMP:20260421T203249
CREATED:20190225T091943Z
LAST-MODIFIED:20190225T091943Z
UID:16566-1552330800-1552330800@cassero.it
SUMMARY:LA FALLA - Riunione di redazione
DESCRIPTION:
URL:https://cassero.it/evento/la-falla-riunione-di-redazione-17-2/
CATEGORIES:La Falla
END:VEVENT
BEGIN:VEVENT
DTSTART;TZID=Europe/Rome:20190311T190000
DTEND;TZID=Europe/Rome:20190311T190000
DTSTAMP:20260421T203249
CREATED:20190225T091943Z
LAST-MODIFIED:20190225T091943Z
UID:6781-1552330800-1552330800@cassero.it
SUMMARY:LA FALLA - Riunione di redazione
DESCRIPTION:
URL:https://cassero.it/evento/la-falla-riunione-di-redazione-17/
CATEGORIES:La Falla
END:VEVENT
BEGIN:VEVENT
DTSTART;TZID=Europe/Rome:20190304T190000
DTEND;TZID=Europe/Rome:20190304T190000
DTSTAMP:20260421T203249
CREATED:20190225T091917Z
LAST-MODIFIED:20190225T091917Z
UID:6779-1551726000-1551726000@cassero.it
SUMMARY:LA FALLA - Riunione di redazione
DESCRIPTION:
URL:https://cassero.it/evento/la-falla-riunione-di-redazione-16/
CATEGORIES:La Falla
END:VEVENT
BEGIN:VEVENT
DTSTART;TZID=Europe/Rome:20190304T190000
DTEND;TZID=Europe/Rome:20190304T190000
DTSTAMP:20260421T203249
CREATED:20190225T091917Z
LAST-MODIFIED:20190225T091917Z
UID:16565-1551726000-1551726000@cassero.it
SUMMARY:LA FALLA - Riunione di redazione
DESCRIPTION:
URL:https://cassero.it/evento/la-falla-riunione-di-redazione-16-2/
CATEGORIES:La Falla
END:VEVENT
BEGIN:VEVENT
DTSTART;TZID=Europe/Rome:20190225T190000
DTEND;TZID=Europe/Rome:20190225T190000
DTSTAMP:20260421T203249
CREATED:20190121T095730Z
LAST-MODIFIED:20190121T095730Z
UID:6600-1551121200-1551121200@cassero.it
SUMMARY:La Falla
DESCRIPTION:Riunione di redazione
URL:https://cassero.it/evento/la-falla-27/
CATEGORIES:La Falla
END:VEVENT
BEGIN:VEVENT
DTSTART;TZID=Europe/Rome:20190225T190000
DTEND;TZID=Europe/Rome:20190225T190000
DTSTAMP:20260421T203249
CREATED:20190121T095730Z
LAST-MODIFIED:20190121T095730Z
UID:16506-1551121200-1551121200@cassero.it
SUMMARY:La Falla
DESCRIPTION:Riunione di redazione
URL:https://cassero.it/evento/la-falla-27-2/
CATEGORIES:La Falla
END:VEVENT
BEGIN:VEVENT
DTSTART;TZID=Europe/Rome:20190218T190000
DTEND;TZID=Europe/Rome:20190218T190000
DTSTAMP:20260421T203249
CREATED:20190121T095702Z
LAST-MODIFIED:20190121T095702Z
UID:16505-1550516400-1550516400@cassero.it
SUMMARY:La Falla
DESCRIPTION:Riunione di redazione
URL:https://cassero.it/evento/la-falla-26-2/
CATEGORIES:La Falla
END:VEVENT
BEGIN:VEVENT
DTSTART;TZID=Europe/Rome:20190218T190000
DTEND;TZID=Europe/Rome:20190218T190000
DTSTAMP:20260421T203249
CREATED:20190121T095702Z
LAST-MODIFIED:20190121T095702Z
UID:6598-1550516400-1550516400@cassero.it
SUMMARY:La Falla
DESCRIPTION:Riunione di redazione
URL:https://cassero.it/evento/la-falla-26/
CATEGORIES:La Falla
END:VEVENT
BEGIN:VEVENT
DTSTART;TZID=Europe/Rome:20190211T190000
DTEND;TZID=Europe/Rome:20190211T190000
DTSTAMP:20260421T203249
CREATED:20190121T095624Z
LAST-MODIFIED:20190121T095624Z
UID:16504-1549911600-1549911600@cassero.it
SUMMARY:La Falla
DESCRIPTION:Riunione di redazione
URL:https://cassero.it/evento/la-falla-25-2/
CATEGORIES:La Falla
END:VEVENT
BEGIN:VEVENT
DTSTART;TZID=Europe/Rome:20190211T190000
DTEND;TZID=Europe/Rome:20190211T190000
DTSTAMP:20260421T203249
CREATED:20190121T095624Z
LAST-MODIFIED:20190121T095624Z
UID:6596-1549911600-1549911600@cassero.it
SUMMARY:La Falla
DESCRIPTION:Riunione di redazione
URL:https://cassero.it/evento/la-falla-25/
CATEGORIES:La Falla
END:VEVENT
BEGIN:VEVENT
DTSTART;TZID=Europe/Rome:20190204T190000
DTEND;TZID=Europe/Rome:20190204T190000
DTSTAMP:20260421T203249
CREATED:20190121T095449Z
LAST-MODIFIED:20190121T095449Z
UID:16503-1549306800-1549306800@cassero.it
SUMMARY:La Falla
DESCRIPTION:Riunione di redazione
URL:https://cassero.it/evento/la-falla-24-2/
CATEGORIES:La Falla
END:VEVENT
BEGIN:VEVENT
DTSTART;TZID=Europe/Rome:20190204T190000
DTEND;TZID=Europe/Rome:20190204T190000
DTSTAMP:20260421T203249
CREATED:20190121T095449Z
LAST-MODIFIED:20190121T095449Z
UID:6594-1549306800-1549306800@cassero.it
SUMMARY:La Falla
DESCRIPTION:Riunione di redazione
URL:https://cassero.it/evento/la-falla-24/
CATEGORIES:La Falla
END:VEVENT
END:VCALENDAR