BEGIN:VCALENDAR
VERSION:2.0
PRODID:-//Cassero - ECPv6.15.20//NONSGML v1.0//EN
CALSCALE:GREGORIAN
METHOD:PUBLISH
X-ORIGINAL-URL:https://cassero.it
X-WR-CALDESC:Eventi per Cassero
REFRESH-INTERVAL;VALUE=DURATION:PT1H
X-Robots-Tag:noindex
X-PUBLISHED-TTL:PT1H
BEGIN:VTIMEZONE
TZID:Europe/Rome
BEGIN:DAYLIGHT
TZOFFSETFROM:+0100
TZOFFSETTO:+0200
TZNAME:CEST
DTSTART:20170326T010000
END:DAYLIGHT
BEGIN:STANDARD
TZOFFSETFROM:+0200
TZOFFSETTO:+0100
TZNAME:CET
DTSTART:20171029T010000
END:STANDARD
BEGIN:DAYLIGHT
TZOFFSETFROM:+0100
TZOFFSETTO:+0200
TZNAME:CEST
DTSTART:20180325T010000
END:DAYLIGHT
BEGIN:STANDARD
TZOFFSETFROM:+0200
TZOFFSETTO:+0100
TZNAME:CET
DTSTART:20181028T010000
END:STANDARD
BEGIN:DAYLIGHT
TZOFFSETFROM:+0100
TZOFFSETTO:+0200
TZNAME:CEST
DTSTART:20190331T010000
END:DAYLIGHT
BEGIN:STANDARD
TZOFFSETFROM:+0200
TZOFFSETTO:+0100
TZNAME:CET
DTSTART:20191027T010000
END:STANDARD
BEGIN:DAYLIGHT
TZOFFSETFROM:+0100
TZOFFSETTO:+0200
TZNAME:CEST
DTSTART:20200329T010000
END:DAYLIGHT
BEGIN:STANDARD
TZOFFSETFROM:+0200
TZOFFSETTO:+0100
TZNAME:CET
DTSTART:20201025T010000
END:STANDARD
END:VTIMEZONE
BEGIN:VEVENT
DTSTART;TZID=Europe/Rome:20190107T190000
DTEND;TZID=Europe/Rome:20190107T190000
DTSTAMP:20260422T035017
CREATED:20181226T151003Z
LAST-MODIFIED:20181226T151003Z
UID:16495-1546887600-1546887600@cassero.it
SUMMARY:La Falla
DESCRIPTION:Riunione di redazione
URL:https://cassero.it/evento/la-falla-20-2/
CATEGORIES:La Falla
ATTACH;FMTTYPE=:
END:VEVENT
BEGIN:VEVENT
DTSTART;TZID=Europe/Rome:20190107T190000
DTEND;TZID=Europe/Rome:20190107T190000
DTSTAMP:20260422T035017
CREATED:20181226T151003Z
LAST-MODIFIED:20181226T151003Z
UID:6555-1546887600-1546887600@cassero.it
SUMMARY:La Falla
DESCRIPTION:Riunione di redazione
URL:https://cassero.it/evento/la-falla-20/
CATEGORIES:La Falla
ATTACH;FMTTYPE=:
END:VEVENT
BEGIN:VEVENT
DTSTART;TZID=Europe/Rome:20181217T193000
DTEND;TZID=Europe/Rome:20181217T193000
DTSTAMP:20260422T035017
CREATED:20181126T091650Z
LAST-MODIFIED:20181126T091650Z
UID:16454-1545075000-1545075000@cassero.it
SUMMARY:La Falla - Riunione di Redazione
DESCRIPTION:
URL:https://cassero.it/evento/la-falla-riunione-di-redazione-15-2/
CATEGORIES:La Falla
END:VEVENT
BEGIN:VEVENT
DTSTART;TZID=Europe/Rome:20181217T193000
DTEND;TZID=Europe/Rome:20181217T193000
DTSTAMP:20260422T035017
CREATED:20181126T091650Z
LAST-MODIFIED:20181126T091650Z
UID:6419-1545075000-1545075000@cassero.it
SUMMARY:La Falla - Riunione di Redazione
DESCRIPTION:
URL:https://cassero.it/evento/la-falla-riunione-di-redazione-15/
CATEGORIES:La Falla
END:VEVENT
BEGIN:VEVENT
DTSTART;TZID=Europe/Rome:20181210T193000
DTEND;TZID=Europe/Rome:20181210T193000
DTSTAMP:20260422T035017
CREATED:20181126T091612Z
LAST-MODIFIED:20181126T091612Z
UID:16453-1544470200-1544470200@cassero.it
SUMMARY:La Falla - Riunione di Redazione
DESCRIPTION:
URL:https://cassero.it/evento/la-falla-riunione-di-redazione-14-2/
CATEGORIES:La Falla
END:VEVENT
BEGIN:VEVENT
DTSTART;TZID=Europe/Rome:20181210T193000
DTEND;TZID=Europe/Rome:20181210T193000
DTSTAMP:20260422T035017
CREATED:20181126T091612Z
LAST-MODIFIED:20181126T091612Z
UID:6417-1544470200-1544470200@cassero.it
SUMMARY:La Falla - Riunione di Redazione
DESCRIPTION:
URL:https://cassero.it/evento/la-falla-riunione-di-redazione-14/
CATEGORIES:La Falla
END:VEVENT
BEGIN:VEVENT
DTSTART;TZID=Europe/Rome:20181203T193000
DTEND;TZID=Europe/Rome:20181203T193000
DTSTAMP:20260422T035017
CREATED:20181126T091530Z
LAST-MODIFIED:20181126T091530Z
UID:6415-1543865400-1543865400@cassero.it
SUMMARY:La Falla - Riunione di Redazione
DESCRIPTION:
URL:https://cassero.it/evento/la-falla-riunione-di-redazione-13/
CATEGORIES:La Falla
END:VEVENT
BEGIN:VEVENT
DTSTART;TZID=Europe/Rome:20181203T193000
DTEND;TZID=Europe/Rome:20181203T193000
DTSTAMP:20260422T035017
CREATED:20181126T091530Z
LAST-MODIFIED:20181126T091530Z
UID:16452-1543865400-1543865400@cassero.it
SUMMARY:La Falla - Riunione di Redazione
DESCRIPTION:
URL:https://cassero.it/evento/la-falla-riunione-di-redazione-13-2/
CATEGORIES:La Falla
END:VEVENT
BEGIN:VEVENT
DTSTART;TZID=Europe/Rome:20181126T190000
DTEND;TZID=Europe/Rome:20181126T190000
DTSTAMP:20260422T035017
CREATED:20181024T095232Z
LAST-MODIFIED:20181024T095232Z
UID:6337-1543258800-1543258800@cassero.it
SUMMARY:La Falla - Riunione di Redazione
DESCRIPTION:
URL:https://cassero.it/evento/la-falla-riunione-di-redazione-12/
CATEGORIES:La Falla
END:VEVENT
BEGIN:VEVENT
DTSTART;TZID=Europe/Rome:20181126T190000
DTEND;TZID=Europe/Rome:20181126T190000
DTSTAMP:20260422T035017
CREATED:20181024T095232Z
LAST-MODIFIED:20181024T095232Z
UID:16429-1543258800-1543258800@cassero.it
SUMMARY:La Falla - Riunione di Redazione
DESCRIPTION:
URL:https://cassero.it/evento/la-falla-riunione-di-redazione-12-2/
CATEGORIES:La Falla
END:VEVENT
BEGIN:VEVENT
DTSTART;TZID=Europe/Rome:20181119T080000
DTEND;TZID=Europe/Rome:20181119T170000
DTSTAMP:20260422T035017
CREATED:20181024T095206Z
LAST-MODIFIED:20181024T095206Z
UID:16428-1542614400-1542646800@cassero.it
SUMMARY:La Falla - Riunione di Redazione
DESCRIPTION:
URL:https://cassero.it/evento/la-falla-riunione-di-redazione-11-2/
CATEGORIES:La Falla
END:VEVENT
BEGIN:VEVENT
DTSTART;TZID=Europe/Rome:20181119T080000
DTEND;TZID=Europe/Rome:20181119T170000
DTSTAMP:20260422T035017
CREATED:20181024T095206Z
LAST-MODIFIED:20181024T095206Z
UID:6335-1542614400-1542646800@cassero.it
SUMMARY:La Falla - Riunione di Redazione
DESCRIPTION:
URL:https://cassero.it/evento/la-falla-riunione-di-redazione-11/
CATEGORIES:La Falla
END:VEVENT
BEGIN:VEVENT
DTSTART;TZID=Europe/Rome:20181112T080000
DTEND;TZID=Europe/Rome:20181112T170000
DTSTAMP:20260422T035017
CREATED:20181024T095141Z
LAST-MODIFIED:20181024T095141Z
UID:16427-1542009600-1542042000@cassero.it
SUMMARY:La Falla - Riunione di Redazione
DESCRIPTION:
URL:https://cassero.it/evento/la-falla-riunione-di-redazione-10-2/
CATEGORIES:La Falla
END:VEVENT
BEGIN:VEVENT
DTSTART;TZID=Europe/Rome:20181112T080000
DTEND;TZID=Europe/Rome:20181112T170000
DTSTAMP:20260422T035017
CREATED:20181024T095141Z
LAST-MODIFIED:20181024T095141Z
UID:6333-1542009600-1542042000@cassero.it
SUMMARY:La Falla - Riunione di Redazione
DESCRIPTION:
URL:https://cassero.it/evento/la-falla-riunione-di-redazione-10/
CATEGORIES:La Falla
END:VEVENT
BEGIN:VEVENT
DTSTART;TZID=Europe/Rome:20181107T183000
DTEND;TZID=Europe/Rome:20181107T210000
DTSTAMP:20260422T035017
CREATED:20181024T095028Z
LAST-MODIFIED:20181024T095028Z
UID:16425-1541615400-1541624400@cassero.it
SUMMARY:LA FALLA : Open Day Riproduzione Assistita
DESCRIPTION:Il 7 di Novembre a Bologna in collaborazione con Cassero LGBTI center\, l’Institut Marquès di Barcellona offre la possibilità di incontrare un medico specialista in Riproduzione Assistita. \nDalle 18.30 alle 20.30\, presso la sede dell’associazione si terrà un open-day dedicato a risolvere dubbi e curiosità sulla fertilità e i trattamenti di Riproduzione Assistita per le coppie di donne omosessuali e le donne single. \nLa maternità in solitario è un’opzione sempre più estesa nella nostra società. Come lo è quella di coppie di donne che desiderano avere un figlio insieme. \nLa legge spagnola permette alle coppie di donne omosessuali di poter accedere alle tecniche di Riproduzione\, senza discriminazione per orientazione sessuale o stato civile. \nIl viaggio a Barcellona sarà necessario solo per i pazienti interessati a una embrio-adozione\, le coppie lesbiche per il metodo Ropa e le donne single che desiderano realizzare un trattamento con donatore di seme. \nGrazie alla collaborazione a Roma con la Clinica Villa Salaria\, centro abilitato a prestare questi servizi e realizzare la prescrizione medica (licenza livello 3)\, e con la sede Institut Marquès a Milano\, i migliori risultati sono garantiti in Italia come nel centro di Barcellona. \nInstitut Marquès Italia vanta livelli di eccellenza\, sicurezza e trasparenza\, nonché la migliore tecnologia e l’applicazione di tecniche avanzate\, oltre una grande esperienza nel settore della Riproduzione Assistita. \nLa partecipazione all’evento è gratuita e aperta a tutti\, previa registrazione online:\nhttps://form.jotformeu.com/81343721983359 \nMaggiori informazioni sui trattamenti e il metodo Ropa:\nhttps://bit.ly/2Isey6M
URL:https://cassero.it/evento/la-falla-open-day-riproduzione-assistita-2/
CATEGORIES:La Falla
ATTACH;FMTTYPE=:
END:VEVENT
BEGIN:VEVENT
DTSTART;TZID=Europe/Rome:20181105T190000
DTEND;TZID=Europe/Rome:20181105T190000
DTSTAMP:20260422T035017
CREATED:20181024T095112Z
LAST-MODIFIED:20181024T095112Z
UID:16426-1541444400-1541444400@cassero.it
SUMMARY:La Falla - Riunione di Redazione
DESCRIPTION:
URL:https://cassero.it/evento/la-falla-riunione-di-redazione-9-2/
CATEGORIES:La Falla
END:VEVENT
BEGIN:VEVENT
DTSTART;TZID=Europe/Rome:20181105T190000
DTEND;TZID=Europe/Rome:20181105T190000
DTSTAMP:20260422T035017
CREATED:20181024T095112Z
LAST-MODIFIED:20181024T095112Z
UID:6331-1541444400-1541444400@cassero.it
SUMMARY:La Falla - Riunione di Redazione
DESCRIPTION:
URL:https://cassero.it/evento/la-falla-riunione-di-redazione-9/
CATEGORIES:La Falla
END:VEVENT
BEGIN:VEVENT
DTSTART;TZID=Europe/Rome:20181029T190000
DTEND;TZID=Europe/Rome:20181029T230000
DTSTAMP:20260422T035017
CREATED:20180924T070451Z
LAST-MODIFIED:20180924T070451Z
UID:6133-1540839600-1540854000@cassero.it
SUMMARY:LA FALLA
DESCRIPTION:Riunione di Redazione
URL:https://cassero.it/evento/la-falla-19/
CATEGORIES:La Falla
ATTACH;FMTTYPE=:
END:VEVENT
BEGIN:VEVENT
DTSTART;TZID=Europe/Rome:20181029T190000
DTEND;TZID=Europe/Rome:20181029T230000
DTSTAMP:20260422T035017
CREATED:20180924T070451Z
LAST-MODIFIED:20180924T070451Z
UID:16366-1540839600-1540854000@cassero.it
SUMMARY:LA FALLA
DESCRIPTION:Riunione di Redazione
URL:https://cassero.it/evento/la-falla-19-2/
CATEGORIES:La Falla
ATTACH;FMTTYPE=:
END:VEVENT
BEGIN:VEVENT
DTSTART;TZID=Europe/Rome:20181022T190000
DTEND;TZID=Europe/Rome:20181022T230000
DTSTAMP:20260422T035017
CREATED:20180924T070355Z
LAST-MODIFIED:20180924T070355Z
UID:6131-1540234800-1540249200@cassero.it
SUMMARY:LA FALLA
DESCRIPTION:Riunione di Redazione
URL:https://cassero.it/evento/la-falla-18/
CATEGORIES:La Falla
ATTACH;FMTTYPE=:
END:VEVENT
BEGIN:VEVENT
DTSTART;TZID=Europe/Rome:20181022T190000
DTEND;TZID=Europe/Rome:20181022T230000
DTSTAMP:20260422T035017
CREATED:20180924T070355Z
LAST-MODIFIED:20180924T070355Z
UID:16365-1540234800-1540249200@cassero.it
SUMMARY:LA FALLA
DESCRIPTION:Riunione di Redazione
URL:https://cassero.it/evento/la-falla-18-2/
CATEGORIES:La Falla
ATTACH;FMTTYPE=:
END:VEVENT
BEGIN:VEVENT
DTSTART;TZID=Europe/Rome:20181015T190000
DTEND;TZID=Europe/Rome:20181015T230000
DTSTAMP:20260422T035017
CREATED:20180924T070315Z
LAST-MODIFIED:20180924T070315Z
UID:16364-1539630000-1539644400@cassero.it
SUMMARY:LA FALLA
DESCRIPTION:Riunione di Redazione
URL:https://cassero.it/evento/la-falla-17-2/
CATEGORIES:La Falla
ATTACH;FMTTYPE=:
END:VEVENT
BEGIN:VEVENT
DTSTART;TZID=Europe/Rome:20181015T190000
DTEND;TZID=Europe/Rome:20181015T230000
DTSTAMP:20260422T035017
CREATED:20180924T070315Z
LAST-MODIFIED:20180924T070315Z
UID:6129-1539630000-1539644400@cassero.it
SUMMARY:LA FALLA
DESCRIPTION:Riunione di Redazione
URL:https://cassero.it/evento/la-falla-17/
CATEGORIES:La Falla
ATTACH;FMTTYPE=:
END:VEVENT
BEGIN:VEVENT
DTSTART;TZID=Europe/Rome:20181008T190000
DTEND;TZID=Europe/Rome:20181008T230000
DTSTAMP:20260422T035017
CREATED:20180924T070233Z
LAST-MODIFIED:20180924T070233Z
UID:16363-1539025200-1539039600@cassero.it
SUMMARY:LA FALLA
DESCRIPTION:Riunione di Redazione
URL:https://cassero.it/evento/la-falla-16-2/
CATEGORIES:La Falla
ATTACH;FMTTYPE=:
END:VEVENT
BEGIN:VEVENT
DTSTART;TZID=Europe/Rome:20181008T190000
DTEND;TZID=Europe/Rome:20181008T230000
DTSTAMP:20260422T035017
CREATED:20180924T070233Z
LAST-MODIFIED:20180924T070233Z
UID:6127-1539025200-1539039600@cassero.it
SUMMARY:LA FALLA
DESCRIPTION:Riunione di Redazione
URL:https://cassero.it/evento/la-falla-16/
CATEGORIES:La Falla
ATTACH;FMTTYPE=:
END:VEVENT
BEGIN:VEVENT
DTSTART;TZID=Europe/Rome:20181001T190000
DTEND;TZID=Europe/Rome:20181001T230000
DTSTAMP:20260422T035017
CREATED:20180924T070138Z
LAST-MODIFIED:20180924T070138Z
UID:16362-1538420400-1538434800@cassero.it
SUMMARY:LA FALLA
DESCRIPTION:Riunione di Redazione
URL:https://cassero.it/evento/la-falla-15-2/
CATEGORIES:La Falla
ATTACH;FMTTYPE=:
END:VEVENT
BEGIN:VEVENT
DTSTART;TZID=Europe/Rome:20181001T190000
DTEND;TZID=Europe/Rome:20181001T230000
DTSTAMP:20260422T035017
CREATED:20180924T070138Z
LAST-MODIFIED:20180924T070138Z
UID:6125-1538420400-1538434800@cassero.it
SUMMARY:LA FALLA
DESCRIPTION:Riunione di Redazione
URL:https://cassero.it/evento/la-falla-15/
CATEGORIES:La Falla
ATTACH;FMTTYPE=:
END:VEVENT
BEGIN:VEVENT
DTSTART;TZID=Europe/Rome:20180625T190000
DTEND;TZID=Europe/Rome:20180625T190000
DTSTAMP:20260422T035017
CREATED:20180515T094315Z
LAST-MODIFIED:20180515T094315Z
UID:16251-1529953200-1529953200@cassero.it
SUMMARY:La Falla - Riunione di redazione
DESCRIPTION:
URL:https://cassero.it/evento/la-falla-riunione-di-redazione-8-2/
CATEGORIES:La Falla
END:VEVENT
BEGIN:VEVENT
DTSTART;TZID=Europe/Rome:20180625T190000
DTEND;TZID=Europe/Rome:20180625T190000
DTSTAMP:20260422T035017
CREATED:20180515T094315Z
LAST-MODIFIED:20180515T094315Z
UID:5665-1529953200-1529953200@cassero.it
SUMMARY:La Falla - Riunione di redazione
DESCRIPTION:
URL:https://cassero.it/evento/la-falla-riunione-di-redazione-8/
CATEGORIES:La Falla
END:VEVENT
BEGIN:VEVENT
DTSTART;TZID=Europe/Rome:20180620T193000
DTEND;TZID=Europe/Rome:20180620T230000
DTSTAMP:20260422T035017
CREATED:20180515T103324Z
LAST-MODIFIED:20180515T103324Z
UID:5676-1529523000-1529535600@cassero.it
SUMMARY:Giovani Cassero
DESCRIPTION:#misoginiainteriorizzata
URL:https://cassero.it/evento/giovani-cassero-29/
CATEGORIES:La Falla
END:VEVENT
END:VCALENDAR