BEGIN:VCALENDAR
VERSION:2.0
PRODID:-//Cassero - ECPv6.15.20//NONSGML v1.0//EN
CALSCALE:GREGORIAN
METHOD:PUBLISH
X-WR-CALNAME:Cassero
X-ORIGINAL-URL:https://cassero.it
X-WR-CALDESC:Eventi per Cassero
REFRESH-INTERVAL;VALUE=DURATION:PT1H
X-Robots-Tag:noindex
X-PUBLISHED-TTL:PT1H
BEGIN:VTIMEZONE
TZID:Europe/Rome
BEGIN:DAYLIGHT
TZOFFSETFROM:+0100
TZOFFSETTO:+0200
TZNAME:CEST
DTSTART:20170326T010000
END:DAYLIGHT
BEGIN:STANDARD
TZOFFSETFROM:+0200
TZOFFSETTO:+0100
TZNAME:CET
DTSTART:20171029T010000
END:STANDARD
BEGIN:DAYLIGHT
TZOFFSETFROM:+0100
TZOFFSETTO:+0200
TZNAME:CEST
DTSTART:20180325T010000
END:DAYLIGHT
BEGIN:STANDARD
TZOFFSETFROM:+0200
TZOFFSETTO:+0100
TZNAME:CET
DTSTART:20181028T010000
END:STANDARD
BEGIN:DAYLIGHT
TZOFFSETFROM:+0100
TZOFFSETTO:+0200
TZNAME:CEST
DTSTART:20190331T010000
END:DAYLIGHT
BEGIN:STANDARD
TZOFFSETFROM:+0200
TZOFFSETTO:+0100
TZNAME:CET
DTSTART:20191027T010000
END:STANDARD
BEGIN:DAYLIGHT
TZOFFSETFROM:+0100
TZOFFSETTO:+0200
TZNAME:CEST
DTSTART:20200329T010000
END:DAYLIGHT
BEGIN:STANDARD
TZOFFSETFROM:+0200
TZOFFSETTO:+0100
TZNAME:CET
DTSTART:20201025T010000
END:STANDARD
BEGIN:DAYLIGHT
TZOFFSETFROM:+0100
TZOFFSETTO:+0200
TZNAME:CEST
DTSTART:20210328T010000
END:DAYLIGHT
BEGIN:STANDARD
TZOFFSETFROM:+0200
TZOFFSETTO:+0100
TZNAME:CET
DTSTART:20211031T010000
END:STANDARD
END:VTIMEZONE
BEGIN:VEVENT
DTSTART;TZID=Europe/Rome:20180729T190000
DTEND;TZID=Europe/Rome:20180729T190000
DTSTAMP:20260424T191305
CREATED:20180614T144343Z
LAST-MODIFIED:20180614T144343Z
UID:16291-1532890800-1532890800@cassero.it
SUMMARY:Internazionale Trash Ribelle
DESCRIPTION:Dj: \nInternazionale Trash Ribelle All Stars \nMarxismo e Pop\, ciò che è apparentemente inconciliabile trova una sua giustificazione ideologica con Internazionale Trash Ribelle\, l’unica crew che con una mano stringe il pugno al cielo e con l’altra mixa gli 883. \nIngresso gratuito\, no tessera
URL:https://cassero.it/evento/internazionale-trash-ribelle-6-2/
LOCATION:BO
CATEGORIES:Estate
ATTACH;FMTTYPE=:
END:VEVENT
BEGIN:VEVENT
DTSTART;TZID=Europe/Rome:20180729T190000
DTEND;TZID=Europe/Rome:20180729T190000
DTSTAMP:20260424T191305
CREATED:20180614T144343Z
LAST-MODIFIED:20180614T144343Z
UID:5826-1532890800-1532890800@cassero.it
SUMMARY:Internazionale Trash Ribelle
DESCRIPTION:Dj: \nInternazionale Trash Ribelle All Stars \nMarxismo e Pop\, ciò che è apparentemente inconciliabile trova una sua giustificazione ideologica con Internazionale Trash Ribelle\, l’unica crew che con una mano stringe il pugno al cielo e con l’altra mixa gli 883. \nIngresso gratuito\, no tessera
URL:https://cassero.it/evento/internazionale-trash-ribelle-6/
LOCATION:BO
CATEGORIES:Estate
ATTACH;FMTTYPE=:
END:VEVENT
BEGIN:VEVENT
DTSTART;TZID=Europe/Rome:20180730T190000
DTEND;TZID=Europe/Rome:20180730T190000
DTSTAMP:20260424T191305
CREATED:20180614T144430Z
LAST-MODIFIED:20180614T144430Z
UID:16292-1532977200-1532977200@cassero.it
SUMMARY:LUFTRAUM GATE
DESCRIPTION:LOOKIN’UP #4\nuno sguardo verso l’alto \ndj set elettropop/ house/ tech-house \nIl dj set spazierà tra fresche ed estive sonorità elettropop – house e tech-house \nxxxx Luftraum\nIl collettivo di dj “Luftraum” nasce nel 2014 dalla passione di quattro amici per la musica elettronica e la club culture\, dopo una folgorante serata allo “Spazio Aereo” di Marghera. \n\nLUFTRAUM GATE è sinonimo di una costante ricerca musicale e di un’estetica raffinata che attraversa con disinvoltura i generi\, dall’house più sperimentale alla techno più serrata\, passando alle produzioni elettroniche più innovative.\n \nhttps://www.facebook.com/Luftraum-1161014733916155/
URL:https://cassero.it/evento/luftraum-gate-2-2/
LOCATION:BO
CATEGORIES:Estate,Slider – Clubbing
ATTACH;FMTTYPE=:
END:VEVENT
BEGIN:VEVENT
DTSTART;TZID=Europe/Rome:20180730T190000
DTEND;TZID=Europe/Rome:20180730T190000
DTSTAMP:20260424T191305
CREATED:20180614T144430Z
LAST-MODIFIED:20180614T144430Z
UID:5828-1532977200-1532977200@cassero.it
SUMMARY:LUFTRAUM GATE
DESCRIPTION:LOOKIN’UP #4\nuno sguardo verso l’alto \ndj set elettropop/ house/ tech-house \nIl dj set spazierà tra fresche ed estive sonorità elettropop – house e tech-house \nxxxx Luftraum\nIl collettivo di dj “Luftraum” nasce nel 2014 dalla passione di quattro amici per la musica elettronica e la club culture\, dopo una folgorante serata allo “Spazio Aereo” di Marghera. \n\nLUFTRAUM GATE è sinonimo di una costante ricerca musicale e di un’estetica raffinata che attraversa con disinvoltura i generi\, dall’house più sperimentale alla techno più serrata\, passando alle produzioni elettroniche più innovative.\n \nhttps://www.facebook.com/Luftraum-1161014733916155/
URL:https://cassero.it/evento/luftraum-gate-2/
LOCATION:BO
CATEGORIES:Estate,Slider – Clubbing
ATTACH;FMTTYPE=:
END:VEVENT
BEGIN:VEVENT
DTSTART;TZID=Europe/Rome:20180721T190000
DTEND;TZID=Europe/Rome:20180721T190000
DTSTAMP:20260424T191305
CREATED:20231106T145958Z
LAST-MODIFIED:20231106T145958Z
UID:5814-1532199600-1532199600@cassero.it
SUMMARY:BREAK YA NECK
DESCRIPTION:con \nFrank Siciliano \nRapper\, cantante\, produttore\, regista\, poeta. Frank Siciliano brilla nel firmamento dell’hip hop italiano grazie alle sue liriche intense e ai suoi beat colti. Per questo evento speciale\, Mr. Siciliano si cimenterà in un set che riassume tutte le sue influenze\, i suoi gusti e la musica che più ama… Lauryn Hill\, Kanye West\, Pusha T\, Gang Starr\, Method Man… com’on\, break ya neck to the beat! \nIngresso gratuito\, no tessera
URL:https://cassero.it/evento/break-ya-neck/
LOCATION:BO
END:VEVENT
BEGIN:VEVENT
DTSTART;TZID=Europe/Rome:20180727T190000
DTEND;TZID=Europe/Rome:20180727T190000
DTSTAMP:20260424T191305
CREATED:20231106T145959Z
LAST-MODIFIED:20231106T145959Z
UID:5822-1532718000-1532718000@cassero.it
SUMMARY:BALERA FAVELA
DESCRIPTION:  \nDj: \nBalera Favela Soundsystem (Ckrono\, Go Dugong\, Prp\, Sartana) \nRitmi e musiche meticce provenienti da tutto il mondo\, che oltrepassano ogni tipo di barriera culturale e geografica. Alla faccia di chi vuole oggi alzare muri ai confini. Dal kuduro al barile funk\, dalla salsa alla cumbia\, dal palenque al bhangra\, tutto il ritmo del mondo in una sola serata. \nIngresso gratuito – no tessera
URL:https://cassero.it/evento/balera-favela/
LOCATION:BO
END:VEVENT
BEGIN:VEVENT
DTSTART;TZID=Europe/Rome:20200205T193000
DTEND;TZID=Europe/Rome:20200205T193000
DTSTAMP:20260424T191305
CREATED:20200201T122531Z
LAST-MODIFIED:20200201T122531Z
UID:16959-1580931000-1580931000@cassero.it
SUMMARY:Cassero Salute
DESCRIPTION:
URL:https://cassero.it/evento/cassero-salute-16-2/
LOCATION:BO
CATEGORIES:Salute
END:VEVENT
BEGIN:VEVENT
DTSTART;TZID=Europe/Rome:20200212T193000
DTEND;TZID=Europe/Rome:20200212T193000
DTSTAMP:20260424T191305
CREATED:20200201T122531Z
LAST-MODIFIED:20200201T122531Z
UID:16960-1581535800-1581535800@cassero.it
SUMMARY:Cassero Salute
DESCRIPTION:
URL:https://cassero.it/evento/cassero-salute-16-2020-02-12-2/
LOCATION:BO
CATEGORIES:Salute
END:VEVENT
BEGIN:VEVENT
DTSTART;TZID=Europe/Rome:20200205T193000
DTEND;TZID=Europe/Rome:20200205T193000
DTSTAMP:20260424T191305
CREATED:20200201T122531Z
LAST-MODIFIED:20200201T122531Z
UID:8159-1580931000-1580931000@cassero.it
SUMMARY:Cassero Salute
DESCRIPTION:
URL:https://cassero.it/evento/cassero-salute-16/
LOCATION:BO
CATEGORIES:Salute
END:VEVENT
BEGIN:VEVENT
DTSTART;TZID=Europe/Rome:20200219T193000
DTEND;TZID=Europe/Rome:20200219T193000
DTSTAMP:20260424T191305
CREATED:20200201T122531Z
LAST-MODIFIED:20200201T122531Z
UID:16961-1582140600-1582140600@cassero.it
SUMMARY:Cassero Salute
DESCRIPTION:
URL:https://cassero.it/evento/cassero-salute-16-2020-02-19-2/
LOCATION:BO
CATEGORIES:Salute
END:VEVENT
BEGIN:VEVENT
DTSTART;TZID=Europe/Rome:20200212T193000
DTEND;TZID=Europe/Rome:20200212T193000
DTSTAMP:20260424T191305
CREATED:20200201T122531Z
LAST-MODIFIED:20200201T122531Z
UID:8161-1581535800-1581535800@cassero.it
SUMMARY:Cassero Salute
DESCRIPTION:
URL:https://cassero.it/evento/cassero-salute-16-2020-02-12/
LOCATION:BO
CATEGORIES:Salute
END:VEVENT
BEGIN:VEVENT
DTSTART;TZID=Europe/Rome:20200226T193000
DTEND;TZID=Europe/Rome:20200226T193000
DTSTAMP:20260424T191305
CREATED:20200201T122531Z
LAST-MODIFIED:20200201T122531Z
UID:16962-1582745400-1582745400@cassero.it
SUMMARY:Cassero Salute
DESCRIPTION:
URL:https://cassero.it/evento/cassero-salute-16-2020-02-26-2/
LOCATION:BO
CATEGORIES:Salute
END:VEVENT
BEGIN:VEVENT
DTSTART;TZID=Europe/Rome:20200219T193000
DTEND;TZID=Europe/Rome:20200219T193000
DTSTAMP:20260424T191305
CREATED:20200201T122531Z
LAST-MODIFIED:20200201T122531Z
UID:8162-1582140600-1582140600@cassero.it
SUMMARY:Cassero Salute
DESCRIPTION:
URL:https://cassero.it/evento/cassero-salute-16-2020-02-19/
LOCATION:BO
CATEGORIES:Salute
END:VEVENT
BEGIN:VEVENT
DTSTART;TZID=Europe/Rome:20200226T193000
DTEND;TZID=Europe/Rome:20200226T193000
DTSTAMP:20260424T191305
CREATED:20200201T122531Z
LAST-MODIFIED:20200201T122531Z
UID:8163-1582745400-1582745400@cassero.it
SUMMARY:Cassero Salute
DESCRIPTION:
URL:https://cassero.it/evento/cassero-salute-16-2020-02-26/
LOCATION:BO
CATEGORIES:Salute
END:VEVENT
BEGIN:VEVENT
DTSTART;TZID=Europe/Rome:20200212T193000
DTEND;TZID=Europe/Rome:20200212T193000
DTSTAMP:20260424T191305
CREATED:20200201T122929Z
LAST-MODIFIED:20200201T122929Z
UID:16964-1581535800-1581535800@cassero.it
SUMMARY:Gruppo Giovani
DESCRIPTION:Visto l’entusiasmo mostrato l’anno scorso per questo evento\, anche per questo San Valentino vi riproponiamo lo speed date!\nCi vediamo mercoledì 12.02 dalle ore 20 per un drink e nel tentativo di trovare la prossima anima gemella! \nLe nostre attività sono aperte a tutti e non serve la tessera!\nA seguire vi invitiamo a rimanere alla serata gratuita del cassero #WePlay
URL:https://cassero.it/evento/gruppo-giovani-14-2/
LOCATION:BO
CATEGORIES:Gruppi di socializzazione
ATTACH;FMTTYPE=:
END:VEVENT
BEGIN:VEVENT
DTSTART;TZID=Europe/Rome:20200226T193000
DTEND;TZID=Europe/Rome:20200226T193000
DTSTAMP:20260424T191305
CREATED:20200201T122929Z
LAST-MODIFIED:20200201T122929Z
UID:16965-1582745400-1582745400@cassero.it
SUMMARY:Gruppo Giovani
DESCRIPTION:Visto l’entusiasmo mostrato l’anno scorso per questo evento\, anche per questo San Valentino vi riproponiamo lo speed date!\nCi vediamo mercoledì 12.02 dalle ore 20 per un drink e nel tentativo di trovare la prossima anima gemella! \nLe nostre attività sono aperte a tutti e non serve la tessera!\nA seguire vi invitiamo a rimanere alla serata gratuita del cassero #WePlay
URL:https://cassero.it/evento/gruppo-giovani-14-2020-02-26-2/
LOCATION:BO
CATEGORIES:Gruppi di socializzazione
ATTACH;FMTTYPE=:
END:VEVENT
BEGIN:VEVENT
DTSTART;TZID=Europe/Rome:20200212T193000
DTEND;TZID=Europe/Rome:20200212T193000
DTSTAMP:20260424T191305
CREATED:20200201T122929Z
LAST-MODIFIED:20200201T122929Z
UID:8166-1581535800-1581535800@cassero.it
SUMMARY:Gruppo Giovani
DESCRIPTION:Visto l’entusiasmo mostrato l’anno scorso per questo evento\, anche per questo San Valentino vi riproponiamo lo speed date!\nCi vediamo mercoledì 12.02 dalle ore 20 per un drink e nel tentativo di trovare la prossima anima gemella! \nLe nostre attività sono aperte a tutti e non serve la tessera!\nA seguire vi invitiamo a rimanere alla serata gratuita del cassero #WePlay
URL:https://cassero.it/evento/gruppo-giovani-14/
LOCATION:BO
CATEGORIES:Gruppi di socializzazione
ATTACH;FMTTYPE=:
END:VEVENT
BEGIN:VEVENT
DTSTART;TZID=Europe/Rome:20200226T193000
DTEND;TZID=Europe/Rome:20200226T193000
DTSTAMP:20260424T191305
CREATED:20200201T122929Z
LAST-MODIFIED:20200201T122929Z
UID:8168-1582745400-1582745400@cassero.it
SUMMARY:Gruppo Giovani
DESCRIPTION:Visto l’entusiasmo mostrato l’anno scorso per questo evento\, anche per questo San Valentino vi riproponiamo lo speed date!\nCi vediamo mercoledì 12.02 dalle ore 20 per un drink e nel tentativo di trovare la prossima anima gemella! \nLe nostre attività sono aperte a tutti e non serve la tessera!\nA seguire vi invitiamo a rimanere alla serata gratuita del cassero #WePlay
URL:https://cassero.it/evento/gruppo-giovani-14-2020-02-26/
LOCATION:BO
CATEGORIES:Gruppi di socializzazione
ATTACH;FMTTYPE=:
END:VEVENT
BEGIN:VEVENT
DTSTART;TZID=Europe/Rome:20180728T233000
DTEND;TZID=Europe/Rome:20180728T233000
DTSTAMP:20260424T191305
CREATED:20180614T144234Z
LAST-MODIFIED:20180614T144234Z
UID:16290-1532820600-1532820600@cassero.it
SUMMARY:Madonna Mia! - Ciccone all night long
DESCRIPTION:Dj: \nSergio Wow (Madonnamania – SchwuZ\, Berlin) \nCamaleontica\, provocatrice\, controversa\, divina… Non esistono abbastanza aggettivi nel vocabolario per descrivere quel fenomeno che da più di tre decenni occupa le classifiche (e i siti di gossip) di tutto il mondo. Parliamo ovviamente di lei\, miss Ciccone! Sergio Wow torna con il suo baule pieno di hit\, b-side\, remix\, rarità della diva per antonomasia. Get into the groove! \nIngresso gratuito\, no tessera
URL:https://cassero.it/evento/madonna-mia-ciccone-all-night-long-2/
LOCATION:BO
CATEGORIES:Club,Slider – Clubbing
ATTACH;FMTTYPE=:
END:VEVENT
BEGIN:VEVENT
DTSTART;TZID=Europe/Rome:20200219T233000
DTEND;TZID=Europe/Rome:20200219T233000
DTSTAMP:20260424T191305
CREATED:20200201T120732Z
LAST-MODIFIED:20200201T120732Z
UID:8217-1582155000-1582155000@cassero.it
SUMMARY:We Play
DESCRIPTION:ARE YOU READY? \nMUSIC BY\nWONDERBRATZ\nMADS \nVOICE\nEMANUELE LADIANA \nOFFICIAL PHOTOGRAPHER\nSWEENEY NATY \n★ FREE ENTRY ★ \n▶︎ SI’ VUOL DIRE SI’\, NO VUOL DIRE NO ◀︎ \nIn questo spazio ogni persona deve sentirsi accolta e benvenuta. Omofobia\, transfobia\, sessismo\,\nmaschilismo\, razzismo e fascismo non sono ammessi.\nIl consenso è indispensabile nelle interazioni fra tutti i generi e può essere revocato in qualunque\nmomento. Il consenso dev’essere esplicito; quando sei nel dubbio\, considera che se non è un assoluto sì\, è un assoluto no. \nTESSERA ARCIGAY REQUIRED (13 EURO – VALIDITÀ DI UN ANNO DALLA EMISSIONE)\nAFFIANCAMENTO A TESSERA ARCI (corrente) AL COSTO DI 5 EURO. \nc/o Cassero LGBTI Center \nVia Don Minzoni\, Bologna
URL:https://cassero.it/evento/we-play-67-2020-02-19/
LOCATION:BO
CATEGORIES:Club,Slider – Clubbing
ATTACH;FMTTYPE=:
END:VEVENT
BEGIN:VEVENT
DTSTART;TZID=Europe/Rome:20200219T233000
DTEND;TZID=Europe/Rome:20200219T233000
DTSTAMP:20260424T191305
CREATED:20200201T120732Z
LAST-MODIFIED:20200201T120732Z
UID:16966-1582155000-1582155000@cassero.it
SUMMARY:We Play
DESCRIPTION:ARE YOU READY? \nMUSIC BY\nWONDERBRATZ\nMADS \nVOICE\nEMANUELE LADIANA \nOFFICIAL PHOTOGRAPHER\nSWEENEY NATY \n★ FREE ENTRY ★ \n▶︎ SI’ VUOL DIRE SI’\, NO VUOL DIRE NO ◀︎ \nIn questo spazio ogni persona deve sentirsi accolta e benvenuta. Omofobia\, transfobia\, sessismo\,\nmaschilismo\, razzismo e fascismo non sono ammessi.\nIl consenso è indispensabile nelle interazioni fra tutti i generi e può essere revocato in qualunque\nmomento. Il consenso dev’essere esplicito; quando sei nel dubbio\, considera che se non è un assoluto sì\, è un assoluto no. \nTESSERA ARCIGAY REQUIRED (13 EURO – VALIDITÀ DI UN ANNO DALLA EMISSIONE)\nAFFIANCAMENTO A TESSERA ARCI (corrente) AL COSTO DI 5 EURO. \nc/o Cassero LGBTI Center \nVia Don Minzoni\, Bologna
URL:https://cassero.it/evento/we-play-67-2020-02-19-2/
LOCATION:BO
CATEGORIES:Club,Slider – Clubbing
ATTACH;FMTTYPE=:
END:VEVENT
BEGIN:VEVENT
DTSTART;TZID=Europe/Rome:20200226T233000
DTEND;TZID=Europe/Rome:20200226T233000
DTSTAMP:20260424T191305
CREATED:20200201T120732Z
LAST-MODIFIED:20200201T120732Z
UID:16967-1582759800-1582759800@cassero.it
SUMMARY:EVENTO ANNULLATO
DESCRIPTION:ARE YOU READY? \nMUSIC BY\nWONDERBRATZ\nMADS \nVOICE\nEMANUELE LADIANA \nOFFICIAL PHOTOGRAPHER\nSWEENEY NATY \n★ FREE ENTRY ★ \n▶︎ SI’ VUOL DIRE SI’\, NO VUOL DIRE NO ◀︎ \nIn questo spazio ogni persona deve sentirsi accolta e benvenuta. Omofobia\, transfobia\, sessismo\,\nmaschilismo\, razzismo e fascismo non sono ammessi.\nIl consenso è indispensabile nelle interazioni fra tutti i generi e può essere revocato in qualunque\nmomento. Il consenso dev’essere esplicito; quando sei nel dubbio\, considera che se non è un assoluto sì\, è un assoluto no. \nTESSERA ARCIGAY REQUIRED (13 EURO – VALIDITÀ DI UN ANNO DALLA EMISSIONE)\nAFFIANCAMENTO A TESSERA ARCI (corrente) AL COSTO DI 5 EURO. \nc/o Cassero LGBTI Center \nVia Don Minzoni\, Bologna
URL:https://cassero.it/evento/we-play-67-2020-02-26/
LOCATION:BO
CATEGORIES:Club,Slider – Clubbing
ATTACH;FMTTYPE=:
END:VEVENT
BEGIN:VEVENT
DTSTART;TZID=Europe/Rome:20180728T233000
DTEND;TZID=Europe/Rome:20180728T233000
DTSTAMP:20260424T191305
CREATED:20231106T145958Z
LAST-MODIFIED:20231106T145958Z
UID:5824-1532820600-1532820600@cassero.it
SUMMARY:Madonna Mia! - Ciccone all night long
DESCRIPTION:Dj: \nSergio Wow (Madonnamania – SchwuZ\, Berlin) \nCamaleontica\, provocatrice\, controversa\, divina… Non esistono abbastanza aggettivi nel vocabolario per descrivere quel fenomeno che da più di tre decenni occupa le classifiche (e i siti di gossip) di tutto il mondo. Parliamo ovviamente di lei\, miss Ciccone! Sergio Wow torna con il suo baule pieno di hit\, b-side\, remix\, rarità della diva per antonomasia. Get into the groove! \nIngresso gratuito\, no tessera
URL:https://cassero.it/evento/madonna-mia-ciccone-all-night-long/
LOCATION:BO
END:VEVENT
BEGIN:VEVENT
DTSTART;TZID=Europe/Rome:20200226T233000
DTEND;TZID=Europe/Rome:20200226T233000
DTSTAMP:20260424T191305
CREATED:20231106T150025Z
LAST-MODIFIED:20231106T150025Z
UID:8218-1582759800-1582759800@cassero.it
SUMMARY:EVENTO ANNULLATO
DESCRIPTION:ARE YOU READY? \nMUSIC BY\nWONDERBRATZ\nMADS \nVOICE\nEMANUELE LADIANA \nOFFICIAL PHOTOGRAPHER\nSWEENEY NATY \n★ FREE ENTRY ★ \n▶︎ SI’ VUOL DIRE SI’\, NO VUOL DIRE NO ◀︎ \nIn questo spazio ogni persona deve sentirsi accolta e benvenuta. Omofobia\, transfobia\, sessismo\,\nmaschilismo\, razzismo e fascismo non sono ammessi.\nIl consenso è indispensabile nelle interazioni fra tutti i generi e può essere revocato in qualunque\nmomento. Il consenso dev’essere esplicito; quando sei nel dubbio\, considera che se non è un assoluto sì\, è un assoluto no. \nTESSERA ARCIGAY REQUIRED (13 EURO – VALIDITÀ DI UN ANNO DALLA EMISSIONE)\nAFFIANCAMENTO A TESSERA ARCI (corrente) AL COSTO DI 5 EURO. \nc/o Cassero LGBTI Center \nVia Don Minzoni\, Bologna
URL:https://cassero.it/evento/evento-annullato/
LOCATION:BO
END:VEVENT
BEGIN:VEVENT
DTSTART;TZID=Europe/Rome:20180718T190000
DTEND;TZID=Europe/Rome:20180718T190000
DTSTAMP:20260424T191305
CREATED:20180614T143424Z
LAST-MODIFIED:20180614T143424Z
UID:5808-1531940400-1531940400@cassero.it
SUMMARY:WePlay
DESCRIPTION:▬▬▬▬▬▬▬▬▬▬▬▬▬▬▬▬▬▬▬▬▬▬▬▬▬▬▬▬▬▬▬▬▬▬▬▬▬▬▬▬▬▬\n★ #WEPLAY ★\n▬▬▬▬▬▬▬▬▬▬▬▬▬▬▬▬▬▬▬▬▬▬▬▬▬▬▬▬▬▬▬▬▬▬▬▬▬▬▬▬▬▬ \nLO STORICO MERCOLEDÌ’ AD INGRESSO GRATUITO TARGATO CASSERO TORNA PER LA SUA ULTIMA DATA ESTIVA NELLA SPLENDIDA CORNICE DE “L’ALTRA SPONDA” DEL CASSERO LGBTI CENTER! \nNXT SEASON IS COMING!! \nARE YOU READY? \nMUSIC BY //\nDIANA BLUDURA\nMAGDA ALIENA \n★ FREE ENTRY ★ \n▶︎ SI’ VUOL DIRE SI’\, NO VUOL DIRE NO ◀︎ \nIn questo spazio ogni persona deve sentirsi accolta e benvenuta. Omofobia\, transfobia\, sessismo\, maschilismo\, razzismo e fascismo non sono ammessi.\nIl consenso è indispensabile nelle interazioni fra tutti i generi e può essere revocato in qualunque momento. Il consenso dev’essere esplicito; quando sei nel dubbio\, considera che se non è un assoluto sì\, è un assoluto no. \nc/o Cassero LGBTI Center\nVia Don Minzoni\, Bologna
URL:https://cassero.it/evento/weplay-beer-pong-edition/
LOCATION:BO
CATEGORIES:Estate,Slider – Clubbing
ATTACH;FMTTYPE=:
END:VEVENT
BEGIN:VEVENT
DTSTART;TZID=Europe/Rome:20180718T190000
DTEND;TZID=Europe/Rome:20180718T190000
DTSTAMP:20260424T191305
CREATED:20180614T143424Z
LAST-MODIFIED:20180614T143424Z
UID:16282-1531940400-1531940400@cassero.it
SUMMARY:WePlay
DESCRIPTION:▬▬▬▬▬▬▬▬▬▬▬▬▬▬▬▬▬▬▬▬▬▬▬▬▬▬▬▬▬▬▬▬▬▬▬▬▬▬▬▬▬▬\n★ #WEPLAY ★\n▬▬▬▬▬▬▬▬▬▬▬▬▬▬▬▬▬▬▬▬▬▬▬▬▬▬▬▬▬▬▬▬▬▬▬▬▬▬▬▬▬▬ \nLO STORICO MERCOLEDÌ’ AD INGRESSO GRATUITO TARGATO CASSERO TORNA PER LA SUA ULTIMA DATA ESTIVA NELLA SPLENDIDA CORNICE DE “L’ALTRA SPONDA” DEL CASSERO LGBTI CENTER! \nNXT SEASON IS COMING!! \nARE YOU READY? \nMUSIC BY //\nDIANA BLUDURA\nMAGDA ALIENA \n★ FREE ENTRY ★ \n▶︎ SI’ VUOL DIRE SI’\, NO VUOL DIRE NO ◀︎ \nIn questo spazio ogni persona deve sentirsi accolta e benvenuta. Omofobia\, transfobia\, sessismo\, maschilismo\, razzismo e fascismo non sono ammessi.\nIl consenso è indispensabile nelle interazioni fra tutti i generi e può essere revocato in qualunque momento. Il consenso dev’essere esplicito; quando sei nel dubbio\, considera che se non è un assoluto sì\, è un assoluto no. \nc/o Cassero LGBTI Center\nVia Don Minzoni\, Bologna
URL:https://cassero.it/evento/weplay-beer-pong-edition-2/
LOCATION:BO
CATEGORIES:Estate,Slider – Clubbing
ATTACH;FMTTYPE=:
END:VEVENT
BEGIN:VEVENT
DTSTART;TZID=Europe/Rome:20180719T190000
DTEND;TZID=Europe/Rome:20180719T190000
DTSTAMP:20260424T191305
CREATED:20180614T143514Z
LAST-MODIFIED:20180614T143514Z
UID:5810-1532026800-1532026800@cassero.it
SUMMARY:Disco Volante
DESCRIPTION:Musiche da un altro pianeta nella cornice de L’Altra Sponda! \nBanderas DJ \nBanderas\, come tutti i dj del mondo\, nasce mettendo musica alle feste private ed emerge dai bagni del Cassero. Successivamente inizia a portare avanti un format di serate italo-disco\, space-disco e disco-house con i progetti NeonDisco al Cassero e LoveBox al Locomotiv\, costruendo questo percorso musicale sempre unito da un certo leitmotiv.\nLa black music (disco\, R’n’B\, house) che si connette alla space disco e al synth-pop senza mai tralasciare inni pop ed electro. Con gli stessi ingredienti è entrato nella web-radio indipendente NEU Radio con il programma Paradisco.
URL:https://cassero.it/evento/disco-volante-5/
LOCATION:BO
CATEGORIES:Estate,Slider – Clubbing
ATTACH;FMTTYPE=:
END:VEVENT
BEGIN:VEVENT
DTSTART;TZID=Europe/Rome:20180719T190000
DTEND;TZID=Europe/Rome:20180719T190000
DTSTAMP:20260424T191305
CREATED:20180614T143514Z
LAST-MODIFIED:20180614T143514Z
UID:16283-1532026800-1532026800@cassero.it
SUMMARY:Disco Volante
DESCRIPTION:Musiche da un altro pianeta nella cornice de L’Altra Sponda! \nBanderas DJ \nBanderas\, come tutti i dj del mondo\, nasce mettendo musica alle feste private ed emerge dai bagni del Cassero. Successivamente inizia a portare avanti un format di serate italo-disco\, space-disco e disco-house con i progetti NeonDisco al Cassero e LoveBox al Locomotiv\, costruendo questo percorso musicale sempre unito da un certo leitmotiv.\nLa black music (disco\, R’n’B\, house) che si connette alla space disco e al synth-pop senza mai tralasciare inni pop ed electro. Con gli stessi ingredienti è entrato nella web-radio indipendente NEU Radio con il programma Paradisco.
URL:https://cassero.it/evento/disco-volante-5-2/
LOCATION:BO
CATEGORIES:Estate,Slider – Clubbing
ATTACH;FMTTYPE=:
END:VEVENT
BEGIN:VEVENT
DTSTART;TZID=Europe/Rome:20180720T190000
DTEND;TZID=Europe/Rome:20180720T190000
DTSTAMP:20260424T191305
CREATED:20180614T143605Z
LAST-MODIFIED:20180614T143605Z
UID:5812-1532113200-1532113200@cassero.it
SUMMARY:Trash for Free
DESCRIPTION:Dj \nI Ricchi & Prodigy \nMagda Aliena \nMassi Electropoprock \nUn tempo\, ogni estate\, immancabile come le zanzare e le infradito\, c’era il Festivalbar. Oggi\, c’è Trash For Free. Il meglio\, ma soprattutto il peggio\, del pop mondiale di ieri\, di oggi\, e pure quello di domani\, dalle 19 a notte fonda… Preparatevi per l’apocalisse del cattivo gusto.
URL:https://cassero.it/evento/trash-for-free-18/
LOCATION:BO
CATEGORIES:Club,Slider – Clubbing
ATTACH;FMTTYPE=:
END:VEVENT
BEGIN:VEVENT
DTSTART;TZID=Europe/Rome:20180720T190000
DTEND;TZID=Europe/Rome:20180720T190000
DTSTAMP:20260424T191305
CREATED:20180614T143605Z
LAST-MODIFIED:20180614T143605Z
UID:16284-1532113200-1532113200@cassero.it
SUMMARY:Trash for Free
DESCRIPTION:Dj \nI Ricchi & Prodigy \nMagda Aliena \nMassi Electropoprock \nUn tempo\, ogni estate\, immancabile come le zanzare e le infradito\, c’era il Festivalbar. Oggi\, c’è Trash For Free. Il meglio\, ma soprattutto il peggio\, del pop mondiale di ieri\, di oggi\, e pure quello di domani\, dalle 19 a notte fonda… Preparatevi per l’apocalisse del cattivo gusto.
URL:https://cassero.it/evento/trash-for-free-18-2/
LOCATION:BO
CATEGORIES:Club,Slider – Clubbing
ATTACH;FMTTYPE=:
END:VEVENT
END:VCALENDAR