BEGIN:VCALENDAR
VERSION:2.0
PRODID:-//Cassero - ECPv6.15.20//NONSGML v1.0//EN
CALSCALE:GREGORIAN
METHOD:PUBLISH
X-WR-CALNAME:Cassero
X-ORIGINAL-URL:https://cassero.it
X-WR-CALDESC:Eventi per Cassero
REFRESH-INTERVAL;VALUE=DURATION:PT1H
X-Robots-Tag:noindex
X-PUBLISHED-TTL:PT1H
BEGIN:VTIMEZONE
TZID:Europe/Rome
BEGIN:DAYLIGHT
TZOFFSETFROM:+0100
TZOFFSETTO:+0200
TZNAME:CEST
DTSTART:20160327T010000
END:DAYLIGHT
BEGIN:STANDARD
TZOFFSETFROM:+0200
TZOFFSETTO:+0100
TZNAME:CET
DTSTART:20161030T010000
END:STANDARD
BEGIN:DAYLIGHT
TZOFFSETFROM:+0100
TZOFFSETTO:+0200
TZNAME:CEST
DTSTART:20170326T010000
END:DAYLIGHT
BEGIN:STANDARD
TZOFFSETFROM:+0200
TZOFFSETTO:+0100
TZNAME:CET
DTSTART:20171029T010000
END:STANDARD
BEGIN:DAYLIGHT
TZOFFSETFROM:+0100
TZOFFSETTO:+0200
TZNAME:CEST
DTSTART:20180325T010000
END:DAYLIGHT
BEGIN:STANDARD
TZOFFSETFROM:+0200
TZOFFSETTO:+0100
TZNAME:CET
DTSTART:20181028T010000
END:STANDARD
END:VTIMEZONE
BEGIN:VEVENT
DTSTART;TZID=Europe/Rome:20170228T233000
DTEND;TZID=Europe/Rome:20170228T233000
DTSTAMP:20260422T053307
CREATED:20170120T083427Z
LAST-MODIFIED:20170120T083427Z
UID:15755-1488324600-1488324600@cassero.it
SUMMARY:CARNIVAL PARTY
DESCRIPTION:Music: \nMC NILL \nI RICCHI & PRODIGY \n  \nPerformance speciale di samba dal vivo: \nBateria Corretto Samba diretta da Cristiano Buffolino e Marco Catinaccio \n  \nDress code: Favela chic\, degrado\, gangsta\, telenovelas do Brasil\, Samba d’Amore… \n  \nIngresso gratuito con tessera Arcigay – Arcilesbica \n 
URL:https://cassero.it/evento/carnival-party-2/
CATEGORIES:Club
ATTACH;FMTTYPE=:
END:VEVENT
END:VCALENDAR