BEGIN:VCALENDAR
VERSION:2.0
PRODID:-//Cassero - ECPv6.15.20//NONSGML v1.0//EN
CALSCALE:GREGORIAN
METHOD:PUBLISH
X-ORIGINAL-URL:https://cassero.it
X-WR-CALDESC:Eventi per Cassero
REFRESH-INTERVAL;VALUE=DURATION:PT1H
X-Robots-Tag:noindex
X-PUBLISHED-TTL:PT1H
BEGIN:VTIMEZONE
TZID:Europe/Rome
BEGIN:DAYLIGHT
TZOFFSETFROM:+0100
TZOFFSETTO:+0200
TZNAME:CEST
DTSTART:20160327T010000
END:DAYLIGHT
BEGIN:STANDARD
TZOFFSETFROM:+0200
TZOFFSETTO:+0100
TZNAME:CET
DTSTART:20161030T010000
END:STANDARD
BEGIN:DAYLIGHT
TZOFFSETFROM:+0100
TZOFFSETTO:+0200
TZNAME:CEST
DTSTART:20170326T010000
END:DAYLIGHT
BEGIN:STANDARD
TZOFFSETFROM:+0200
TZOFFSETTO:+0100
TZNAME:CET
DTSTART:20171029T010000
END:STANDARD
BEGIN:DAYLIGHT
TZOFFSETFROM:+0100
TZOFFSETTO:+0200
TZNAME:CEST
DTSTART:20180325T010000
END:DAYLIGHT
BEGIN:STANDARD
TZOFFSETFROM:+0200
TZOFFSETTO:+0100
TZNAME:CET
DTSTART:20181028T010000
END:STANDARD
BEGIN:DAYLIGHT
TZOFFSETFROM:+0100
TZOFFSETTO:+0200
TZNAME:CEST
DTSTART:20190331T010000
END:DAYLIGHT
BEGIN:STANDARD
TZOFFSETFROM:+0200
TZOFFSETTO:+0100
TZNAME:CET
DTSTART:20191027T010000
END:STANDARD
END:VTIMEZONE
BEGIN:VEVENT
DTSTART;TZID=Europe/Rome:20180331T233000
DTEND;TZID=Europe/Rome:20180331T233000
DTSTAMP:20260421T154838
CREATED:20180219T094634Z
LAST-MODIFIED:20180219T094634Z
UID:16126-1522539000-1522539000@cassero.it
SUMMARY:Madonna Mia!
DESCRIPTION:  \nMADONNA MIA! \nCiccone all night long \n  \nDj: \nSergio Wow (Madonnamania @ ShwuZ\, Berlin) \n  \nPerformance: \nSpecial GUEST does Maddy \n  \nVideo Blob a cura di Effe \n  \nDress code: La Isla Bonita\, Erotica\, Material Girl\, Vogue… \n  \nIngresso gratuito con tessera Arcigay/Arcilesbica
URL:https://cassero.it/evento/madonna-mia-8/
CATEGORIES:Club,Slider – Clubbing
ATTACH;FMTTYPE=:
END:VEVENT
BEGIN:VEVENT
DTSTART;TZID=Europe/Rome:20171031T233000
DTEND;TZID=Europe/Rome:20171031T233000
DTSTAMP:20260421T154838
CREATED:20170919T093057Z
LAST-MODIFIED:20170919T093057Z
UID:15961-1509492600-1509492600@cassero.it
SUMMARY:HALLO…WIN\, PLAY OR DIE!
DESCRIPTION:Dj:\nGLORIA VIAGRA (Schwuz\, Berlin)\nCLAUDIA TUCCI \nPlay the Gender Games:\nVagina Fister\nLotta Nel Fango \nVJ: Q \nIngresso 7€ con tessera Arcigay/Arcilesbica\n\nIl nostro Halloween è spaventoso… il nostro #Halloween è #queer!\nSangue mestruale e fango maleodorante\, sono queste le prove da affrontare per sopravvivere e… vincere un free drink. \nIl nostro Hallo…win è anche musica di qualità. \nIn consolle salirà Gloria Viagra\, vera e propria icona della scena LGBTQ berlinese e non solo. Votata da Blu Magazine come una delle migliori dj nazionali insieme a leggende viventi come Sven Väth\, Miss Viagra vizia e delizia il proprio pubblico con un mix lussureggiante di hit pop\, brani dance intramontabili\, e qualche chicca vintage inaspettata. \nAd aprire la pista Claudia Tucci\, giovanissima dj nata a Dusseldorf e ora di stanza a Bologna\, dove propone i suoi set di hip hop e dance in numerosi locali. \n 
URL:https://cassero.it/evento/hallowin-play-or-die-2/
CATEGORIES:Club,Slider – Clubbing
ATTACH;FMTTYPE=:
END:VEVENT
BEGIN:VEVENT
DTSTART;TZID=Europe/Rome:20171014T233000
DTEND;TZID=Europe/Rome:20171014T233000
DTSTAMP:20260421T154838
CREATED:20170919T091659Z
LAST-MODIFIED:20170919T091659Z
UID:15953-1508023800-1508023800@cassero.it
SUMMARY:STARWOW
DESCRIPTION:Gli staff #WOW! e #Stargayte uniscono le loro forze per dare vita ad una nuova serata!\nPer un’incredibile #OPENINGPARTY dedicato alla sua #ORIGINE #STARWOW presenta:\nL’ORIGINE DELLA SPECIE\nL’evoluzione del sabato sera \nSHOW TIME\nKaya Mignonne\nDrag Calypso\nPanda Osiris \nGROUND FLOOR:\nMagda Aliena\nAlessandro Alfieri\nDiggei Chang \n#STARWOW DANCE CREW \nSECRET PRIVET\nHancock\nLe Valqueerie \nPICS & PHOTOCORNER\nLa Contessa PH \nDRESSCODE\nPreda-predatore\, pelo\, animali\, trogloditi\, istinti primordiali\, pokemon \nIngresso ridotto 7€ per liste\, vestiti a tema e studenti (con badge universitario da mostrare in cassa) ENTRO LE ORE 1.30 \nIntero 10 € \nLISTE  \nMICHELE FANTI\nMARTINA TONINELLI\nIRENE LOSI\nDANIELE \nLUCA \nTOMMY SQ\nTHOMAS CALZI\nKEVIN RAFFAELLI\nVALENTINA PASSUTTI\nVINCENZO TOMAIUOLI\nANGELO MIGLIACCIO\nTessera arcigay/arcilesbica required (INFO su www.cassero.it/tesseramento)
URL:https://cassero.it/evento/starwow-6/
CATEGORIES:Club
ATTACH;FMTTYPE=:
END:VEVENT
BEGIN:VEVENT
DTSTART;TZID=Europe/Rome:20170930T233000
DTEND;TZID=Europe/Rome:20170930T233000
DTSTAMP:20260421T154838
CREATED:20170912T085139Z
LAST-MODIFIED:20170912T085139Z
UID:15944-1506814200-1506814200@cassero.it
SUMMARY:Trash 4 Free - New Season
DESCRIPTION:L’astinenza da musica trash è una cosa seria.\nTra i sintomi più diffusi si registrano tentativi di ascoltare musica indie.\nNei casi più disperati c’è pure chi si avvicina a Mozart.\nLa lirica poi è considerata il punto di non ritorno.\nPer evitare tutto questo\, torna\, dopo la lunga pausa estiva\, Trash For Free\, il vero party per gli intenditori del trash. \nIn consolle gli inossidabili Ricchi & Prodigy\, accompagnati da miss Bagonga.\nTutto free\, tutto trash.
URL:https://cassero.it/evento/trash-4-free-new-season-2/
CATEGORIES:Club,Slider – Clubbing
ATTACH;FMTTYPE=:
END:VEVENT
BEGIN:VEVENT
DTSTART;TZID=Europe/Rome:20170929T233000
DTEND;TZID=Europe/Rome:20170929T233000
DTSTAMP:20260421T154838
CREATED:20170912T085644Z
LAST-MODIFIED:20170912T085644Z
UID:15945-1506727800-1506727800@cassero.it
SUMMARY:Surprise Party - We Are Golden
DESCRIPTION:GREAT OPENING\nINAUGURAZIONE\nSTAGIONE 2017/18 \nSURPRISE PARTY\npresents:\n“WE ARE GOLDEN” \nA new era of clubbing.\n\nMR. ROGER\nFABIANA\nJENNIFER VOICE\nLA NAOMI\nTEKLA\n& MANY MORE.. \nANIMAZIONE GOLD\nSUPER SHOW\nSPECIAL EFFECTS\nSECRET PRIVEÉ \n#WeAreCassero\n#WeAreGolden \nFoto: Federica Pancaldi \nInfo LISTE: 328 8811549\no dal tuo pr di fiducia! \nINGRESSO IN LISTA ENTRO l’1:30\n€ 7 con tessera Arcigay – Arcilesbica
URL:https://cassero.it/evento/surprise-party-we-are-golden-2/
CATEGORIES:Club,Slider – Clubbing
ATTACH;FMTTYPE=:
END:VEVENT
BEGIN:VEVENT
DTSTART;TZID=Europe/Rome:20170701T223000
DTEND;TZID=Europe/Rome:20170701T223000
DTSTAMP:20260421T154838
CREATED:20170606T110159Z
LAST-MODIFIED:20170606T110159Z
UID:15871-1498948200-1498948200@cassero.it
SUMMARY:RAY OF PRIDE - OFFICIAL PARTY BOLOGNA PRIDE 2017
DESCRIPTION:Sfavillanti luci arcobaleno\, pop star con poteri laser nascosti in parti del corpo insospettabili\, go-go boys e go-go girls\, angoli di paradiso lesbico\, e poi musica trash\, sonorità dance commerciali\, revival italiano e un pizzico di evergreen pop-rock. Ray Of Pride non poteva che rispecchiare la natura inclusiva\, festosa e scintillante di ogni Pride che si rispetti… “and I feel like I just got hoooome!” \nDirettamente dalla luminosissima stagione del #Cassero una line-up accecante con: \nRicchi e Prodigy (Trash for Free)\nMR BRENNO THE WEBCAT (In Nome Del Pop Italiano)\nMario Vox (I Love Rock & Roll • Bologna)\nMagda Aliena (Stargayte)\nProud Boys and Girls (animazione e gogo dancer by Surprise Party) \n::: LASER AND LIGHTS SHOW ::: \nDRAMATIC TOILETTE by PUSSY GALORE con MC NILL e Dj CHANG \nVisual Q\nGrafiche Federica Perazzoli \nINGRESSO 10 EURO
URL:https://cassero.it/evento/ray-of-pride-official-party-bologna-pride-2017-2/
CATEGORIES:Cultura
ATTACH;FMTTYPE=:
END:VEVENT
END:VCALENDAR