BEGIN:VCALENDAR
VERSION:2.0
PRODID:-//Cassero - ECPv6.15.20//NONSGML v1.0//EN
CALSCALE:GREGORIAN
METHOD:PUBLISH
X-WR-CALNAME:Cassero
X-ORIGINAL-URL:https://cassero.it
X-WR-CALDESC:Eventi per Cassero
REFRESH-INTERVAL;VALUE=DURATION:PT1H
X-Robots-Tag:noindex
X-PUBLISHED-TTL:PT1H
BEGIN:VTIMEZONE
TZID:Europe/Rome
BEGIN:DAYLIGHT
TZOFFSETFROM:+0100
TZOFFSETTO:+0200
TZNAME:CEST
DTSTART:20160327T010000
END:DAYLIGHT
BEGIN:STANDARD
TZOFFSETFROM:+0200
TZOFFSETTO:+0100
TZNAME:CET
DTSTART:20161030T010000
END:STANDARD
BEGIN:DAYLIGHT
TZOFFSETFROM:+0100
TZOFFSETTO:+0200
TZNAME:CEST
DTSTART:20170326T010000
END:DAYLIGHT
BEGIN:STANDARD
TZOFFSETFROM:+0200
TZOFFSETTO:+0100
TZNAME:CET
DTSTART:20171029T010000
END:STANDARD
BEGIN:DAYLIGHT
TZOFFSETFROM:+0100
TZOFFSETTO:+0200
TZNAME:CEST
DTSTART:20180325T010000
END:DAYLIGHT
BEGIN:STANDARD
TZOFFSETFROM:+0200
TZOFFSETTO:+0100
TZNAME:CET
DTSTART:20181028T010000
END:STANDARD
END:VTIMEZONE
BEGIN:VEVENT
DTSTART;TZID=Europe/Rome:20171104T233000
DTEND;TZID=Europe/Rome:20171104T233000
DTSTAMP:20260419T180034
CREATED:20171017T085255Z
LAST-MODIFIED:20171017T085255Z
UID:15988-1509838200-1509838200@cassero.it
SUMMARY:Pussy Galore - Pussy goes BENDER
DESCRIPTION:👠PUSSY GALORE👠\nGoes Bender\nHai invitato ogni volta una tipa diversa ad ogni proiezione/spettacolo del Gender Bender International Festival per pomiciartela alla prima occasione ma niente\, la tua voglia di disagio è implacabile.\nE dove c’è voglia\, c’è Pussy Galore\, che per l’occasione sarà il Closing Party del del Gender Bender International Festival.\nSi\, proprio così.\nIl Cassero LGBT center si prepara ad essere scenario di catfight (che finiscono in pomiciate) e pomiciate (che finiscono in catfight che finiscono in pomiciate).\nA stendere il tappeto rosso al disagio ci sarà Mc Nill (Pussy Galore – Chi dice lesbica dice dramma.) seguita dalle nostre 3 matte preferite: Milla\, Rrose e T (Strulle).\nIl Poiana Privè non può mancare e non può mancare neanche Diggei Chang (Pussy Galore – Dramma Family) e il suo diggeiset tra un cicchetto e l’altro.\nOspiti speciali\, che animeranno il Cassero e si uniranno alla follia collettiva: Kollettivo Drag King!\nTi aspettiamo\, miao. \n👠MAIN STAGE👠\nMc Nill\nMilla\nT from Strulle\nRrose \n👠SPECIAL GENDER BENDER PERFORMANCE👠\nKOLLETTIVO DRAG KING\nhttps://www.kollettivodragking.it/kdk-bio/ \n👠POIANA PRIVE’👠\nDiggei Chang \n👠PHOTO👠\nSweeney Naty \nINGRESSO\n7 Euro in lista\n-> Per metterti in lista scrivi “Tuo nome + Numero amiche (anche immaginarie)” sulla bacheca dell’evento o al 3920588788.\n10 Euro intero \nTessera Arcigay/Arcilesbica required.\n(Puoi farla direttamente sul posto) \nTutta la comunità Lgbtqi e i nostri amici friendly sono i benvenuti!\nC’è solo una regola: maschilismo\, misoginia e omotransbifobia restano fuori. \nSi ringrazia il Cassero LGBT center.
URL:https://cassero.it/evento/pussy-galore-pussy-goes-bender-2/
CATEGORIES:Club,Slider – Clubbing
ATTACH;FMTTYPE=:
END:VEVENT
END:VCALENDAR